{"text_format":"1","workbook":"xlsx","n_sheets":36,"sheets":["Profil_Investisseur","Feuil1","Bilan Fin 2019","Feuille tableau pour liste","Bilan 2020","Bilan 2021","Bilan 2022","Bilan 2023","2023 Chômage","Bilan 2024","Bilan 2025","Bilan 2026","Bilan 2027","Bilan 2028","Bilan 2029","Bilan 2030","Graphiques","Graphiques Actifs","Graphique Fonds propres","Hypothèses exogènes","Parametres Tout Les Biens","Feuille de calcul_ammor","Tableau d'amortissement A","Tableau d'amortissement B","Tableau d'amortissement C","Impôts revenus","Recup_BienImmobilier","Impot_Tranches","Impots_Tranches","Niveau_AppetenceRisque","Plus-value immobilière","ImmobilierFeuille1","ImmobilierFeuille2","ImmobilierFeuille3","ImpotFeuille2","ListeFeuil1"],"not_rendered":{"charts":14,"images":0,"macros":0,"external_links":6,"defined_names":222,"comments":1,"pivot_tables":0},"unopened":[],"bounds":{"document_bytes":16777216,"sheet_cells":100000,"rows_first":2000,"rows_last":500,"rows_between":2000,"halvings":0,"cell_chars":16384,"cell_head_chars":4096},"cells_cut":0,"cells_raw":0,"read":"whole","date_system":"1900"}

{"sheet":"Profil_Investisseur","index":0,"n_rows":139,"n_cols":10,"rows_kept":139,"cut":false,"hidden":false,"merged":[[0,14,18,28],[0,0,0,13],[1,10,1,13]]}
[]
[]
[{"$f":"TODAY()","v":"2019-03-29"}]
["I. Présentation"]
[]
["Nom complet","André KAMBA"]
["Date de naissance:"]
["Situation familiale","Célibataire-Divorcé-Veuf",{"$f":"IF(B8=\"Marié-Pacsé\",5,3)","v":3}]
[]
["Nombre d'enfants à charge",0,{"$f":"IF(B10=0,6,IF(B10=1,5,IF(B10=2,4,IF(B10=3,3,IF(B10=4,2,1)))))","v":6}]
["Revenu net par an",40000]
["Revenu net par an  conjoint(e)",0]
[]
["Quel objectif poursuivez-vous (a,b,c) :","c","précisez le montant : ",20000]
["a) Je souhaite acquérir une résidence principale "]
["b) Je souhaite compléter mes revenus dès maintenant"]
["c) Je souhaite mettre de l’argent de côté sans objectif ou échéance précis"]
["b) Je souhaite préparer ma retraite"]
["c) Je souhaite constituer une épargne de précaution / financer un projet"]
[]
[]
[]
["En considérant qu’une épargne est placée sur ces trois supports pendant deux ans, indiquez le niveau de risque de chacun des supports :"]
[]
["Assurance vie :","Risqué",{"$f":"IF(B25=\"Très risqué\",1,IF(B25=\"Risqué\",3,6))","v":3}]
["Obligations:","Très risqué",{"$f":"IF(B26=\"Très risqué\",3,IF(B26=\"Risqué\",6,9))","v":3}]
["Actions:","Peu risqué",{"$f":"IF(B27=\"Très risqué\",2,IF(B27=\"Risqué\",4,6))","v":6}]
[]
[]
["Pour vos placements financiers, vous souhaitez a,b,c ou d) :",null,"d",{"$f":"IF(C30=\"a\",1,IF(C30=\"b\",3,IF(C30=\"c\",5,7)))","v":7}]
["a) Ne pas prendre de risque et placer toutes vos économies sur des placements sûrs."]
["b) Placer une petite partie de vos économies sur des placements risqués."]
["c) Placer une part important de vos économies sur des actifs risqués si le gain est potentiel."]
["d) Placer l'essentiel de vos économies sur des actifs risqués si les gains potentiels sont très importants. "]
[]
["Parmi les 3 types de placements ci-dessous, lequel choisiriez-vous (a,b ou c) : ",null,"c",{"$f":"IF(C36=\"a\",2,IF(C36=\"b\",4,6))","v":6}]
["a)  Préserver le capital et obtenir des performances proches de celles des investissements sécurisés. "]
["b) Investir une partie de votre capital sur des supports plus risqués pour un potentiel de performance plus élevé."]
["c) Investir une partie significative de votre capital sur des supports risqués pour recherche une très bonne performance"]
[]
["Compte tenu des fluctuations d'un placement risqué, combien de temps seriez-vous disposé à attendre pour retrouver votre investissement : ",null,null,"Plus de 5 ans",{"$f":"IF(D41=\"Plus de 5 ans\",6,IF(D41=\"1 an\",2,4))","v":6}]
[]
["TOTAL",{"$f":"C8+C10+C25+C26+C27+D30+D36+E41","v":40}]
["Votre profil est :",{"$f":"IF(B43<=26,\"Prudent\",IF(B43<=40,\"Standard\",\"Risqué\"))","v":"Standard"}]
[]
["Prudent (0-26)  Standard (26- 40)   Risqué (40-51)"]
[]
[]
["De manière générale, vous considérez-vous plutôt :","Econome"]
[]
[]
[]
[]
["II. État financier"]
[]
["Salaires, Autres revenus (exceptées rentes immobilières)",null,null,"Dépenses"]
["Type","Mensualité €",null,"Type","Profil","Mensualités €"]
["Salaire mensuelle net",{"$f":"B11/12","v":3333.3333333333335},"RNI/12","Loisirs","Econome",{"$f":"IF(E58=\"Econome\",B58*0.05,IF(E58=\"Standard\",B58*0.1,B58*0.2))","v":166.66666666666669}]
["Autres revenus (exceptées rentes immobilières)",0,null,"Vêtements","Standard",{"$f":"IF(E59=\"Econome\",B58*0.05,IF(E59=\"Standard\",B58*0.1,B58*0.2))","v":333.33333333333337}]
["Prime d'intéressement et de participation",50,null,"Transports","Standard",{"$f":"IF(E60=\"Econome\",B58*0.05,IF(E60=\"Standard\",B58*0.1,B58*0.2))","v":333.33333333333337}]
[null,null,null,"Pension alimentaire",null,144]
["Total:",{"$f":"SUM(B58:B60)","v":3383.3333333333335}]
[null,null,null,null,"Total:",{"$f":"SUM(F58+F59+F60+F61)","v":977.33333333333348}]
[]
["Assurance vie",null,null,"Don(s) / Bourse(s) / Aide(s) / Allocation(s) / Pension(s)"]
["Rang ","Montant €",null,"Type","Mensualités €"]
["Assurance vie Fonds euros",5000,null,"Bourse(s)",0]
["Assurance vie Unités de compte",0,null,"Don(s)",0]
[null,null,null,"Pension(s)",0]
[null,null,null,"Allocation(s)",0]
["Total:",{"$f":"SUM(B67:B70)","v":5000}]
[null,null,null,"Total:",{"$f":"SUM(E66:E71)","v":0}]
[]
[]
[]
[null,"Solde € "]
["PEE",{"$f":"500","v":500},null,"Plan Retraites"]
["PERCO",{"$f":"600","v":600},null,"Rang ","Solde €"]
["PEL",{"$f":"300","v":300},null,"Plan retraites 1",{"$f":"200","v":200}]
["LIVRET A",{"$f":"1000","v":1000},null,"Plan retraites 2",0]
["LDD",{"$f":"400","v":400},null,"Total:",{"$f":"SUM(E79:E80)","v":200}]
["CEL",{"$f":"500","v":500}]
["Compte(s) courant(s)",{"$f":"1000","v":1000}]
[]
[]
["Autres propriétés ( Automobile, Collection, Lingots etc..)"]
["Type","Valeure Marchande € ",null,"Actifs financiers"]
["Véhicule",7500,null,"PEA",3500]
["Collection",300,null,"Compte-titre",3500]
["Lingots",0]
[]
["Total:",{"$f":"SUM(B87:B91)","v":7800}]
[]
[null,null,null,"Prêts, Dettes"]
[null,null,null,"Type","Mensualités € ","Solde dû €"]
["Autres dettes",null,null,"Dettes fiscales",0]
["Montant total de la dette",1000,null,"Prêt étudiant",0,0]
["Taux d'intérêt annuel",5.0000000000000001E-3,null,null,null,0]
["Date de début de la dette","2017-01-01"]
["Nombre de versements par an",12,null,"Total:",{"$f":"SUM(E96+E97+E98)","v":0},{"$f":"SUM(F95:F99)","v":0}]
["Durée de remboursement (en année)",1]
[]
[]
["III. Immobilier"]
[]
[null,"POSSESION D'UN BIEN IMMOBILIER (Cas Propriétaire)"]
[]
["Rang","Montant du prêt € ","Date de début de l'emprunt","Taux d'intérêt annuel","Durée du prêt en années","Apport personnel ","Valeure marchande du bien €","Taux d'assurance %","Assurance habitation/an €","Taxe d'habitation/an €"]
["Principale",170000,"2017-10-01",1.7000000000000001E-2,20,4000,180000,2E-3,300,881]
[]
[null,null,null,null,"Total:",{"$f":"F109","v":4000},{"$f":"G109","v":180000}]
[]
["Notaire (en une fois) € ","Travaux (en une fois) €","Meublé (en une fois) €","Charges totales/mois","Durée de détention avant cession (en années)"]
[15175,6000,10000,50,20]
[]
["Régime Fiscal","Déficit foncier réel","Votre bien est-il un Pinel ?","Neuf Pinel 6 ans"]
[]
[]
[]
[null,"LOCATION D'UN BIEN IMMOBILIER POSSÉDÉ (Cas Propriétaire investissement locatif)"]
[]
["Valeure marchande € ","Rentes immobilières/mois € ","Vacance location (en nombre de mois) € ","Charges totales €/mois","Assurance habitation/an €","Taxe foncière/an €",null,null,null,"Taux d'assurance %"]
[170000,900,0,50,320,656,null,"Durée du prêt en années",null,2E-3]
[null,null,null,null,null,null,"Taux d'intérêt annuel",20,"Versements facultatifs € "]
[null,null,null,"Rang","Montant du prêt € ","Date de début de l'emprunt",1.4999999999999999E-2,null,0]
["Travaux d'entretien et de réparation/an €","Assurance loyers impayés/an €","Divers/an €","Secondaire",200000,"2010-10-01",null,"Total:"]
[5000,600,0,null,null,null,null,null,{"$f":"I125","v":0}]
[]
[]
[]
[]
["Cas locataire"]
[null,"Mensualités € ",null,"Objectif atteint en :"]
["Loyer + charges",0,null,{"$f":"SUM('Graphique Fonds propres'!Q6:Q16)+1","v":10}]
["Taxe d'habitation €/mois",0,null,"Années"]
[]
[]
[]
[null,null,null,{"$f":"SUM(D135:D137)","v":0},{"$f":"SUM(E135:E137)","v":0}]

{"sheet":"Feuil1","index":1,"n_rows":4,"n_cols":1,"rows_kept":4,"cut":false,"hidden":true,"merged":[]}
["Liste_Depense"]
["Econome"]
["Standard"]
["Dépensier"]

{"sheet":"Bilan Fin 2019","index":2,"n_rows":164,"n_cols":24,"rows_kept":164,"cut":false,"hidden":false,"merged":[[118,5,118,6],[45,1,46,4],[40,0,40,1],[16,5,16,6],[38,5,38,6],[5,5,5,6],[1,2,1,3],[3,0,3,1],[3,5,3,6],[12,5,12,6]]}
[]
[null,null,"Bilan Actif Passif",null,"Date:",{"$f":"H2","v":"2019-03-29"},null,{"$f":"Profil_Investisseur!A3","v":"2019-03-29"}]
[]
["Actif",null,null,null,null,"Passif"]
["Actif liquide"]
["Compte(s) courant(s)",null,null,null,null,"Fonds propres"]
[null,"Compte(s) courant(s)",null,{"$f":"Profil_Investisseur!B83","v":1000},null,"Fonds propres liquide",null,null,{"$f":"D25-SUM(I13:I22)","v":-267135.46620875655}]
[null,null,"Total compte(s) courant(s)",{"$f":"D7","v":1000},null,"Fonds propres semi-liquide",null,null,{"$f":"D31","v":357800},null,null,null,null,null,null,null,null,null,null,null,null,null,null,"Titres financiers augmentent de 10%"]
["Epargnes classiques",null,null,null,null,"Fonds propres non-liquide",null,null,{"$f":"D35","v":800}]
[null,"Livret A",null,{"$f":"Profil_Investisseur!B80","v":1000},null,"Total Fonds propres",null,null,{"$f":"SUM(I7:I9)","v":91464.533791243448},null,{"$f":"D41-SUM(I13:I22)","v":91464.533791243448}]
[null,"PEL",null,{"$f":"Profil_Investisseur!B79","v":300},null,null,null,null,null,null,null,null,null,null,null,null,null,null,null,null,null,null,null,"Assurance vie de 1,5"]
[null,"CEL",null,{"$f":"Profil_Investisseur!B82","v":500}]
[null,"LDD",null,{"$f":"Profil_Investisseur!B81","v":400},null,"Capital restant dû crédit résidence principale",null,null,{"$f":"VLOOKUP(F2,Tableau1[#All],2,1)","v":159765.69609829717},null,null,null,null,null,null,null,null,null,null,null,null,null,null,"Plan retraite de 1%"]
[null,"Assurance  vie Fonds euros",null,{"$f":"Profil_Investisseur!B67","v":5000}]
[null,"Assurance vie Unités de compte",null,{"$f":"Profil_Investisseur!B68","v":0}]
[null,null,"Total épargnes classiques",{"$f":"SUM(D10:D14)","v":7200}]
["Actifs financiers",null,null,null,null,"Capital restant dû crédit investissement immo locatif",null,null,{"$f":"VLOOKUP(F2,Tableau17[#All],2,1)","v":123069.77011045939}]
[null,"PEA",null,{"$f":"Profil_Investisseur!E88","v":3500}]
[null,"Compte-titres",null,{"$f":"Profil_Investisseur!E89","v":3500},null,"Capital restant dû autres prêts / dettes…",null,null,{"$f":"Profil_Investisseur!F100","v":0}]
[null,null,"Total actifs financiers",{"$f":"SUM(D18,D19)","v":7000},null,null,null,null,null,null,null,null,null,{"$f":"SUM(K10,I13,I17)","v":374300}]
["Epargnes salariales"]
[null,"PEE",null,{"$f":"Profil_Investisseur!B77","v":500},null,"Dettes fiscales",null,null,{"$f":"Profil_Investisseur!F96","v":0}]
[null,null,"Total épargnes salariales",{"$f":"D22","v":500}]
[]
[null,null,"Total Actif liquide",{"$f":"SUM(D8,D16,D20,D23)","v":15700}]
["Actif non-liquide"]
["Biens"]
[null,"Résidence principale (valeur marchande)",null,{"$f":"Profil_Investisseur!G109","v":180000}]
[null,"Investissement immobilier (valeur marchande)",null,{"$f":"Profil_Investisseur!A123","v":170000}]
[null,"Autres propriétés (valeur)",null,{"$f":"Profil_Investisseur!B92","v":7800}]
[null,null,"Total biens",{"$f":"SUM(D28,D29,D30)","v":357800}]
["Retraites"]
[null,"Plan Retraites (PERP)",null,{"$f":"Profil_Investisseur!E81","v":200}]
[null,"PERCO",null,{"$f":"Profil_Investisseur!B78","v":600}]
[null,null,"Total Retraites",{"$f":"SUM(D33,D34)","v":800}]
[]
[null,null,"Total Actif non-liquide",{"$f":"SUM(D31,D35)","v":358600}]
[]
[null,null,null,null,null,"Total Passif",null,null,{"$f":"SUM(I10:I23)","v":374300}]
[]
["Total Actifs",null,null,{"$f":"SUM(D37+D25)","v":374300}]
[]
[]
[]
[]
[null,"Compte de Résultat"]
[]
[null,"RESSOURCES",null,{"$f":"F2","v":"2019-03-29"},{"$f":"F115","v":"2020-01-01"}]
[null,null,"Salaire",{"$f":"Profil_Investisseur!B58*12/365*H57","v":30465.753424657534}]
[null,null,"Rentes immobilières",{"$f":"Profil_Investisseur!B123*12/365*'Bilan Fin 2019'!H57","v":8225.7534246575342}]
[null,null,"Prime d'intéressement et de participation",{"$f":"Profil_Investisseur!B60*12/365*H57","v":456.98630136986299}]
[null,null,"Don(s) / Bourse(s) / Aide(s) / Allocation(s) / Pension(s)",{"$f":"(Profil_Investisseur!E72)*12/365*H57","v":0}]
[null,null,"Plus-value PEA",{"$f":"D18*'Hypothèses exogènes'!D14/100/365*$H$57","v":66.643835616438352}]
[null,null,"Plus-value des comptes-titres",{"$f":"D19*'Hypothèses exogènes'!D15/100/365*H57","v":186.60273972602741}]
[null,null,"Plus-value des autres propiétés",{"$f":"D30*'Hypothèses exogènes'!D16/100/365*H57","v":0}]
[null,null,"Plus-value du PEE",{"$f":"D22*'Hypothèses exogènes'!D17/100/365*H57","v":5.712328767123287}]
[null,null,"Plus-value du PERCO",{"$f":"D34*'Hypothèses exogènes'!D18/100/365*H57","v":6.8547945205479452},null,null,"nombre de jours restants en 2019:",{"$f":"(H115-H2)","v":278}]
[null,null,"Plus-value de Livret A",{"$f":"D10*'Hypothèses exogènes'!D19/100/365*H57","v":5.712328767123287}]
[null,null,"Plus-value du PEL",{"$f":"D11*'Hypothèses exogènes'!D20/100/365*H57","v":2.2849315068493148}]
[null,null,"Plus-value du CEL",{"$f":"D12*'Hypothèses exogènes'!D21/100/365*H57","v":1.9041095890410957}]
[null,null,"Plus-value du LDD",{"$f":"D13*'Hypothèses exogènes'!D22/100/365*H57","v":2.2849315068493148}]
[null,null,"Plus-value de l'assurance-vie Fonds€",{"$f":"D14*'Hypothèses exogènes'!D23/100/365*H57","v":76.164383561643831}]
[null,null,"Plus-value de l'assurance-vie UC",{"$f":"D15*'Hypothèses exogènes'!D24/100/365*H57","v":0}]
[null,null,"Plus-value du plan retraites PERP",{"$f":"D33*'Hypothèses exogènes'!D25/100/365*H57","v":2.437260273972603}]
[null,null,"Plus-value résidence principale",{"$f":"D28*'Hypothèses exogènes'!D26/100/365*H57","v":1370.9589041095892}]
[null,null,"Plus-value du bien investissement locatif",{"$f":"D29*'Hypothèses exogènes'!D27/100/365*H57","v":1294.7945205479452}]
[null,null,"Autres revenus",{"$f":"Profil_Investisseur!B59*12/365*H57","v":0}]
[null,"Total des ressources ",null,{"$f":"SUM(D49:D67)","v":42170.848219178086}]
[]
[null,null,null,"[42]"]
[null,"CHARGES"]
[null,null,"Assurance habitation",{"$f":"(Profil_Investisseur!I109+Profil_Investisseur!E123)/365*$H$57","v":472.21917808219177}]
[null,null,"Autre(s) assurance(s)",{"$f":"Profil_Investisseur!B127/365*$H$57","v":456.98630136986299}]
[null,"Total assurances",null,{"$f":"D72+D73","v":929.20547945205476}]
[null,null,"Intérêts crédit A (résidence principale)",{"$f":"'Feuille de calcul_ammor'!W6","v":2224.3303406750019}]
[null,null,"Ammortissement crédit A (résidence principale)",{"$f":"'Feuille de calcul_ammor'!W10","v":6136.2428296219314}]
[null,null,"Intérêts crédit B (Investissement locatif)",{"$f":"'Feuille de calcul_ammor'!X6","v":1492.5866678010862}]
[null,null,"Amortissement crédit B (investissement locatif)",{"$f":"'Feuille de calcul_ammor'!X10","v":8158.3215098379587}]
[null,null,"Intérêts autres dettes",{"$f":"0","v":0}]
[null,null,"Ammortissement autres dettes",{"$f":"0","v":0}]
[null,"Total des remboursements",null,{"$f":"SUM(D75:D80)","v":18011.48134793598}]
[null,null,"Loyer + charges",{"$f":"Profil_Investisseur!B134*12/365*$H$57","v":0}]
[null,null,"Transport, Alimentation, Pension Alimentaire,Loisirs",{"$f":"Profil_Investisseur!F63*12/365*$H$57","v":8932.55890410959}]
[null,null,"Charges totales (propriétaire investissement locatif)",{"$f":"Profil_Investisseur!D123*12/365*$H$57","v":456.98630136986299}]
[null,null,"Charges totales (propriétaire principal)",{"$f":"Profil_Investisseur!D114*12/365*$H$57","v":456.98630136986299}]
[null,"Total dépenses personnelles",null,{"$f":"SUM(D82:D85)","v":9846.5315068493164}]
[null,null,"Impôts sur le revenu",{"$f":"'Impôts revenus'!E6/365*H57","v":2717.4326926282415}]
[null,null,"Impôts sur le foncier",{"$f":"'Impôts revenus'!F6/365*H57","v":2386.2280624912555}]
[null,null,"Taxe d'habitation",{"$f":"Profil_Investisseur!J109/365*$H$57+Profil_Investisseur!B135*12/365*$H$57","v":671.00821917808219}]
[null,null,"Fiscalité sur la plus-value du PEA",{"$f":"D53*'Hypothèses exogènes'!D43/100","v":11.462739726027396}]
[null,null,"Fiscalité sur la plus-value des comptes-titres",{"$f":"D54*'Hypothèses exogènes'!D44/100","v":55.980821917808228}]
[null,null,"Fiscalité sur la plus-value des autres propiétés",{"$f":"D55*'Hypothèses exogènes'!D45/100","v":0}]
[null,null,"Fiscalité sur la plus-value du PEE",{"$f":"D56*'Hypothèses exogènes'!D46/100","v":0.98252054794520527}]
[null,null,"Fiscalité sur la plus-value du PERCO",{"$f":"D57*'Hypothèses exogènes'!D47/100","v":1.1790246575342465}]
[null,null,"Fiscalité sur la plus-value de Livret A",{"$f":"D58*'Hypothèses exogènes'!D48/100","v":0}]
[null,null,"Fiscalité sur la plus-value du PEL",{"$f":"D59*'Hypothèses exogènes'!D49/100","v":0.68547945205479432}]
[null,null,"Fiscalité sur la plus-value du CEL",{"$f":"D60*'Hypothèses exogènes'!D50/100","v":0.32750684931506846}]
[null,null,"Fiscalité sur la plus-value du LDD",{"$f":"D61*'Hypothèses exogènes'!D51/100","v":0}]
[null,null,"Fiscalité sur la plus-value de l'assurance-vie Fonds€",{"$f":"D62*'Hypothèses exogènes'!D52/100","v":13.100273972602738}]
[null,null,"Fiscalité sur la plus-value de l'assurance-vie UC",{"$f":"D63*'Hypothèses exogènes'!D53/100","v":0}]
[null,null,"Fiscalité sur la plus-value du plan retraites PERP",{"$f":"D64*'Hypothèses exogènes'!D54/100","v":0.4192087671232877}]
[null,null,"Fiscalité sur la plus-value de la résidence principale",{"$f":"D65*'Hypothèses exogènes'!D55/100","v":0}]
[null,null,"Fiscalité sur la plus-value du bien investissement locatif",{"$f":"D66*'Hypothèses exogènes'!D56/100","v":0}]
[null,"Total fiscalité",null,{"$f":"SUM(D87:D103)","v":5858.8065501879919}]
[null,null,"Dépenses exceptionnelles",{"$f":"D49*'Hypothèses exogènes'!D57/100","v":1827.9452054794519},null,null,"Pour vérifier"]
[null,"Total des charges ",null,{"$f":"SUM(D74,D81,D86,D104,D105)","v":36473.970089904797},null,null,"Somme ammortissements + résultat net",null,{"$f":"D76+D78+D80+D108","v":19991.442468733178}]
[]
[null,"Résultat Net Comptable",null,{"$f":"D68-D106","v":5696.8781292732892},null,null,"Différence fonds propres",null,{"$f":"I123-I10","v":19991.442468733148}]
[]
[null,null,null,null,null,null,"Différence Actifs",null,{"$f":"D154-D41","v":5696.8781292732456}]
[]
[]
[]
[]
[null,null,"Bilan Actif Passif",null,"Date:","2020-01-01",null,{"$f":"DATE(2020,1,1)","v":"2020-01-01"}]
[]
["Actif",null,null,null,null,"Passif"]
["Actif liquide"]
["Compte(s) courant(s)",null,null,null,null,"Fonds propres"]
[null,"Compte(s) courant(s)",null,{"$f":"F162","v":1000},null,"Fonds propres liquide",null,null,{"$f":"D138-SUM(I126:I134)","v":-249819.06921947544}]
[null,null,"Total compte(s) courant(s)",{"$f":"D120","v":1000},null,"Fonds propres semi-liquide",null,null,{"$f":"D144","v":360465.75342465751}]
["Epargnes classiques",null,null,null,null,"Fonds propres non-liquide",null,null,{"$f":"D148","v":809.29205479452048}]
[null,"Livret A",null,{"$f":"D10+D58","v":1005.7123287671233},null,"Total Fonds propres",null,null,{"$f":"SUM(I120:I122)","v":111455.9762599766}]
[null,"PEL",null,{"$f":"D11+D59","v":302.28493150684932}]
[null,"CEL",null,{"$f":"D12+D60","v":501.90410958904107}]
[null,"LDD",null,{"$f":"D13+D61","v":402.28493150684932},null,"Capital restant dû crédit résidence principale",null,null,{"$f":"I13-D76","v":153629.45326867522}]
[null,"Assurance  vie Fonds euros",null,{"$f":"D14+D62+F163","v":6184.9327632667801}]
[null,"Assurance vie Unités de compte",null,{"$f":"D15+D63+F164","v":1108.7683797051359}]
[null,null,"Total épargnes classiques",{"$f":"SUM(D123:D128)","v":9505.887444341779}]
["Actifs financiers",null,null,null,null,"Capital restant dû crédit investissement immo locatif",null,null,{"$f":"I17-D78","v":114911.44860062143}]
[null,"PEA",null,{"$f":"D18+D53","v":3566.6438356164385}]
[null,"Compte-titres",null,{"$f":"D19+D54","v":3686.6027397260273},null,"Capital restant dû autres prêts / dettes…",null,null,{"$f":"0","v":0}]
[null,null,"Total actifs financiers",{"$f":"SUM(D131,D132)","v":7253.2465753424658}]
["Epargnes salariales",null,null,null,null,"Dettes fiscales",null,null,{"$f":"Profil_Investisseur!F173","v":0}]
[null,"PEE",null,{"$f":"D22+D56+D51","v":962.69863013698625},null,"Résultat net comptable",null,null,{"$f":"D108","v":5696.8781292732892}]
[null,null,"Total épargnes salariales",{"$f":"D135","v":962.69863013698625}]
[]
[null,null,"Total Actif liquide",{"$f":"SUM(D121,D129,D133,D136)","v":18721.83264982123}]
["Actif non-liquide"]
["Biens"]
[null,"Résidence principale (valeur marchande)",null,{"$f":"D28+D65","v":181370.95890410958}]
[null,"Investissement immobilier (valeur marchande)",null,{"$f":"D29+D66","v":171294.79452054793}]
[null,"Autres propriétés (valeur)",null,{"$f":"D30+D55","v":7800}]
[null,null,"Total biens",{"$f":"SUM(D141,D142,D143)","v":360465.75342465751}]
["Retraites"]
[null,"Plan Retraites (PERP)",null,{"$f":"D33+D64","v":202.43726027397261},null,"Total Passif",null,null,{"$f":"SUM(I123:I134)","v":379996.87812927325}]
[null,"PERCO",null,{"$f":"D34+D57","v":606.8547945205479}]
[null,null,"Total Retraites",{"$f":"SUM(D146,D147)","v":809.29205479452048}]
[]
[null,null,"Total Actif non-liquide",{"$f":"SUM(D144,D148)","v":361275.045479452}]
[]
[]
[]
["Total Actifs",null,null,{"$f":"SUM(D150+D138)","v":379996.87812927325}]
[]
[]
[]
[]
[]
[]
[null,null,null,null,"\"compte courant intermédiaire\"",{"$f":"D7+D49+D50+D52+D67-D106","v":3217.5367594102718}]
[null,null,null,null,"compte-courant final",{"$f":"MIN(1000,F161)","v":1000}]
[null,null,null,null,"Va dans Assurance-Vie Fonds euros",{"$f":"(F161-F162)*(1-'Hypothèses exogènes'!C3)","v":1108.7683797051359}]
[null,null,null,null,"Va dans Assurance-Vie Unités de compte",{"$f":"(F161-F162)*'Hypothèses exogènes'!C3","v":1108.7683797051359}]

{"sheet":"Feuille tableau pour liste","index":3,"n_rows":56,"n_cols":28,"rows_kept":56,"cut":false,"hidden":true,"merged":[]}
[]
[null,null,0,null,null,null,null,null,null,null,null,null,null,null,null,null,null,null,null,null,null,null,null,null,null,null,"Colonne1","Colonne2"]
[null,null,null,null,null,null,null,null,null,null,null,null,null,null,null,null,null,null,null,null,null,null,null,null,null,null,"50k-60k",-3583.333333333328]
[null,null,null,null,null,null,null,null,null,null,null,null,null,null,null,null,null,null,null,null,null,null,null,null,null,null,"60k-10k",-166.66666666666512]
[null,"Taux imposition",null,"Type emprunt",null,"Type de bien",null,"Etat du bien","Colonne1",null,"Régime fiscal",null,"Nbr de parts",null,"Nbr enfants",null,"Durée emprunt",null,"Durée","% abattement","Colonne1",null,null,"Durée","Colonne2",null,"100k-110k",-12083.333333333325]
[null,0,null,"Amortissable",null,"Appartement",null,"Ancien",null,null,"Déficit foncier réel",null,1,null,0,null,1,null,0,0,0,null,null,0,0,null,"110k-150k",-249.99999999999767]
[null,0.14000000000000001,null,"In fine",null,"Maison",null,"Neuf","Vide",null,"Micro-foncier",null,1.25,null,1,null,2,null,1,0,0,null,null,1,0,null,"150k-160k",-25583.333333333318]
[null,0.2,null,"Non",null,"Immeuble",null,"Neuf Pinel 6 ans","LMNP ",null,"Micro-bic si LMNP",null,1.5,null,2,null,3,null,2,0,0,null,null,2,0,null,"160k-200k",-333.33333333333024]
[null,0.3,null,"Oui","=SI(D9=\"Non\", D8*'Feuille tableau pour liste'!J12,\"\")","Parking",null,"Neuf Pinel 9 ans","LMP",null,"Reel si LMNP",null,1.75,null,3,null,4,null,3,0,0,null,null,3,0,null,"200k-210k",-44083.333333333321]
[null,0.41,null,null,null,null,null,"Neuf Pinel 12 ans",null,null,"Reel si LMP",null,2,null,4,null,5,null,4,0,0,null,null,4,0,null,"210k-250k",-416.66666666666282]
[null,0.45,null,null,100,null,null,null,null,null,null,null,2.25,null,5,null,6,null,5,0,0,null,null,5,0,null,"250k-260k",-67583.333333333314]
[null,null,null,null,"=RECHERCHEV('","Fréquence",null,null,"Colonne1",0.08,null,null,2.5,null,6,null,7,null,6,6,1.65,null,null,6,1.65,null,"260k+",-499.99999999999534]
[null,null,null,null,0,13,null,null,"Oui",null,null,null,2.75,null,7,null,8,null,7,12,3.3,null,null,7,3.3,null,null,-3000]
[null,null,null,null,1,1,null,null,"Non",null,null,null,3,null,8,null,9,null,8,18,4.95,null,null,8,4.95,null,null,-3000]
[null,null,null,null,2,2,null,null,null,null,null,null,3.25,null,9,null,10,null,9,24,6.6,null,null,9,6.6,null,null,-3000]
[null,null,null,null,3,3,null,null,null,null,null,null,3.5,null,10,null,11,null,10,30,8.25,null,null,10,8.25,null,null,-3000]
[null,null,null,null,4,4,null,null,null,null,null,null,3.75,null,11,null,12,null,11,36,9.9,null,null,11,9.9,null,null,-3000]
[null,null,null,null,5,5,null,null,null,null,null,null,4,null,12,null,13,null,12,42,11.55,null,null,12,11.55]
[null,null,null,null,6,6,null,null,null,null,null,null,4.25,null,13,null,14,null,13,48,13.2,null,null,13,13.2]
[null,null,null,null,7,7,null,null,null,null,null,null,4.5,null,14,null,15,null,14,54,14.85,null,null,14,14.85]
[null,null,null,null,8,8,null,null,null,null,null,null,4.75,null,15,null,16,null,15,60,16.5,null,null,15,16.5]
[null,null,null,null,9,9,null,null,null,null,null,null,5,null,null,null,17,null,16,66,18.149999999999999,null,null,16,18.149999999999999]
[null,null,null,null,10,10,null,null,null,null,null,null,5.25,null,null,null,18,null,17,72,19.8,null,null,17,19.8]
[null,null,null,null,11,11,null,null,null,null,null,null,5.5,null,null,null,19,null,18,78,21.45,null,null,18,21.45]
[null,null,null,null,12,12,null,null,null,null,null,null,5.75,null,null,null,20,null,19,84,23.1,null,null,19,23.1]
[null,null,null,null,null,14,null,null,null,null,null,null,6,null,null,null,21,null,20,90,24.75,null,null,20,24.75]
[null,null,null,null,null,15,null,null,null,null,null,null,6.25,null,null,null,22,null,21,96,26.4,null,null,21,26.4]
[null,null,null,null,null,16,null,null,null,null,null,null,6.5,null,null,null,23,null,22,0,28,null,null,22,28]
[null,null,null,null,null,17,null,null,null,null,null,null,6.75,null,null,null,24,null,23,100,37,null,null,23,37]
[null,null,null,null,null,18,null,null,null,null,null,null,7,null,null,null,25,null,24,100,46,null,null,24,46]
[null,null,null,null,null,19,null,null,null,null,null,null,7.25,null,null,null,26,null,25,100,55,null,null,25,55]
[null,null,null,null,null,20,null,null,null,null,null,null,7.5,null,null,null,27,null,26,100,64,null,null,26,64]
[null,null,null,null,null,null,null,null,null,null,null,null,7.75,null,"CALCUL FRAIS DE DOSSIER",null,28,null,27,100,73,null,null,27,73]
[null,null,null,null,null,null,null,null,null,null,null,null,8,null,null,null,29,null,28,100,82,null,null,28,82]
[null,null,null,null,null,null,null,null,null,null,null,null,8.25,null,null,null,30,null,29,100,91,null,null,29,91]
[null,null,null,null,null,null,null,null,null,null,null,null,8.5,null,null,null,31,null,30,100,100,null,null,30,100]
[null,null,"Rang prix","% taxe sur plus-value élevée",null,null,null,null,null,null,null,null,8.75,null,null,null,32,null,31,100,null,null,null,31,100]
[null,null,50001,null,null,null,null,null,null,null,null,null,9,null,null,null,33,null,32,100,null,null,null,32,100]
[null,null,60000,null,null,null,null,null,null,null,null,null,9.25,null,null,null,34,null,33,100,null,null,null,33,100]
[null,null,60001,null,null,null,null,null,null,null,null,null,9.5,null,null,null,35,null,34,100,null,null,null,34,100]
[null,null,100000,null,null,null,null,null,null,null,null,null,9.75,null,null,null,36,null,35,100,null,null,null,35,100]
[null,null,100001,null,null,null,null,null,null,null,null,null,10,null,null,null,37,null,36,100,null,null,null,36,100]
[null,null,150000,null,null,null,null,null,null,null,null,null,10.25,null,null,null,38,null,37,100,null,null,null,37,100]
[null,null,150001,null,null,null,null,null,null,null,null,null,10.5,null,null,null,39,null,38,100,null,null,null,38,100]
[null,null,160000,null,null,null,null,null,null,null,null,null,10.75,null,null,null,40,null,39,100,null,null,null,39,100]
[null,null,160001,null,null,null,null,null,null,null,null,null,11,null,null,null,null,null,40,100,null,null,null,40,100]
[null,null,200000,null,null,null,null,null,null,null,null,null,11.25,null,null,null,null,null,41,100,null,null,null,41,100]
[null,null,200001,null,null,null,null,null,null,null,null,null,11.5,null,null,null,null,null,42,100,null,null,null,42,100]
[null,null,210000,null,null,null,null,null,null,null,null,null,11.75,null,null,null,null,null,43,100,null,null,null,43,100]
[null,null,210001,null,null,null,null,null,null,null,null,null,12,null,null,null,null,null,44,100,null,null,null,44,100]
[null,null,250000,null,null,null,null,null,null,null,null,null,null,null,null,null,null,null,45,100,null,null,null,45,100]
[null,null,250001,null,null,null,null,null,null,null,null,null,null,null,null,null,null,null,46,100,null,null,null,46,100]
[null,null,260000,null,null,null,null,null,null,null,null,null,null,null,null,null,null,null,47,100,null,null,null,47,100]
[null,null,260001,null,null,null,null,null,null,null,null,null,null,null,null,null,null,null,48,100,null,null,null,48,100]
[null,null,100000000000000,null,null,null,null,null,null,null,null,null,null,null,null,null,null,null,49,100,null,null,null,49,100]
[null,null,null,null,null,null,null,null,null,null,null,null,null,null,null,null,null,null,50,100,null,null,null,50,100]

{"sheet":"Bilan 2020","index":4,"n_rows":164,"n_cols":20,"rows_kept":164,"cut":false,"hidden":false,"merged":[[118,5,118,6],[45,1,46,4],[1,2,1,3],[3,0,3,1],[38,5,38,6],[40,0,40,1],[3,5,3,6],[5,5,5,6],[15,5,15,6],[18,5,18,6],[20,5,20,6]]}
[]
[null,null,"Bilan Actif Passif",null,"Date:",{"$f":"H2","v":"2020-01-01"},null,{"$f":"DATE(2020,1,1)","v":"2020-01-01"},null,null,null,{"$f":"2020-2020","v":0}]
[]
["Actif",null,null,null,null,"Passif"]
["Actif liquide"]
["Compte(s) courant(s)",null,null,null,null,"Fonds propres"]
[null,"Compte(s) courant(s)",null,{"$f":"'Bilan Fin 2019'!D120","v":1000},null,"Fonds propres liquide",null,null,{"$f":"D25-SUM(I16:I26)","v":-249819.06921947544}]
[null,null,"Total compte(s) courant(s)",{"$f":"D7","v":1000},null,"Fonds propres semi-liquide",null,null,{"$f":"D31","v":360465.75342465751},null,null,null,null,null,null,null,null,null,null,"Titres financiers augmentent de 10%"]
["Epargnes classiques",null,null,null,null,"Fonds propres non-liquide",null,null,{"$f":"D35","v":809.29205479452048}]
[null,"Livret A",null,{"$f":"'Bilan Fin 2019'!D123","v":1005.7123287671233},null,"Total Fonds propres",null,null,{"$f":"SUM(I7:I9)","v":111455.9762599766}]
[null,"PEL",null,{"$f":"'Bilan Fin 2019'!D124","v":302.28493150684932},null,null,null,null,null,null,null,null,null,null,null,null,null,null,null,"Assurance vie de 1,5"]
[null,"CEL",null,{"$f":"'Bilan Fin 2019'!D125","v":501.90410958904107}]
[null,"LDD",null,{"$f":"'Bilan Fin 2019'!D126","v":402.28493150684932},null,null,null,null,null,null,null,null,null,null,null,null,null,null,null,"Plan retraite de 1%"]
[null,"Assurance  vie Fonds euros",null,{"$f":"'Bilan Fin 2019'!D127","v":6184.9327632667801}]
[null,"Assurance vie Unités de compte",null,{"$f":"'Bilan Fin 2019'!D128","v":1108.7683797051359}]
[null,null,"Total épargnes classiques",{"$f":"SUM(D10:D15)","v":9505.887444341779},null,"Capital restant dû crédit résidence principale",null,null,{"$f":"VLOOKUP(F2,Tableau1[#All],2,1)","v":153629.45326867525}]
["Actifs financiers"]
[null,"PEA",null,{"$f":"'Bilan Fin 2019'!D131","v":3566.6438356164385}]
[null,"Compte-titres",null,{"$f":"'Bilan Fin 2019'!D132","v":3686.6027397260273},null,"Capital restant dû crédit investissement immo locatif",null,null,{"$f":"VLOOKUP(F2,Tableau17[#All],2,1)","v":114911.44860062143}]
[null,null,"Total actifs financiers",{"$f":"SUM(D18,D19)","v":7253.2465753424658}]
["Epargnes salariales",null,null,null,null,"Capital restant dû autres prêts / dettes…",null,null,{"$f":"Profil_Investisseur!F100","v":0}]
[null,"PEE",null,{"$f":"'Bilan Fin 2019'!D135","v":962.69863013698625}]
[null,null,"Total épargnes salariales",{"$f":"D22","v":962.69863013698625}]
[]
[null,null,"Total Actif liquide",{"$f":"SUM(D8,D16,D20,D23)","v":18721.83264982123},null,"Dettes fiscales",null,null,{"$f":"Profil_Investisseur!F96","v":0}]
["Actif non-liquide"]
["Biens"]
[null,"Résidence principale (valeur marchande)",null,{"$f":"'Bilan Fin 2019'!D141","v":181370.95890410958}]
[null,"Investissement immobilier (valeur marchande)",null,{"$f":"'Bilan Fin 2019'!D142","v":171294.79452054793}]
[null,"Autres propriétés (valeur)",null,{"$f":"'Bilan Fin 2019'!D143","v":7800}]
[null,null,"Total biens",{"$f":"SUM(D28,D29,D30)","v":360465.75342465751}]
["Retraites"]
[null,"Plan Retraites (PERP)",null,{"$f":"'Bilan Fin 2019'!D146","v":202.43726027397261}]
[null,"PERCO",null,{"$f":"'Bilan Fin 2019'!D147","v":606.8547945205479}]
[null,null,"Total Retraites",{"$f":"SUM(D33,D34)","v":809.29205479452048}]
[]
[null,null,"Total Actif non-liquide",{"$f":"SUM(D31,D35)","v":361275.045479452}]
[]
[null,null,null,null,null,"Total Passif",null,null,{"$f":"SUM(I10:I25)","v":379996.8781292733}]
[]
["Total Actifs",null,null,{"$f":"SUM(D37+D25)","v":379996.87812927325}]
[]
[]
[]
[]
[null,"Compte de Résultat"]
[]
[null,"RESSOURCES",null,{"$f":"F2","v":"2020-01-01"},{"$f":"F115","v":"2021-01-01"}]
[null,null,"Salaire",{"$f":"Profil_Investisseur!B58*12","v":40000}]
[null,null,"Rentes immobilières",{"$f":"Profil_Investisseur!B123*12","v":10800}]
[null,null,"Prime d'intéressement et de participation",{"$f":"Profil_Investisseur!B60*12","v":600}]
[null,null,"Don(s) / Bourse(s) / Aide(s) / Allocation(s) / Pension(s)",{"$f":"(Profil_Investisseur!E72)*12","v":0}]
[null,null,"Plus-value PEA",{"$f":"D18*'Hypothèses exogènes'!D14/100","v":89.166095890410958}]
[null,null,"Plus-value des comptes-titres",{"$f":"D19*'Hypothèses exogènes'!D15/100","v":258.06219178082193}]
[null,null,"Plus-value des autres propiétés",{"$f":"D30*'Hypothèses exogènes'!D16/100","v":0}]
[null,null,"Plus-value du PEE",{"$f":"D22*'Hypothèses exogènes'!D17/100","v":14.440479452054795}]
[null,null,"Plus-value du PERCO",{"$f":"D34*'Hypothèses exogènes'!D18/100","v":9.1028219178082193}]
[null,null,"Plus-value de Livret A",{"$f":"D10*'Hypothèses exogènes'!D19/100","v":7.5428424657534245}]
[null,null,"Plus-value du PEL",{"$f":"D11*'Hypothèses exogènes'!D20/100","v":3.022849315068493}]
[null,null,"Plus-value du CEL",{"$f":"D12*'Hypothèses exogènes'!D21/100","v":2.5095205479452054}]
[null,null,"Plus-value du LDD",{"$f":"D13*'Hypothèses exogènes'!D22/100","v":3.0171369863013702}]
[null,null,"Plus-value de l'assurance-vie Fonds€",{"$f":"D14*'Hypothèses exogènes'!D23/100","v":123.6986552653356}]
[null,null,"Plus-value de l'assurance-vie UC",{"$f":"D15*'Hypothèses exogènes'!D24/100","v":72.069944680833828}]
[null,null,"Plus-value du plan retraites PERP",{"$f":"D33*'Hypothèses exogènes'!D25/100","v":3.2389961643835621}]
[null,null,"Plus-value résidence principale",{"$f":"D28*'Hypothèses exogènes'!D26/100","v":1813.7095890410958}]
[null,null,"Plus-value du bien investissement locatif",{"$f":"D29*'Hypothèses exogènes'!D27/100","v":1712.9479452054793}]
[null,null,"Autres revenus",{"$f":"Profil_Investisseur!B59*12","v":0}]
[null,"Total des ressources ",null,{"$f":"SUM(D49:D67)","v":55512.529068713295}]
[]
[null,null,null,"[42]"]
[null,"CHARGES"]
[null,null,"Assurance habitation",{"$f":"(Profil_Investisseur!I109+Profil_Investisseur!E123)","v":620}]
[null,null,"Autre(s) assurance(s)",{"$f":"Profil_Investisseur!B127","v":600}]
[null,"Total assurances",null,{"$f":"D72+D73","v":1220}]
[null,null,"Intérêts crédit A (résidence principale)",{"$f":"VLOOKUP(F115,Tableau18[[#All],[Date du versement]:[Intérêts crédit A cumulés]],2,1)-VLOOKUP(F2,Tableau18[[#All],[Date du versement]:[Intérêts crédit A cumulés]],2,1)","v":2553.6049277787415}]
[null,null,"Ammortissement crédit A (résidence principale)",{"$f":"VLOOKUP(F115,Tableau18[#All],3,1)-VLOOKUP(F2,Tableau18[#All],3,1)","v":7479.082876577575}]
[null,null,"Intérêts crédit B (Investissement locatif)",{"$f":"VLOOKUP(F115,Tableau19[[#All],[Date du versement]:[Intérêts crédit B cumulés]],2,1)-VLOOKUP(F2,Tableau19[[#All],[Date du versement]:[Intérêts crédit B cumulés]],2,1)","v":1655.6188099577812}]
[null,null,"Amortissement crédit B (investissement locatif)",{"$f":"VLOOKUP(F115,Tableau19[#All],3,1)-VLOOKUP(F2,Tableau19[#All],3,1)","v":9925.4710032090516}]
[null,null,"Intérêts autres dettes",{"$f":"0","v":0}]
[null,null,"Ammortissement autres dettes",{"$f":"0","v":0}]
[null,"Total des remboursements",null,{"$f":"SUM(D75:D80)","v":21613.777617523148}]
[null,null,"Loyer + charges",{"$f":"Profil_Investisseur!B134*12","v":0}]
[null,null,"Transport, Alimentation, Pension Alimentaire,Loisirs",{"$f":"Profil_Investisseur!F63*12","v":11728.000000000002}]
[null,null,"Charges totales (propriétaire investissement locatif)",{"$f":"Profil_Investisseur!D123*12","v":600}]
[null,null,"Charges totales (propriétaire principal)",{"$f":"Profil_Investisseur!D114*12","v":600}]
[null,"Total dépenses personnelles",null,{"$f":"SUM(D82:D85)","v":12928.000000000002}]
[null,null,"Impôts sur le revenu",{"$f":"'Impôts revenus'!E7","v":3638.7862718350652}]
[null,null,"Impôts sur le foncier",{"$f":"'Impôts revenus'!F7","v":3159.8312718350662}]
[null,null,"Taxe d'habitation",{"$f":"Profil_Investisseur!J109+Profil_Investisseur!B135*12","v":881}]
[null,null,"Fiscalité sur la plus-value du PEA",{"$f":"D53*'Hypothèses exogènes'!D43/100","v":15.336568493150684}]
[null,null,"Fiscalité sur la plus-value des comptes-titres",{"$f":"D54*'Hypothèses exogènes'!D44/100","v":77.418657534246577}]
[null,null,"Fiscalité sur la plus-value des autres propiétés",{"$f":"D55*'Hypothèses exogènes'!D45/100","v":0}]
[null,null,"Fiscalité sur la plus-value du PEE",{"$f":"D56*'Hypothèses exogènes'!D46/100","v":2.4837624657534247}]
[null,null,"Fiscalité sur la plus-value du PERCO",{"$f":"D57*'Hypothèses exogènes'!D47/100","v":1.5656853698630135}]
[null,null,"Fiscalité sur la plus-value de Livret A",{"$f":"D58*'Hypothèses exogènes'!D48/100","v":0}]
[null,null,"Fiscalité sur la plus-value du PEL",{"$f":"D59*'Hypothèses exogènes'!D49/100","v":0.90685479452054796}]
[null,null,"Fiscalité sur la plus-value du CEL",{"$f":"D60*'Hypothèses exogènes'!D50/100","v":0.43163753424657531}]
[null,null,"Fiscalité sur la plus-value du LDD",{"$f":"D61*'Hypothèses exogènes'!D51/100","v":0}]
[null,null,"Fiscalité sur la plus-value de l'assurance-vie Fonds€",{"$f":"D62*'Hypothèses exogènes'!D52/100","v":21.276168705637723}]
[null,null,"Fiscalité sur la plus-value de l'assurance-vie UC",{"$f":"D63*'Hypothèses exogènes'!D53/100","v":12.396030485103417}]
[null,null,"Fiscalité sur la plus-value du plan retraites PERP",{"$f":"D64*'Hypothèses exogènes'!D54/100","v":0.55710734027397268}]
[null,null,"Fiscalité sur la plus-value de la résidence principale",{"$f":"D65*'Hypothèses exogènes'!D55/100","v":0}]
[null,null,"Fiscalité sur la plus-value du bien investissement locatif",{"$f":"D66*'Hypothèses exogènes'!D56/100","v":0}]
[null,"Total fiscalité",null,{"$f":"SUM(D87:D103)","v":7811.9900163929278}]
[null,null,"Dépenses exceptionnelles",{"$f":"D49*'Hypothèses exogènes'!D57/100","v":2400},null,null,"Pour vérifier"]
[null,"Total des charges ",null,{"$f":"SUM(D74,D81,D86,D104,D105)","v":45973.767633916075},null,null,"Somme ammortissements + résultat net",null,{"$f":"D76+D78+D80+D108","v":26943.315314583844}]
[]
[null,"Résultat Net Comptable",null,{"$f":"D68-D106","v":9538.7614347972194},null,null,"Différence fonds propres",null,{"$f":"I123-I10","v":26943.315314583801}]
[]
[null,null,null,null,null,null,"Différence Actifs",null,{"$f":"D154-D41","v":9538.7614347971976}]
[]
[]
[]
[]
[null,null,"Bilan Actif Passif",null,"Date:",{"$f":"H115","v":"2021-01-01"},null,{"$f":"EDATE(F2,12)","v":"2021-01-01"}]
[]
["Actif",null,null,null,null,"Passif"]
["Actif liquide"]
["Compte(s) courant(s)",null,null,null,null,"Fonds propres"]
[null,"Compte(s) courant(s)",null,{"$f":"F162","v":1000},null,"Fonds propres liquide",null,null,{"$f":"D138-SUM(I126:I134)","v":-226414.75325722038}]
[null,null,"Total compte(s) courant(s)",{"$f":"D120","v":1000},null,"Fonds propres semi-liquide",null,null,{"$f":"D144","v":363992.41095890407}]
["Epargnes classiques",null,null,null,null,"Fonds propres non-liquide",null,null,{"$f":"D148","v":821.6338728767123}]
[null,"Livret A",null,{"$f":"D10+D58","v":1013.2551712328767},null,"Total Fonds propres",null,null,{"$f":"SUM(I120:I122)","v":138399.2915745604}]
[null,"PEL",null,{"$f":"D11+D59","v":305.30778082191779}]
[null,"CEL",null,{"$f":"D12+D60","v":504.41363013698628}]
[null,"LDD",null,{"$f":"D13+D61","v":405.30206849315067},null,"Capital restant dû crédit résidence principale",null,null,{"$f":"I16-D76","v":146150.37039209768}]
[null,"Assurance  vie Fonds euros",null,{"$f":"D14+D62+F163","v":8721.7476015740776}]
[null,"Assurance vie Unités de compte",null,{"$f":"D15+D63+F164","v":3593.9545074279322}]
[null,null,"Total épargnes classiques",{"$f":"SUM(D123:D128)","v":14543.980759686941}]
["Actifs financiers",null,null,null,null,"Capital restant dû crédit investissement immo locatif",null,null,{"$f":"I19-D78","v":104985.97759741238}]
[null,"PEA",null,{"$f":"D18+D53","v":3655.8099315068494}]
[null,"Compte-titres",null,{"$f":"D19+D54","v":3944.6649315068494},null,"Capital restant dû autres prêts / dettes…",null,null,{"$f":"0","v":0}]
[null,null,"Total actifs financiers",{"$f":"SUM(D131,D132)","v":7600.4748630136983}]
["Epargnes salariales",null,null,null,null,"Dettes fiscales",null,null,{"$f":"Profil_Investisseur!F173","v":0}]
[null,"PEE",null,{"$f":"D22+D56+D51","v":1577.139109589041},null,"Résultat net comptable",null,null,{"$f":"D108","v":9538.7614347972194}]
[null,null,"Total épargnes salariales",{"$f":"D135","v":1577.139109589041}]
[]
[null,null,"Total Actif liquide",{"$f":"SUM(D121,D129,D133,D136)","v":24721.594732289679}]
["Actif non-liquide"]
["Biens"]
[null,"Résidence principale (valeur marchande)",null,{"$f":"D28+D65","v":183184.66849315068}]
[null,"Investissement immobilier (valeur marchande)",null,{"$f":"D29+D66","v":173007.7424657534}]
[null,"Autres propriétés (valeur)",null,{"$f":"D30+D55","v":7800}]
[null,null,"Total biens",{"$f":"SUM(D141,D142,D143)","v":363992.41095890407}]
["Retraites"]
[null,"Plan Retraites (PERP)",null,{"$f":"D33+D64","v":205.67625643835618},null,"Total Passif",null,null,{"$f":"SUM(I123:I134)","v":389535.63956407044}]
[null,"PERCO",null,{"$f":"D34+D57","v":615.95761643835613}]
[null,null,"Total Retraites",{"$f":"SUM(D146,D147)","v":821.6338728767123}]
[]
[null,null,"Total Actif non-liquide",{"$f":"SUM(D144,D148)","v":364814.04483178077}]
[]
[]
[]
["Total Actifs",null,null,{"$f":"SUM(D150+D138)","v":389535.63956407044}]
[]
[]
[]
[]
[]
[]
[null,null,null,null,"\"compte courant intermédiaire\"",{"$f":"D7+D49+D50+D52+D67-D106","v":5826.2323660839247}]
[null,null,null,null,"compte-courant final",{"$f":"MIN(1000,F161)","v":1000}]
[null,null,null,null,"Va dans Assurance-Vie Fonds euros",{"$f":"(F161-F162)*(1-'Hypothèses exogènes'!C3)","v":2413.1161830419624}]
[null,null,null,null,"Va dans Assurance-Vie Unités de compte",{"$f":"(F161-F162)*'Hypothèses exogènes'!C3","v":2413.1161830419624}]

{"sheet":"Bilan 2021","index":5,"n_rows":164,"n_cols":20,"rows_kept":164,"cut":false,"hidden":false,"merged":[[18,5,18,6],[1,2,1,3],[3,0,3,1],[3,5,3,6],[5,5,5,6],[15,5,15,6],[20,5,20,6],[38,5,38,6],[40,0,40,1],[45,1,46,4],[118,5,118,6]]}
[]
[null,null,"Bilan Actif Passif",null,"Date:",{"$f":"H2","v":"2021-01-01"},null,{"$f":"DATE(2021,1,1)","v":"2021-01-01"},null,null,{"$f":"YEAR(H2)","v":2021},{"$f":"K2-2020","v":1}]
[]
["Actif",null,null,null,null,"Passif"]
["Actif liquide"]
["Compte(s) courant(s)",null,null,null,null,"Fonds propres"]
[null,"Compte(s) courant(s)",null,{"$f":"'Bilan 2020'!D120","v":1000},null,"Fonds propres liquide",null,null,{"$f":"D25-SUM(I16:I26)","v":-226414.75325722032}]
[null,null,"Total compte(s) courant(s)",{"$f":"D7","v":1000},null,"Fonds propres semi-liquide",null,null,{"$f":"D31","v":363992.41095890407},null,null,null,null,null,null,null,null,null,null,"Titres financiers augmentent de 10%"]
["Epargnes classiques",null,null,null,null,"Fonds propres non-liquide",null,null,{"$f":"D35","v":821.6338728767123}]
[null,"Livret A",null,{"$f":"'Bilan 2020'!D123","v":1013.2551712328767},null,"Total Fonds propres",null,null,{"$f":"SUM(I7:I9)","v":138399.29157456046}]
[null,"PEL",null,{"$f":"'Bilan 2020'!D124","v":305.30778082191779},null,null,null,null,null,null,null,null,null,null,null,null,null,null,null,"Assurance vie de 1,5"]
[null,"CEL",null,{"$f":"'Bilan 2020'!D125","v":504.41363013698628}]
[null,"LDD",null,{"$f":"'Bilan 2020'!D126","v":405.30206849315067},null,null,null,null,null,null,null,null,null,null,null,null,null,null,null,"Plan retraite de 1%"]
[null,"Assurance  vie Fonds euros",null,{"$f":"'Bilan 2020'!D127","v":8721.7476015740776}]
[null,"Assurance vie Unités de compte",null,{"$f":"'Bilan 2020'!D128","v":3593.9545074279322}]
[null,null,"Total épargnes classiques",{"$f":"SUM(D10:D15)","v":14543.980759686941},null,"Capital restant dû crédit résidence principale",null,null,{"$f":"VLOOKUP(F2,Tableau1[#All],2,1)","v":146150.37039209763}]
["Actifs financiers"]
[null,"PEA",null,{"$f":"'Bilan 2020'!D131","v":3655.8099315068494}]
[null,"Compte-titres",null,{"$f":"'Bilan 2020'!D132","v":3944.6649315068494},null,"Capital restant dû crédit investissement immo locatif",null,null,{"$f":"VLOOKUP(F2,Tableau17[#All],2,1)","v":104985.97759741238}]
[null,null,"Total actifs financiers",{"$f":"SUM(D18,D19)","v":7600.4748630136983}]
["Epargnes salariales",null,null,null,null,"Capital restant dû autres prêts / dettes…",null,null,{"$f":"Profil_Investisseur!F100","v":0}]
[null,"PEE",null,{"$f":"'Bilan 2020'!D135","v":1577.139109589041}]
[null,null,"Total épargnes salariales",{"$f":"D22","v":1577.139109589041}]
[]
[null,null,"Total Actif liquide",{"$f":"SUM(D8,D16,D20,D23)","v":24721.594732289679},null,"Dettes fiscales",null,null,{"$f":"Profil_Investisseur!F96","v":0}]
["Actif non-liquide"]
["Biens"]
[null,"Résidence principale (valeur marchande)",null,{"$f":"'Bilan 2020'!D141","v":183184.66849315068}]
[null,"Investissement immobilier (valeur marchande)",null,{"$f":"'Bilan 2020'!D142","v":173007.7424657534}]
[null,"Autres propriétés (valeur)",null,{"$f":"'Bilan 2020'!D143","v":7800}]
[null,null,"Total biens",{"$f":"SUM(D28,D29,D30)","v":363992.41095890407}]
["Retraites"]
[null,"Plan Retraites (PERP)",null,{"$f":"'Bilan 2020'!D146","v":205.67625643835618}]
[null,"PERCO",null,{"$f":"'Bilan 2020'!D147","v":615.95761643835613}]
[null,null,"Total Retraites",{"$f":"SUM(D33,D34)","v":821.6338728767123}]
[]
[null,null,"Total Actif non-liquide",{"$f":"SUM(D31,D35)","v":364814.04483178077}]
[]
[null,null,null,null,null,"Total Passif",null,null,{"$f":"SUM(I10:I26)","v":389535.63956407044}]
[]
["Total Actifs",null,null,{"$f":"SUM(D37+D25)","v":389535.63956407044}]
[]
[]
[]
[]
[null,"Compte de Résultat"]
[]
[null,"RESSOURCES",null,{"$f":"F2","v":"2021-01-01"},{"$f":"F115","v":"2022-01-01"}]
[null,null,"Salaire",{"$f":"'Bilan 2020'!D49*((1+'Hypothèses exogènes'!E10/100)^$L$2)","v":41200}]
[null,null,"Rentes immobilières",{"$f":"'Bilan 2020'!D50*((1+'Hypothèses exogènes'!E11/100)^$L$2)","v":10810.8}]
[null,null,"Prime d'intéressement et de participation",{"$f":"'Bilan 2020'!D51*((1+'Hypothèses exogènes'!E12/100)^$L$2)","v":600}]
[null,null,"Don(s) / Bourse(s) / Aide(s) / Allocation(s) / Pension(s)",{"$f":"'Bilan 2020'!D52*((1+'Hypothèses exogènes'!E13/100)^$L$2)","v":0}]
[null,null,"Plus-value PEA",{"$f":"D18*('Hypothèses exogènes'!D14/100+((1+'Hypothèses exogènes'!E14/100)^$L$2-1))","v":102.36267808219139}]
[null,null,"Plus-value des comptes-titres",{"$f":"D19*('Hypothèses exogènes'!D15/100+((1+'Hypothèses exogènes'!E15/100)^$L$2-1))","v":287.96053999999958}]
[null,null,"Plus-value des autres propiétés",{"$f":"D30*('Hypothèses exogènes'!D16/100+((1+'Hypothèses exogènes'!E16/100)^$L$2-1))","v":31.200000000000028}]
[null,null,"Plus-value du PEE",{"$f":"D22*('Hypothèses exogènes'!D17/100+((1+'Hypothèses exogènes'!E17/100)^$L$2-1))","v":28.388503972602567}]
[null,null,"Plus-value du PERCO",{"$f":"D34*('Hypothèses exogènes'!D18/100+((1+'Hypothèses exogènes'!E18/100)^$L$2-1))","v":11.087237095890343}]
[null,null,"Plus-value de Livret A",{"$f":"D10*('Hypothèses exogènes'!D19/100+((1+'Hypothèses exogènes'!E19/100)^$L$2-1))","v":7.5994137842465754}]
[null,null,"Plus-value du PEL",{"$f":"D11*('Hypothèses exogènes'!D20/100+((1+'Hypothèses exogènes'!E20/100)^$L$2-1))","v":3.9690011506848983}]
[null,null,"Plus-value du CEL",{"$f":"D12*('Hypothèses exogènes'!D21/100+((1+'Hypothèses exogènes'!E21/100)^$L$2-1))","v":4.0353090410958359}]
[null,null,"Plus-value du LDD",{"$f":"D13*('Hypothèses exogènes'!D22/100+((1+'Hypothèses exogènes'!E22/100)^$L$2-1))","v":4.2556717191780384}]
[null,null,"Plus-value de l'assurance-vie Fonds€",{"$f":"D14*('Hypothèses exogènes'!D23/100+((1+'Hypothèses exogènes'!E23/100)^$L$2-1))","v":200.60019483620283}]
[null,null,"Plus-value de l'assurance-vie UC",{"$f":"D15*('Hypothèses exogènes'!D24/100+((1+'Hypothèses exogènes'!E24/100)^$L$2-1))","v":244.38890650509902}]
[null,null,"Plus-value du plan retraites PERP",{"$f":"D33*('Hypothèses exogènes'!D25/100+((1+'Hypothèses exogènes'!E25/100)^$L$2-1))","v":3.9078488723287452}]
[null,null,"Plus-value résidence principale",{"$f":"D28*('Hypothèses exogènes'!D26/100+((1+'Hypothèses exogènes'!E26/100)^$L$2-1))","v":2381.4006904109388}]
[null,null,"Plus-value du bien investissement locatif",{"$f":"D29*('Hypothèses exogènes'!D27/100+((1+'Hypothèses exogènes'!E27/100)^$L$2-1))","v":2249.1006520547753}]
[null,null,"Autres revenus",{"$f":"Profil_Investisseur!B59*12","v":0}]
[null,"Total des ressources ",null,{"$f":"SUM(D49:D67)","v":58171.056647525234}]
[]
[null,null,null,"[42]"]
[null,"CHARGES"]
[null,null,"Assurance habitation",{"$f":"(Profil_Investisseur!I109+Profil_Investisseur!E123)","v":620}]
[null,null,"Autre(s) assurance(s)",{"$f":"Profil_Investisseur!B127","v":600}]
[null,"Total assurances",null,{"$f":"D72+D73","v":1220}]
[null,null,"Intérêts crédit A (résidence principale)",{"$f":"VLOOKUP(F115,Tableau18[[#All],[Date du versement]:[Intérêts crédit A cumulés]],2,1)-VLOOKUP(F2,Tableau18[[#All],[Date du versement]:[Intérêts crédit A cumulés]],2,1)","v":2425.4651589297446}]
[null,null,"Ammortissement crédit A (résidence principale)",{"$f":"VLOOKUP(F115,Tableau18[#All],3,1)-VLOOKUP(F2,Tableau18[#All],3,1)","v":7607.2226454265765}]
[null,null,"Intérêts crédit B (Investissement locatif)",{"$f":"VLOOKUP(F115,Tableau19[[#All],[Date du versement]:[Intérêts crédit B cumulés]],2,1)-VLOOKUP(F2,Tableau19[[#All],[Date du versement]:[Intérêts crédit B cumulés]],2,1)","v":1505.7089038426966}]
[null,null,"Amortissement crédit B (investissement locatif)",{"$f":"VLOOKUP(F115,Tableau19[#All],3,1)-VLOOKUP(F2,Tableau19[#All],3,1)","v":10075.380909324158}]
[null,null,"Intérêts autres dettes",{"$f":"0","v":0}]
[null,null,"Ammortissement autres dettes",{"$f":"0","v":0}]
[null,"Total des remboursements",null,{"$f":"SUM(D75:D80)","v":21613.777617523177}]
[null,null,"Loyer + charges",{"$f":"Profil_Investisseur!B134*12","v":0}]
[null,null,"Transport, Alimentation, Pension Alimentaire,Loisirs",{"$f":"Profil_Investisseur!F63*12","v":11728.000000000002}]
[null,null,"Charges totales (propriétaire investissement locatif)",{"$f":"Profil_Investisseur!D123*12","v":600}]
[null,null,"Charges totales (propriétaire principal)",{"$f":"Profil_Investisseur!D114*12","v":600}]
[null,"Total dépenses personnelles",null,{"$f":"SUM(D82:D85)","v":12928.000000000002}]
[null,null,"Impôts sur le revenu",{"$f":"'Impôts revenus'!E8","v":4070.2377643636764}]
[null,null,"Impôts sur le foncier",{"$f":"'Impôts revenus'!F8","v":3546.9622643636781}]
[null,null,"Taxe d'habitation",{"$f":"Profil_Investisseur!J109+Profil_Investisseur!B135*12","v":881}]
[null,null,"Fiscalité sur la plus-value du PEA",{"$f":"D53*('Hypothèses exogènes'!D43/100+((1+'Hypothèses exogènes'!E43/100)^$L$2-1))","v":17.91346866438348}]
[null,null,"Fiscalité sur la plus-value des comptes-titres",{"$f":"D54*('Hypothèses exogènes'!D44/100+((1+'Hypothèses exogènes'!E44/100)^$L$2-1))","v":87.252043619999839}]
[null,null,"Fiscalité sur la plus-value des autres propiétés",{"$f":"D55*('Hypothèses exogènes'!D45/100+((1+'Hypothèses exogènes'!E45/100)^$L$2-1))","v":5.4600000000000009}]
[null,null,"Fiscalité sur la plus-value du PEE",{"$f":"D56*('Hypothèses exogènes'!D46/100+((1+'Hypothèses exogènes'!E46/100)^$L$2-1))","v":4.9679881952054457}]
[null,null,"Fiscalité sur la plus-value du PERCO",{"$f":"D57*('Hypothèses exogènes'!D47/100+((1+'Hypothèses exogènes'!E47/100)^$L$2-1))","v":1.9402664917808086}]
[null,null,"Fiscalité sur la plus-value de Livret A",{"$f":"D58*('Hypothèses exogènes'!D48/100+((1+'Hypothèses exogènes'!E48/100)^$L$2-1))","v":0}]
[null,null,"Fiscalité sur la plus-value du PEL",{"$f":"D59*('Hypothèses exogènes'!D49/100+((1+'Hypothèses exogènes'!E49/100)^$L$2-1))","v":1.2026073486575237}]
[null,null,"Fiscalité sur la plus-value du CEL",{"$f":"D60*('Hypothèses exogènes'!D50/100+((1+'Hypothèses exogènes'!E50/100)^$L$2-1))","v":0.70617908219177083}]
[null,null,"Fiscalité sur la plus-value du LDD",{"$f":"D61*('Hypothèses exogènes'!D51/100+((1+'Hypothèses exogènes'!E51/100)^$L$2-1))","v":1.2767015157533654E-2}]
[null,null,"Fiscalité sur la plus-value de l'assurance-vie Fonds€",{"$f":"D62*('Hypothèses exogènes'!D52/100+((1+'Hypothèses exogènes'!E52/100)^$L$2-1))","v":35.105034096335473}]
[null,null,"Fiscalité sur la plus-value de l'assurance-vie UC",{"$f":"D63*('Hypothèses exogènes'!D53/100+((1+'Hypothèses exogènes'!E53/100)^$L$2-1))","v":42.768058638392297}]
[null,null,"Fiscalité sur la plus-value du plan retraites PERP",{"$f":"D64*('Hypothèses exogènes'!D54/100+((1+'Hypothèses exogènes'!E54/100)^$L$2-1))","v":0.68387355265752992}]
[null,null,"Fiscalité sur la plus-value de la résidence principale",{"$f":"D65*('Hypothèses exogènes'!D55/100+((1+'Hypothèses exogènes'!E55/100)^$L$2-1))","v":0}]
[null,null,"Fiscalité sur la plus-value du bien investissement locatif",{"$f":"D66*('Hypothèses exogènes'!D56/100+((1+'Hypothèses exogènes'!E56/100)^$L$2-1))","v":0}]
[null,"Total fiscalité",null,{"$f":"SUM(D87:D103)","v":8696.2123154321162}]
[null,null,"Dépenses exceptionnelles",{"$f":"D49*'Hypothèses exogènes'!D57/100","v":2472},null,null,"Pour vérifier"]
[null,"Total des charges ",null,{"$f":"SUM(D74,D81,D86,D104,D105)","v":46929.989932955294},null,null,"Somme ammortissements + résultat net",null,{"$f":"D76+D78+D80+D108","v":28923.670269320675}]
[]
[null,"Résultat Net Comptable",null,{"$f":"D68-D106","v":11241.066714569941},null,null,"Différence fonds propres",null,{"$f":"I123-I10","v":28923.67026932069}]
[]
[null,null,null,null,null,null,"Différence Actifs",null,{"$f":"D154-D41","v":11241.066714569984}]
[]
[]
[]
[]
[null,null,"Bilan Actif Passif",null,"Date:",{"$f":"H115","v":"2022-01-01"},null,{"$f":"EDATE(F2,12)","v":"2022-01-01"}]
[]
["Actif",null,null,null,null,"Passif"]
["Actif liquide"]
["Compte(s) courant(s)",null,null,null,null,"Fonds propres"]
[null,"Compte(s) courant(s)",null,{"$f":"F162","v":1000},null,"Fonds propres liquide",null,null,{"$f":"D138-SUM(I126:I134)","v":-202167.77941633356}]
[null,null,"Total compte(s) courant(s)",{"$f":"D120","v":1000},null,"Fonds propres semi-liquide",null,null,{"$f":"D144","v":368654.11230136978}]
["Epargnes classiques",null,null,null,null,"Fonds propres non-liquide",null,null,{"$f":"D148","v":836.62895884493139}]
[null,"Livret A",null,{"$f":"D10+D58","v":1020.8545850171233},null,"Total Fonds propres",null,null,{"$f":"SUM(I120:I122)","v":167322.96184388114}]
[null,"PEL",null,{"$f":"D11+D59","v":309.27678197260269}]
[null,"CEL",null,{"$f":"D12+D60","v":508.44893917808213}]
[null,"LDD",null,{"$f":"D13+D61","v":409.55774021232872},null,"Capital restant dû crédit résidence principale",null,null,{"$f":"I16-D76","v":138543.14774667105}]
[null,"Assurance  vie Fonds euros",null,{"$f":"D14+D62+F163","v":11462.752829932635}]
[null,"Assurance vie Unités de compte",null,{"$f":"D15+D63+F164","v":6378.7484474553858}]
[null,null,"Total épargnes classiques",{"$f":"SUM(D123:D128)","v":20089.639323768159}]
["Actifs financiers",null,null,null,null,"Capital restant dû crédit investissement immo locatif",null,null,{"$f":"I19-D78","v":94910.596688088219}]
[null,"PEA",null,{"$f":"D18+D53","v":3758.1726095890408}]
[null,"Compte-titres",null,{"$f":"D19+D54","v":4232.625471506849},null,"Capital restant dû autres prêts / dettes…",null,null,{"$f":"0","v":0}]
[null,null,"Total actifs financiers",{"$f":"SUM(D131,D132)","v":7990.7980810958898}]
["Epargnes salariales",null,null,null,null,"Dettes fiscales",null,null,{"$f":"Profil_Investisseur!F173","v":0}]
[null,"PEE",null,{"$f":"D22+D56+D51","v":2205.5276135616436},null,"Résultat net comptable",null,null,{"$f":"D108","v":11241.066714569941}]
[null,null,"Total épargnes salariales",{"$f":"D135","v":2205.5276135616436}]
[]
[null,null,"Total Actif liquide",{"$f":"SUM(D121,D129,D133,D136)","v":31285.965018425693}]
["Actif non-liquide"]
["Biens"]
[null,"Résidence principale (valeur marchande)",null,{"$f":"D28+D65","v":185566.0691835616}]
[null,"Investissement immobilier (valeur marchande)",null,{"$f":"D29+D66","v":175256.84311780817}]
[null,"Autres propriétés (valeur)",null,{"$f":"D30+D55","v":7831.2}]
[null,null,"Total biens",{"$f":"SUM(D141,D142,D143)","v":368654.11230136978}]
["Retraites"]
[null,"Plan Retraites (PERP)",null,{"$f":"D33+D64","v":209.58410531068492},null,"Total Passif",null,null,{"$f":"SUM(I123:I134)","v":400776.70627864037}]
[null,"PERCO",null,{"$f":"D34+D57","v":627.0448535342465}]
[null,null,"Total Retraites",{"$f":"SUM(D146,D147)","v":836.62895884493139}]
[]
[null,null,"Total Actif non-liquide",{"$f":"SUM(D144,D148)","v":369490.74126021471}]
[]
[]
[]
["Total Actifs",null,null,{"$f":"SUM(D150+D138)","v":400776.70627864043}]
[]
[]
[]
[]
[]
[]
[null,null,null,null,"\"compte courant intermédiaire\"",{"$f":"D7+D49+D50+D52+D67-D106","v":6080.8100670447093}]
[null,null,null,null,"compte-courant final",{"$f":"MIN(1000,F161)","v":1000}]
[null,null,null,null,"Va dans Assurance-Vie Fonds euros",{"$f":"(F161-F162)*(1-'Hypothèses exogènes'!C3)","v":2540.4050335223546}]
[null,null,null,null,"Va dans Assurance-Vie Unités de compte",{"$f":"(F161-F162)*'Hypothèses exogènes'!C3","v":2540.4050335223546}]

{"sheet":"Bilan 2022","index":6,"n_rows":164,"n_cols":20,"rows_kept":164,"cut":false,"hidden":false,"merged":[[5,5,5,6],[3,5,3,6],[3,0,3,1],[1,2,1,3],[15,5,15,6],[18,5,18,6],[118,5,118,6],[20,5,20,6],[45,1,46,4],[40,0,40,1],[38,5,38,6]]}
[]
[null,null,"Bilan Actif Passif",null,"Date:",{"$f":"H2","v":"2022-01-01"},null,{"$f":"DATE(2022,1,1)","v":"2022-01-01"},null,null,{"$f":"YEAR(H2)","v":2022},{"$f":"K2-2020","v":2}]
[]
["Actif",null,null,null,null,"Passif"]
["Actif liquide"]
["Compte(s) courant(s)",null,null,null,null,"Fonds propres"]
[null,"Compte(s) courant(s)",null,{"$f":"'Bilan 2021'!D120","v":1000},null,"Fonds propres liquide",null,null,{"$f":"D25-SUM(I16:I26)","v":-202167.77941633356}]
[null,null,"Total compte(s) courant(s)",{"$f":"D7","v":1000},null,"Fonds propres semi-liquide",null,null,{"$f":"D31","v":368654.11230136978},null,null,null,null,null,null,null,null,null,null,"Titres financiers augmentent de 10%"]
["Epargnes classiques",null,null,null,null,"Fonds propres non-liquide",null,null,{"$f":"D35","v":836.62895884493139}]
[null,"Livret A",null,{"$f":"'Bilan 2021'!D123","v":1020.8545850171233},null,"Total Fonds propres",null,null,{"$f":"SUM(I7:I9)","v":167322.96184388114}]
[null,"PEL",null,{"$f":"'Bilan 2021'!D124","v":309.27678197260269},null,null,null,null,null,null,null,null,null,null,null,null,null,null,null,"Assurance vie de 1,5"]
[null,"CEL",null,{"$f":"'Bilan 2021'!D125","v":508.44893917808213}]
[null,"LDD",null,{"$f":"'Bilan 2021'!D126","v":409.55774021232872},null,null,null,null,null,null,null,null,null,null,null,null,null,null,null,"Plan retraite de 1%"]
[null,"Assurance  vie Fonds euros",null,{"$f":"'Bilan 2021'!D127","v":11462.752829932635}]
[null,"Assurance vie Unités de compte",null,{"$f":"'Bilan 2021'!D128","v":6378.7484474553858}]
[null,null,"Total épargnes classiques",{"$f":"SUM(D10:D15)","v":20089.639323768159},null,"Capital restant dû crédit résidence principale",null,null,{"$f":"VLOOKUP(F2,Tableau1[#All],2,1)","v":138543.14774667102}]
["Actifs financiers"]
[null,"PEA",null,{"$f":"'Bilan 2021'!D131","v":3758.1726095890408}]
[null,"Compte-titres",null,{"$f":"'Bilan 2021'!D132","v":4232.625471506849},null,"Capital restant dû crédit investissement immo locatif",null,null,{"$f":"VLOOKUP(F2,Tableau17[#All],2,1)","v":94910.596688088219}]
[null,null,"Total actifs financiers",{"$f":"SUM(D18,D19)","v":7990.7980810958898}]
["Epargnes salariales",null,null,null,null,"Capital restant dû autres prêts / dettes…",null,null,{"$f":"Profil_Investisseur!F100","v":0}]
[null,"PEE",null,{"$f":"'Bilan 2021'!D135","v":2205.5276135616436}]
[null,null,"Total épargnes salariales",{"$f":"D22","v":2205.5276135616436}]
[]
[null,null,"Total Actif liquide",{"$f":"SUM(D8,D16,D20,D23)","v":31285.965018425693},null,"Dettes fiscales",null,null,{"$f":"Profil_Investisseur!F96","v":0}]
["Actif non-liquide"]
["Biens"]
[null,"Résidence principale (valeur marchande)",null,{"$f":"'Bilan 2021'!D141","v":185566.0691835616}]
[null,"Investissement immobilier (valeur marchande)",null,{"$f":"'Bilan 2021'!D142","v":175256.84311780817}]
[null,"Autres propriétés (valeur)",null,{"$f":"'Bilan 2021'!D143","v":7831.2}]
[null,null,"Total biens",{"$f":"SUM(D28,D29,D30)","v":368654.11230136978}]
["Retraites"]
[null,"Plan Retraites (PERP)",null,{"$f":"'Bilan 2021'!D146","v":209.58410531068492}]
[null,"PERCO",null,{"$f":"'Bilan 2021'!D147","v":627.0448535342465}]
[null,null,"Total Retraites",{"$f":"SUM(D33,D34)","v":836.62895884493139}]
[]
[null,null,"Total Actif non-liquide",{"$f":"SUM(D31,D35)","v":369490.74126021471}]
[]
[null,null,null,null,null,"Total Passif",null,null,{"$f":"SUM(I10:I25)","v":400776.70627864037}]
[]
["Total Actifs",null,null,{"$f":"SUM(D37+D25)","v":400776.70627864043}]
[]
[]
[]
[]
[null,"Compte de Résultat"]
[]
[null,"RESSOURCES",null,{"$f":"F2","v":"2022-01-01"},{"$f":"F115","v":"2023-01-01"}]
[null,null,"Salaire",{"$f":"'Bilan 2020'!D49*((1+'Hypothèses exogènes'!E10/100)^$L$2)","v":42436}]
[null,null,"Rentes immobilières",{"$f":"'Bilan 2020'!D50*((1+'Hypothèses exogènes'!E11/100)^$L$2)","v":10821.610799999997}]
[null,null,"Prime d'intéressement et de participation",{"$f":"'Bilan 2020'!D51*((1+'Hypothèses exogènes'!E12/100)^$L$2)","v":600}]
[null,null,"Don(s) / Bourse(s) / Aide(s) / Allocation(s) / Pension(s)",{"$f":"'Bilan 2020'!D52*((1+'Hypothèses exogènes'!E13/100)^$L$2)","v":0}]
[null,null,"Plus-value PEA",{"$f":"D18*('Hypothèses exogènes'!D14/100+((1+'Hypothèses exogènes'!E14/100)^$L$2-1))","v":116.53717445074548}]
[null,null,"Plus-value des comptes-titres",{"$f":"D19*('Hypothèses exogènes'!D15/100+((1+'Hypothèses exogènes'!E15/100)^$L$2-1))","v":321.71762946376288}]
[null,null,"Plus-value des autres propiétés",{"$f":"D30*('Hypothèses exogènes'!D16/100+((1+'Hypothèses exogènes'!E16/100)^$L$2-1))","v":62.774899200000178}]
[null,null,"Plus-value du PEE",{"$f":"D22*('Hypothèses exogènes'!D17/100+((1+'Hypothèses exogènes'!E17/100)^$L$2-1))","v":46.335929633315928}]
[null,null,"Plus-value du PERCO",{"$f":"D34*('Hypothèses exogènes'!D18/100+((1+'Hypothèses exogènes'!E18/100)^$L$2-1))","v":13.173585327900803}]
[null,null,"Plus-value de Livret A",{"$f":"D10*('Hypothèses exogènes'!D19/100+((1+'Hypothèses exogènes'!E19/100)^$L$2-1))","v":7.6564093876284245}]
[null,null,"Plus-value du PEL",{"$f":"D11*('Hypothèses exogènes'!D20/100+((1+'Hypothèses exogènes'!E20/100)^$L$2-1))","v":4.9512120025993074}]
[null,null,"Plus-value du CEL",{"$f":"D12*('Hypothèses exogènes'!D21/100+((1+'Hypothèses exogènes'!E21/100)^$L$2-1))","v":5.5975143714113589}]
[null,null,"Plus-value du LDD",{"$f":"D13*('Hypothèses exogènes'!D22/100+((1+'Hypothèses exogènes'!E22/100)^$L$2-1))","v":5.5327155125282292}]
[null,null,"Plus-value de l'assurance-vie Fonds€",{"$f":"D14*('Hypothèses exogènes'!D23/100+((1+'Hypothèses exogènes'!E23/100)^$L$2-1))","v":298.13473835371457}]
[null,null,"Plus-value de l'assurance-vie UC",{"$f":"D15*('Hypothèses exogènes'!D24/100+((1+'Hypothèses exogènes'!E24/100)^$L$2-1))","v":452.94854850535762}]
[null,null,"Plus-value du plan retraites PERP",{"$f":"D33*('Hypothèses exogènes'!D25/100+((1+'Hypothèses exogènes'!E25/100)^$L$2-1))","v":4.6127365737828034}]
[null,null,"Plus-value résidence principale",{"$f":"D28*('Hypothèses exogènes'!D26/100+((1+'Hypothèses exogènes'!E26/100)^$L$2-1))","v":2970.727201559584}]
[null,null,"Plus-value du bien investissement locatif",{"$f":"D29*('Hypothèses exogènes'!D27/100+((1+'Hypothèses exogènes'!E27/100)^$L$2-1))","v":2805.6868014729403}]
[null,null,"Autres revenus",{"$f":"Profil_Investisseur!B59*12","v":0}]
[null,"Total des ressources ",null,{"$f":"SUM(D49:D67)","v":60973.997895815257}]
[]
[null,null,null,"[42]"]
[null,"CHARGES"]
[null,null,"Assurance habitation",{"$f":"(Profil_Investisseur!I109+Profil_Investisseur!E123)","v":620}]
[null,null,"Autre(s) assurance(s)",{"$f":"Profil_Investisseur!B127","v":600}]
[null,"Total assurances",null,{"$f":"D72+D73","v":1220}]
[null,null,"Intérêts crédit A (résidence principale)",{"$f":"VLOOKUP(F115,Tableau18[[#All],[Date du versement]:[Intérêts crédit A cumulés]],2,1)-VLOOKUP(F2,Tableau18[[#All],[Date du versement]:[Intérêts crédit A cumulés]],2,1)","v":2295.1299604229116}]
[null,null,"Ammortissement crédit A (résidence principale)",{"$f":"VLOOKUP(F115,Tableau18[#All],3,1)-VLOOKUP(F2,Tableau18[#All],3,1)","v":7737.5578439334058}]
[null,null,"Intérêts crédit B (Investissement locatif)",{"$f":"VLOOKUP(F115,Tableau19[[#All],[Date du versement]:[Intérêts crédit B cumulés]],2,1)-VLOOKUP(F2,Tableau19[[#All],[Date du versement]:[Intérêts crédit B cumulés]],2,1)","v":1353.5348250808856}]
[null,null,"Amortissement crédit B (investissement locatif)",{"$f":"VLOOKUP(F115,Tableau19[#All],3,1)-VLOOKUP(F2,Tableau19[#All],3,1)","v":10227.554988085976}]
[null,null,"Intérêts autres dettes",{"$f":"0","v":0}]
[null,null,"Ammortissement autres dettes",{"$f":"0","v":0}]
[null,"Total des remboursements",null,{"$f":"SUM(D75:D80)","v":21613.777617523177}]
[null,null,"Loyer + charges",{"$f":"Profil_Investisseur!B134*12","v":0}]
[null,null,"Transport, Alimentation, Pension Alimentaire,Loisirs",{"$f":"Profil_Investisseur!F63*12","v":11728.000000000002}]
[null,null,"Charges totales (propriétaire investissement locatif)",{"$f":"Profil_Investisseur!D123*12","v":600}]
[null,null,"Charges totales (propriétaire principal)",{"$f":"Profil_Investisseur!D114*12","v":600}]
[null,"Total dépenses personnelles",null,{"$f":"SUM(D82:D85)","v":12928.000000000002}]
[null,null,"Impôts sur le revenu",{"$f":"'Impôts revenus'!E9","v":3806.3532691475416}]
[null,null,"Impôts sur le foncier",{"$f":"'Impôts revenus'!F9","v":3238.5356666475454}]
[null,null,"Taxe d'habitation",{"$f":"Profil_Investisseur!J109+Profil_Investisseur!B135*12","v":881}]
[null,null,"Fiscalité sur la plus-value du PEA",{"$f":"D53*('Hypothèses exogènes'!D43/100+((1+'Hypothèses exogènes'!E43/100)^$L$2-1))","v":20.744665886802718}]
[null,null,"Fiscalité sur la plus-value des comptes-titres",{"$f":"D54*('Hypothèses exogènes'!D44/100+((1+'Hypothèses exogènes'!E44/100)^$L$2-1))","v":98.448490074576512}]
[null,null,"Fiscalité sur la plus-value des autres propiétés",{"$f":"D55*('Hypothèses exogènes'!D45/100+((1+'Hypothèses exogènes'!E45/100)^$L$2-1))","v":11.174497031692812}]
[null,null,"Fiscalité sur la plus-value du PEE",{"$f":"D56*('Hypothèses exogènes'!D46/100+((1+'Hypothèses exogènes'!E46/100)^$L$2-1))","v":8.2482124980969207}]
[null,null,"Fiscalité sur la plus-value du PERCO",{"$f":"D57*('Hypothèses exogènes'!D47/100+((1+'Hypothèses exogènes'!E47/100)^$L$2-1))","v":2.34501675063429}]
[null,null,"Fiscalité sur la plus-value de Livret A",{"$f":"D58*('Hypothèses exogènes'!D48/100+((1+'Hypothèses exogènes'!E48/100)^$L$2-1))","v":0}]
[null,null,"Fiscalité sur la plus-value du PEL",{"$f":"D59*('Hypothèses exogènes'!D49/100+((1+'Hypothèses exogènes'!E49/100)^$L$2-1))","v":1.5151154337034101}]
[null,null,"Fiscalité sur la plus-value du CEL",{"$f":"D60*('Hypothèses exogènes'!D50/100+((1+'Hypothèses exogènes'!E50/100)^$L$2-1))","v":0.99640793574056286}]
[null,null,"Fiscalité sur la plus-value du LDD",{"$f":"D61*('Hypothèses exogènes'!D51/100+((1+'Hypothèses exogènes'!E51/100)^$L$2-1))","v":3.3246087514780517E-2}]
[null,null,"Fiscalité sur la plus-value de l'assurance-vie Fonds€",{"$f":"D62*('Hypothèses exogènes'!D52/100+((1+'Hypothèses exogènes'!E52/100)^$L$2-1))","v":53.070666639606287}]
[null,null,"Fiscalité sur la plus-value de l'assurance-vie UC",{"$f":"D63*('Hypothèses exogènes'!D53/100+((1+'Hypothèses exogènes'!E53/100)^$L$2-1))","v":80.62891817089006}]
[null,null,"Fiscalité sur la plus-value du plan retraites PERP",{"$f":"D64*('Hypothèses exogènes'!D54/100+((1+'Hypothèses exogènes'!E54/100)^$L$2-1))","v":0.82110862476250168}]
[null,null,"Fiscalité sur la plus-value de la résidence principale",{"$f":"D65*('Hypothèses exogènes'!D55/100+((1+'Hypothèses exogènes'!E55/100)^$L$2-1))","v":0}]
[null,null,"Fiscalité sur la plus-value du bien investissement locatif",{"$f":"D66*('Hypothèses exogènes'!D56/100+((1+'Hypothèses exogènes'!E56/100)^$L$2-1))","v":0}]
[null,"Total fiscalité",null,{"$f":"SUM(D87:D103)","v":8203.9152809291099}]
[null,null,"Dépenses exceptionnelles",{"$f":"D49*'Hypothèses exogènes'!D57/100","v":2546.16},null,null,"Pour vérifier"]
[null,"Total des charges ",null,{"$f":"SUM(D74,D81,D86,D104,D105)","v":46511.852898452285},null,null,"Somme ammortissements + résultat net",null,{"$f":"D76+D78+D80+D108","v":32427.257829382354}]
[]
[null,"Résultat Net Comptable",null,{"$f":"D68-D106","v":14462.144997362971},null,null,"Différence fonds propres",null,{"$f":"I123-I10","v":32427.257829382434}]
[]
[null,null,null,null,null,null,"Différence Actifs",null,{"$f":"D154-D41","v":14462.144997362979}]
[]
[]
[]
[]
[null,null,"Bilan Actif Passif",null,"Date:",{"$f":"H115","v":"2023-01-01"},null,{"$f":"EDATE(F2,12)","v":"2023-01-01"}]
[]
["Actif",null,null,null,null,"Passif"]
["Actif liquide"]
["Compte(s) courant(s)",null,null,null,null,"Fonds propres"]
[null,"Compte(s) courant(s)",null,{"$f":"F162","v":1000},null,"Fonds propres liquide",null,null,{"$f":"D138-SUM(I126:I134)","v":-175597.49681108538}]
[null,null,"Total compte(s) courant(s)",{"$f":"D120","v":1000},null,"Fonds propres semi-liquide",null,null,{"$f":"D144","v":374493.30120360234}]
["Epargnes classiques",null,null,null,null,"Fonds propres non-liquide",null,null,{"$f":"D148","v":854.41528074661505}]
[null,"Livret A",null,{"$f":"D10+D58","v":1028.5109944047517},null,"Total Fonds propres",null,null,{"$f":"SUM(I120:I122)","v":199750.21967326358}]
[null,"PEL",null,{"$f":"D11+D59","v":314.22799397520203}]
[null,"CEL",null,{"$f":"D12+D60","v":514.04645354949344}]
[null,"LDD",null,{"$f":"D13+D61","v":415.09045572485695},null,"Capital restant dû crédit résidence principale",null,null,{"$f":"I16-D76","v":130805.58990273761}]
[null,"Assurance  vie Fonds euros",null,{"$f":"D14+D62+F163","v":15133.766519060204}]
[null,"Assurance vie Unités de compte",null,{"$f":"D15+D63+F164","v":10204.575946734598}]
[null,null,"Total épargnes classiques",{"$f":"SUM(D123:D128)","v":27610.218363449108}]
["Actifs financiers",null,null,null,null,"Capital restant dû crédit investissement immo locatif",null,null,{"$f":"I19-D78","v":84683.041700002243}]
[null,"PEA",null,{"$f":"D18+D53","v":3874.7097840397864}]
[null,"Compte-titres",null,{"$f":"D19+D54","v":4554.3431009706119},null,"Capital restant dû autres prêts / dettes…",null,null,{"$f":"0","v":0}]
[null,null,"Total actifs financiers",{"$f":"SUM(D131,D132)","v":8429.0528850103983}]
["Epargnes salariales",null,null,null,null,"Dettes fiscales",null,null,{"$f":"Profil_Investisseur!F173","v":0}]
[null,"PEE",null,{"$f":"D22+D56+D51","v":2851.8635431949597},null,"Résultat net comptable",null,null,{"$f":"D108","v":14462.144997362971}]
[null,null,"Total épargnes salariales",{"$f":"D135","v":2851.8635431949597}]
[]
[null,null,"Total Actif liquide",{"$f":"SUM(D121,D129,D133,D136)","v":39891.134791654469}]
["Actif non-liquide"]
["Biens"]
[null,"Résidence principale (valeur marchande)",null,{"$f":"D28+D65","v":188536.79638512118}]
[null,"Investissement immobilier (valeur marchande)",null,{"$f":"D29+D66","v":178062.52991928111}]
[null,"Autres propriétés (valeur)",null,{"$f":"D30+D55","v":7893.9748992000004}]
[null,null,"Total biens",{"$f":"SUM(D141,D142,D143)","v":374493.30120360234}]
["Retraites"]
[null,"Plan Retraites (PERP)",null,{"$f":"D33+D64","v":214.19684188446772},null,"Total Passif",null,null,{"$f":"SUM(I123:I134)","v":415238.85127600341}]
[null,"PERCO",null,{"$f":"D34+D57","v":640.21843886214731}]
[null,null,"Total Retraites",{"$f":"SUM(D146,D147)","v":854.41528074661505}]
[]
[null,null,"Total Actif non-liquide",{"$f":"SUM(D144,D148)","v":375347.71648434893}]
[]
[]
[]
["Total Actifs",null,null,{"$f":"SUM(D150+D138)","v":415238.85127600341}]
[]
[]
[]
[]
[]
[]
[null,null,null,null,"\"compte courant intermédiaire\"",{"$f":"D7+D49+D50+D52+D67-D106","v":7745.7579015477095}]
[null,null,null,null,"compte-courant final",{"$f":"MIN(1000,F161)","v":1000}]
[null,null,null,null,"Va dans Assurance-Vie Fonds euros",{"$f":"(F161-F162)*(1-'Hypothèses exogènes'!C3)","v":3372.8789507738547}]
[null,null,null,null,"Va dans Assurance-Vie Unités de compte",{"$f":"(F161-F162)*'Hypothèses exogènes'!C3","v":3372.8789507738547}]

{"sheet":"Bilan 2023","index":7,"n_rows":164,"n_cols":20,"rows_kept":164,"cut":false,"hidden":false,"merged":[[38,5,38,6],[40,0,40,1],[45,1,46,4],[118,5,118,6],[20,5,20,6],[18,5,18,6],[1,2,1,3],[3,0,3,1],[3,5,3,6],[5,5,5,6],[15,5,15,6]]}
[]
[null,null,"Bilan Actif Passif",null,"Date:",{"$f":"H2","v":"2023-01-01"},null,{"$f":"DATE(2023,1,1)","v":"2023-01-01"},null,null,{"$f":"YEAR(H2)","v":2023},{"$f":"K2-2020","v":3}]
[]
["Actif",null,null,null,null,"Passif"]
["Actif liquide"]
["Compte(s) courant(s)",null,null,null,null,"Fonds propres"]
[null,"Compte(s) courant(s)",null,{"$f":"'Bilan 2022'!D120","v":1000},null,"Fonds propres liquide",null,null,{"$f":"D25-SUM(I16:I26)","v":-175597.49681108538}]
[null,null,"Total compte(s) courant(s)",{"$f":"D7","v":1000},null,"Fonds propres semi-liquide",null,null,{"$f":"D31","v":374493.30120360234},null,null,null,null,null,null,null,null,null,null,"Titres financiers augmentent de 10%"]
["Epargnes classiques",null,null,null,null,"Fonds propres non-liquide",null,null,{"$f":"D35","v":854.41528074661505}]
[null,"Livret A",null,{"$f":"'Bilan 2022'!D123","v":1028.5109944047517},null,"Total Fonds propres",null,null,{"$f":"SUM(I7:I9)","v":199750.21967326358}]
[null,"PEL",null,{"$f":"'Bilan 2022'!D124","v":314.22799397520203},null,null,null,null,null,null,null,null,null,null,null,null,null,null,null,"Assurance vie de 1,5"]
[null,"CEL",null,{"$f":"'Bilan 2022'!D125","v":514.04645354949344}]
[null,"LDD",null,{"$f":"'Bilan 2022'!D126","v":415.09045572485695},null,null,null,null,null,null,null,null,null,null,null,null,null,null,null,"Plan retraite de 1%"]
[null,"Assurance  vie Fonds euros",null,{"$f":"'Bilan 2022'!D127","v":15133.766519060204}]
[null,"Assurance vie Unités de compte",null,{"$f":"'Bilan 2022'!D128","v":10204.575946734598}]
[null,null,"Total épargnes classiques",{"$f":"SUM(D10:D15)","v":27610.218363449108},null,"Capital restant dû crédit résidence principale",null,null,{"$f":"VLOOKUP(F2,Tableau1[#All],2,1)","v":130805.5899027376}]
["Actifs financiers"]
[null,"PEA",null,{"$f":"'Bilan 2022'!D131","v":3874.7097840397864}]
[null,"Compte-titres",null,{"$f":"'Bilan 2022'!D132","v":4554.3431009706119},null,"Capital restant dû crédit investissement immo locatif",null,null,{"$f":"VLOOKUP(F2,Tableau17[#All],2,1)","v":84683.041700002243}]
[null,null,"Total actifs financiers",{"$f":"SUM(D18,D19)","v":8429.0528850103983}]
["Epargnes salariales",null,null,null,null,"Capital restant dû autres prêts / dettes…",null,null,{"$f":"Profil_Investisseur!F100","v":0}]
[null,"PEE",null,{"$f":"'Bilan 2022'!D135","v":2851.8635431949597}]
[null,null,"Total épargnes salariales",{"$f":"D22","v":2851.8635431949597}]
[]
[null,null,"Total Actif liquide",{"$f":"SUM(D8,D16,D20,D23)","v":39891.134791654469},null,"Dettes fiscales",null,null,{"$f":"Profil_Investisseur!F96","v":0}]
["Actif non-liquide"]
["Biens"]
[null,"Résidence principale (valeur marchande)",null,{"$f":"'Bilan 2022'!D141","v":188536.79638512118}]
[null,"Investissement immobilier (valeur marchande)",null,{"$f":"'Bilan 2022'!D142","v":178062.52991928111}]
[null,"Autres propriétés (valeur)",null,{"$f":"'Bilan 2022'!D143","v":7893.9748992000004}]
[null,null,"Total biens",{"$f":"SUM(D28,D29,D30)","v":374493.30120360234}]
["Retraites"]
[null,"Plan Retraites (PERP)",null,{"$f":"'Bilan 2022'!D146","v":214.19684188446772}]
[null,"PERCO",null,{"$f":"'Bilan 2022'!D147","v":640.21843886214731}]
[null,null,"Total Retraites",{"$f":"SUM(D33,D34)","v":854.41528074661505}]
[]
[null,null,"Total Actif non-liquide",{"$f":"SUM(D31,D35)","v":375347.71648434893}]
[]
[null,null,null,null,null,"Total Passif",null,null,{"$f":"SUM(I10:I25)","v":415238.85127600341}]
[]
["Total Actifs",null,null,{"$f":"SUM(D37+D25)","v":415238.85127600341}]
[]
[]
[]
[]
[null,"Compte de Résultat"]
[]
[null,"RESSOURCES",null,{"$f":"F2","v":"2023-01-01"},{"$f":"F115","v":"2024-01-01"}]
[null,null,"Salaire",{"$f":"'Bilan 2020'!D49*((1+'Hypothèses exogènes'!E10/100)^$L$2)","v":43709.08}]
[null,null,"Rentes immobilières",{"$f":"'Bilan 2020'!D50*((1+'Hypothèses exogènes'!E11/100)^$L$2)","v":10832.432410799995}]
[null,null,"Prime d'intéressement et de participation",{"$f":"'Bilan 2020'!D51*((1+'Hypothèses exogènes'!E12/100)^$L$2)","v":600}]
[null,null,"Don(s) / Bourse(s) / Aide(s) / Allocation(s) / Pension(s)",{"$f":"'Bilan 2020'!D52*((1+'Hypothèses exogènes'!E13/100)^$L$2)","v":0}]
[null,null,"Plus-value PEA",{"$f":"D18*('Hypothèses exogènes'!D14/100+((1+'Hypothèses exogènes'!E14/100)^$L$2-1))","v":131.84485443868479}]
[null,null,"Plus-value des comptes-titres",{"$f":"D19*('Hypothèses exogènes'!D15/100+((1+'Hypothèses exogènes'!E15/100)^$L$2-1))","v":359.91619520766687}]
[null,null,"Plus-value des autres propiétés",{"$f":"D30*('Hypothèses exogènes'!D16/100+((1+'Hypothèses exogènes'!E16/100)^$L$2-1))","v":95.107114799955355}]
[null,null,"Plus-value du PEE",{"$f":"D22*('Hypothèses exogènes'!D17/100+((1+'Hypothèses exogènes'!E17/100)^$L$2-1))","v":68.521802352660075}]
[null,null,"Plus-value du PERCO",{"$f":"D34*('Hypothèses exogènes'!D18/100+((1+'Hypothèses exogènes'!E18/100)^$L$2-1))","v":15.382545716438463}]
[null,null,"Plus-value de Livret A",{"$f":"D10*('Hypothèses exogènes'!D19/100+((1+'Hypothèses exogènes'!E19/100)^$L$2-1))","v":7.7138324580356379}]
[null,null,"Plus-value du PEL",{"$f":"D11*('Hypothèses exogènes'!D20/100+((1+'Hypothèses exogènes'!E20/100)^$L$2-1))","v":5.978824525521909}]
[null,null,"Plus-value du CEL",{"$f":"D12*('Hypothèses exogènes'!D21/100+((1+'Hypothèses exogènes'!E21/100)^$L$2-1))","v":7.2105434831928301}]
[null,null,"Plus-value du LDD",{"$f":"D13*('Hypothèses exogènes'!D22/100+((1+'Hypothèses exogènes'!E22/100)^$L$2-1))","v":6.8602111692068855}]
[null,null,"Plus-value de l'assurance-vie Fonds€",{"$f":"D14*('Hypothèses exogènes'!D23/100+((1+'Hypothèses exogènes'!E23/100)^$L$2-1))","v":439.28824936045186}]
[null,null,"Plus-value de l'assurance-vie UC",{"$f":"D15*('Hypothèses exogènes'!D24/100+((1+'Hypothèses exogènes'!E24/100)^$L$2-1))","v":755.41441913246945}]
[null,null,"Plus-value du plan retraites PERP",{"$f":"D33*('Hypothèses exogènes'!D25/100+((1+'Hypothèses exogènes'!E25/100)^$L$2-1))","v":5.3607101451572374}]
[null,null,"Plus-value résidence principale",{"$f":"D28*('Hypothèses exogènes'!D26/100+((1+'Hypothèses exogènes'!E26/100)^$L$2-1))","v":3587.2947153131445}]
[null,null,"Plus-value du bien investissement locatif",{"$f":"D29*('Hypothèses exogènes'!D27/100+((1+'Hypothèses exogènes'!E27/100)^$L$2-1))","v":3388.0005644624143}]
[null,null,"Autres revenus",{"$f":"Profil_Investisseur!B59*12","v":0}]
[null,"Total des ressources ",null,{"$f":"SUM(D49:D67)","v":64015.406993364988}]
[]
[null,null,null,"[42]"]
[null,"CHARGES"]
[null,null,"Assurance habitation",{"$f":"(Profil_Investisseur!I109+Profil_Investisseur!E123)","v":620}]
[null,null,"Autre(s) assurance(s)",{"$f":"Profil_Investisseur!B127","v":600}]
[null,"Total assurances",null,{"$f":"D72+D73","v":1220}]
[null,null,"Intérêts crédit A (résidence principale)",{"$f":"VLOOKUP(F115,Tableau18[[#All],[Date du versement]:[Intérêts crédit A cumulés]],2,1)-VLOOKUP(F2,Tableau18[[#All],[Date du versement]:[Intérêts crédit A cumulés]],2,1)","v":2162.5617177734766}]
[null,null,"Ammortissement crédit A (résidence principale)",{"$f":"VLOOKUP(F115,Tableau18[#All],3,1)-VLOOKUP(F2,Tableau18[#All],3,1)","v":7870.1260865828372}]
[null,null,"Intérêts crédit B (Investissement locatif)",{"$f":"VLOOKUP(F115,Tableau19[[#All],[Date du versement]:[Intérêts crédit B cumulés]],2,1)-VLOOKUP(F2,Tableau19[[#All],[Date du versement]:[Intérêts crédit B cumulés]],2,1)","v":1199.0623766141944}]
[null,null,"Amortissement crédit B (investissement locatif)",{"$f":"VLOOKUP(F115,Tableau19[#All],3,1)-VLOOKUP(F2,Tableau19[#All],3,1)","v":10382.027436552671}]
[null,null,"Intérêts autres dettes",{"$f":"0","v":0}]
[null,null,"Ammortissement autres dettes",{"$f":"0","v":0}]
[null,"Total des remboursements",null,{"$f":"SUM(D75:D80)","v":21613.777617523177}]
[null,null,"Loyer + charges",{"$f":"Profil_Investisseur!B134*12","v":0}]
[null,null,"Transport, Alimentation, Pension Alimentaire,Loisirs",{"$f":"Profil_Investisseur!F63*12","v":11728.000000000002}]
[null,null,"Charges totales (propriétaire investissement locatif)",{"$f":"Profil_Investisseur!D123*12","v":600}]
[null,null,"Charges totales (propriétaire principal)",{"$f":"Profil_Investisseur!D114*12","v":600}]
[null,"Total dépenses personnelles",null,{"$f":"SUM(D82:D85)","v":12928.000000000002}]
[null,null,"Impôts sur le revenu",{"$f":"'Impôts revenus'!E10","v":4366.9006550347458}]
[null,null,"Impôts sur le foncier",{"$f":"'Impôts revenus'!F10","v":3754.3182395222502}]
[null,null,"Taxe d'habitation",{"$f":"Profil_Investisseur!J109+Profil_Investisseur!B135*12","v":881}]
[null,null,"Fiscalité sur la plus-value du PEA",{"$f":"D53*('Hypothèses exogènes'!D43/100+((1+'Hypothèses exogènes'!E43/100)^$L$2-1))","v":23.867482024282818}]
[null,null,"Fiscalité sur la plus-value des comptes-titres",{"$f":"D54*('Hypothèses exogènes'!D44/100+((1+'Hypothèses exogènes'!E44/100)^$L$2-1))","v":111.22383177417683}]
[null,null,"Fiscalité sur la plus-value des autres propiétés",{"$f":"D55*('Hypothèses exogènes'!D45/100+((1+'Hypothèses exogènes'!E45/100)^$L$2-1))","v":17.216958238783587}]
[null,null,"Fiscalité sur la plus-value du PEE",{"$f":"D56*('Hypothèses exogènes'!D46/100+((1+'Hypothèses exogènes'!E46/100)^$L$2-1))","v":12.404298164583636}]
[null,null,"Fiscalité sur la plus-value du PERCO",{"$f":"D57*('Hypothèses exogènes'!D47/100+((1+'Hypothèses exogènes'!E47/100)^$L$2-1))","v":2.7846565187384349}]
[null,null,"Fiscalité sur la plus-value de Livret A",{"$f":"D58*('Hypothèses exogènes'!D48/100+((1+'Hypothèses exogènes'!E48/100)^$L$2-1))","v":0}]
[null,null,"Fiscalité sur la plus-value du PEL",{"$f":"D59*('Hypothèses exogènes'!D49/100+((1+'Hypothèses exogènes'!E49/100)^$L$2-1))","v":1.8476183680767193}]
[null,null,"Fiscalité sur la plus-value du CEL",{"$f":"D60*('Hypothèses exogènes'!D50/100+((1+'Hypothèses exogènes'!E50/100)^$L$2-1))","v":1.3053032498166202}]
[null,null,"Fiscalité sur la plus-value du LDD",{"$f":"D61*('Hypothèses exogènes'!D51/100+((1+'Hypothèses exogènes'!E51/100)^$L$2-1))","v":6.1927311450129981E-2}]
[null,null,"Fiscalité sur la plus-value de l'assurance-vie Fonds€",{"$f":"D62*('Hypothèses exogènes'!D52/100+((1+'Hypothèses exogènes'!E52/100)^$L$2-1))","v":79.523045777757105}]
[null,null,"Fiscalité sur la plus-value de l'assurance-vie UC",{"$f":"D63*('Hypothèses exogènes'!D53/100+((1+'Hypothèses exogènes'!E53/100)^$L$2-1))","v":136.75042644848261}]
[null,null,"Fiscalité sur la plus-value du plan retraites PERP",{"$f":"D64*('Hypothèses exogènes'!D54/100+((1+'Hypothèses exogènes'!E54/100)^$L$2-1))","v":0.97043342018655143}]
[null,null,"Fiscalité sur la plus-value de la résidence principale",{"$f":"D65*('Hypothèses exogènes'!D55/100+((1+'Hypothèses exogènes'!E55/100)^$L$2-1))","v":0}]
[null,null,"Fiscalité sur la plus-value du bien investissement locatif",{"$f":"D66*('Hypothèses exogènes'!D56/100+((1+'Hypothèses exogènes'!E56/100)^$L$2-1))","v":0}]
[null,"Total fiscalité",null,{"$f":"SUM(D87:D103)","v":9390.174875853334}]
[null,null,"Dépenses exceptionnelles",{"$f":"D49*'Hypothèses exogènes'!D57/100","v":2622.5447999999997},null,null,"Pour vérifier"]
[null,"Total des charges ",null,{"$f":"SUM(D74,D81,D86,D104,D105)","v":47774.497293376509},null,null,"Somme ammortissements + résultat net",null,{"$f":"D76+D78+D80+D108","v":34493.063223123987}]
[]
[null,"Résultat Net Comptable",null,{"$f":"D68-D106","v":16240.909699988479},null,null,"Différence fonds propres",null,{"$f":"I123-I10","v":34493.0632231239}]
[]
[null,null,null,null,null,null,"Différence Actifs",null,{"$f":"D154-D41","v":16240.909699988435}]
[]
[]
[]
[]
[null,null,"Bilan Actif Passif",null,"Date:",{"$f":"H115","v":"2024-01-01"},null,{"$f":"EDATE(F2,12)","v":"2024-01-01"}]
[]
["Actif",null,null,null,null,"Passif"]
["Actif liquide"]
["Compte(s) courant(s)",null,null,null,null,"Fonds propres"]
[null,"Compte(s) courant(s)",null,{"$f":"F162","v":1000},null,"Fonds propres liquide",null,null,{"$f":"D138-SUM(I126:I134)","v":-148195.5792383985}]
[null,null,"Total compte(s) courant(s)",{"$f":"D120","v":1000},null,"Fonds propres semi-liquide",null,null,{"$f":"D144","v":381563.70359817776}]
["Epargnes classiques",null,null,null,null,"Fonds propres non-liquide",null,null,{"$f":"D148","v":875.15853660821074}]
[null,"Livret A",null,{"$f":"D10+D58","v":1036.2248268627873},null,"Total Fonds propres",null,null,{"$f":"SUM(I120:I122)","v":234243.28289638748}]
[null,"PEL",null,{"$f":"D11+D59","v":320.20681850072395}]
[null,"CEL",null,{"$f":"D12+D60","v":521.25699703268629}]
[null,"LDD",null,{"$f":"D13+D61","v":421.95066689406383},null,"Capital restant dû crédit résidence principale",null,null,{"$f":"I16-D76","v":122935.46381615476}]
[null,"Assurance  vie Fonds euros",null,{"$f":"D14+D62+F163","v":18956.5623271324}]
[null,"Assurance vie Unités de compte",null,{"$f":"D15+D63+F164","v":14343.497924578809}]
[null,null,"Total épargnes classiques",{"$f":"SUM(D123:D128)","v":35599.699561001471}]
["Actifs financiers",null,null,null,null,"Capital restant dû crédit investissement immo locatif",null,null,{"$f":"I19-D78","v":74301.014263449571}]
[null,"PEA",null,{"$f":"D18+D53","v":4006.5546384784711}]
[null,"Compte-titres",null,{"$f":"D19+D54","v":4914.2592961782784},null,"Capital restant dû autres prêts / dettes…",null,null,{"$f":"0","v":0}]
[null,null,"Total actifs financiers",{"$f":"SUM(D131,D132)","v":8920.8139346567496}]
["Epargnes salariales",null,null,null,null,"Dettes fiscales",null,null,{"$f":"Profil_Investisseur!F173","v":0}]
[null,"PEE",null,{"$f":"D22+D56+D51","v":3520.3853455476196},null,"Résultat net comptable",null,null,{"$f":"D108","v":16240.909699988479}]
[null,null,"Total épargnes salariales",{"$f":"D135","v":3520.3853455476196}]
[]
[null,null,"Total Actif liquide",{"$f":"SUM(D121,D129,D133,D136)","v":49040.898841205839}]
["Actif non-liquide"]
["Biens"]
[null,"Résidence principale (valeur marchande)",null,{"$f":"D28+D65","v":192124.09110043434}]
[null,"Investissement immobilier (valeur marchande)",null,{"$f":"D29+D66","v":181450.53048374353}]
[null,"Autres propriétés (valeur)",null,{"$f":"D30+D55","v":7989.082013999956}]
[null,null,"Total biens",{"$f":"SUM(D141,D142,D143)","v":381563.70359817776}]
["Retraites"]
[null,"Plan Retraites (PERP)",null,{"$f":"D33+D64","v":219.55755202962496},null,"Total Passif",null,null,{"$f":"SUM(I123:I134)","v":431479.76097599184}]
[null,"PERCO",null,{"$f":"D34+D57","v":655.60098457858578}]
[null,null,"Total Retraites",{"$f":"SUM(D146,D147)","v":875.15853660821074}]
[]
[null,null,"Total Actif non-liquide",{"$f":"SUM(D144,D148)","v":382438.86213478597}]
[]
[]
[]
["Total Actifs",null,null,{"$f":"SUM(D150+D138)","v":431479.76097599184}]
[]
[]
[]
[]
[]
[]
[null,null,null,null,"\"compte courant intermédiaire\"",{"$f":"D7+D49+D50+D52+D67-D106","v":7767.0151174234852}]
[null,null,null,null,"compte-courant final",{"$f":"MIN(1000,F161)","v":1000}]
[null,null,null,null,"Va dans Assurance-Vie Fonds euros",{"$f":"(F161-F162)*(1-'Hypothèses exogènes'!C3)","v":3383.5075587117426}]
[null,null,null,null,"Va dans Assurance-Vie Unités de compte",{"$f":"(F161-F162)*'Hypothèses exogènes'!C3","v":3383.5075587117426}]

{"sheet":"2023 Chômage","index":8,"n_rows":164,"n_cols":20,"rows_kept":164,"cut":false,"hidden":false,"merged":[[18,5,18,6],[1,2,1,3],[3,0,3,1],[3,5,3,6],[5,5,5,6],[15,5,15,6],[20,5,20,6],[38,5,38,6],[40,0,40,1],[45,1,46,4],[118,5,118,6]]}
[]
[null,null,"Bilan Actif Passif",null,"Date:",{"$f":"H2","v":"2023-01-01"},null,{"$f":"DATE(2023,1,1)","v":"2023-01-01"},null,null,{"$f":"YEAR(H2)","v":2023},{"$f":"K2-2020","v":3}]
[]
["Actif",null,null,null,null,"Passif"]
["Actif liquide"]
["Compte(s) courant(s)",null,null,null,null,"Fonds propres"]
[null,"Compte(s) courant(s)",null,{"$f":"'Bilan 2022'!D120","v":1000},null,"Fonds propres liquide",null,null,{"$f":"D25-SUM(I16:I26)","v":-175597.49681108538}]
[null,null,"Total compte(s) courant(s)",{"$f":"D7","v":1000},null,"Fonds propres semi-liquide",null,null,{"$f":"D31","v":374493.30120360234},null,null,null,null,null,null,null,null,null,null,"Titres financiers augmentent de 10%"]
["Epargnes classiques",null,null,null,null,"Fonds propres non-liquide",null,null,{"$f":"D35","v":854.41528074661505}]
[null,"Livret A",null,{"$f":"'Bilan 2022'!D123","v":1028.5109944047517},null,"Total Fonds propres",null,null,{"$f":"SUM(I7:I9)","v":199750.21967326358}]
[null,"PEL",null,{"$f":"'Bilan 2022'!D124","v":314.22799397520203},null,null,null,null,null,null,null,null,null,null,null,null,null,null,null,"Assurance vie de 1,5"]
[null,"CEL",null,{"$f":"'Bilan 2022'!D125","v":514.04645354949344}]
[null,"LDD",null,{"$f":"'Bilan 2022'!D126","v":415.09045572485695},null,null,null,null,null,null,null,null,null,null,null,null,null,null,null,"Plan retraite de 1%"]
[null,"Assurance  vie Fonds euros",null,{"$f":"'Bilan 2022'!D127","v":15133.766519060204}]
[null,"Assurance vie Unités de compte",null,{"$f":"'Bilan 2022'!D128","v":10204.575946734598}]
[null,null,"Total épargnes classiques",{"$f":"SUM(D10:D15)","v":27610.218363449108},null,"Capital restant dû crédit résidence principale",null,null,{"$f":"VLOOKUP(F2,Tableau1[#All],2,1)","v":130805.5899027376}]
["Actifs financiers"]
[null,"PEA",null,{"$f":"'Bilan 2022'!D131","v":3874.7097840397864}]
[null,"Compte-titres",null,{"$f":"'Bilan 2022'!D132","v":4554.3431009706119},null,"Capital restant dû crédit investissement immo locatif",null,null,{"$f":"VLOOKUP(F2,Tableau17[#All],2,1)","v":84683.041700002243}]
[null,null,"Total actifs financiers",{"$f":"SUM(D18,D19)","v":8429.0528850103983}]
["Epargnes salariales",null,null,null,null,"Capital restant dû autres prêts / dettes…",null,null,{"$f":"Profil_Investisseur!F100","v":0}]
[null,"PEE",null,{"$f":"'Bilan 2022'!D135","v":2851.8635431949597}]
[null,null,"Total épargnes salariales",{"$f":"D22","v":2851.8635431949597}]
[]
[null,null,"Total Actif liquide",{"$f":"SUM(D8,D16,D20,D23)","v":39891.134791654469},null,"Dettes fiscales",null,null,{"$f":"Profil_Investisseur!F96","v":0}]
["Actif non-liquide"]
["Biens"]
[null,"Résidence principale (valeur marchande)",null,{"$f":"'Bilan 2022'!D141","v":188536.79638512118}]
[null,"Investissement immobilier (valeur marchande)",null,{"$f":"'Bilan 2022'!D142","v":178062.52991928111}]
[null,"Autres propriétés (valeur)",null,{"$f":"'Bilan 2022'!D143","v":7893.9748992000004}]
[null,null,"Total biens",{"$f":"SUM(D28,D29,D30)","v":374493.30120360234}]
["Retraites"]
[null,"Plan Retraites (PERP)",null,{"$f":"'Bilan 2022'!D146","v":214.19684188446772}]
[null,"PERCO",null,{"$f":"'Bilan 2022'!D147","v":640.21843886214731}]
[null,null,"Total Retraites",{"$f":"SUM(D33,D34)","v":854.41528074661505}]
[]
[null,null,"Total Actif non-liquide",{"$f":"SUM(D31,D35)","v":375347.71648434893}]
[]
[null,null,null,null,null,"Total Passif",null,null,{"$f":"SUM(I10:I25)","v":415238.85127600341}]
[]
["Total Actifs",null,null,{"$f":"SUM(D37+D25)","v":415238.85127600341}]
[]
[]
[]
[]
[null,"Compte de Résultat"]
[]
[null,"RESSOURCES",null,{"$f":"F2","v":"2023-01-01"},{"$f":"F115","v":"2024-01-01"}]
[null,null,"Salaire",{"$f":"'Bilan 2020'!D49*10/12/2","v":16666.666666666668}]
[null,null,"Rentes immobilières",{"$f":"'Bilan 2020'!D50*((1+'Hypothèses exogènes'!E11/100)^$L$2)","v":10832.432410799995}]
[null,null,"Prime d'intéressement et de participation",{"$f":"'Bilan 2020'!D51*((1+'Hypothèses exogènes'!E12/100)^$L$2)","v":600}]
[null,null,"Don(s) / Bourse(s) / Aide(s) / Allocation(s) / Pension(s)",{"$f":"'Bilan 2020'!D52*((1+'Hypothèses exogènes'!E13/100)^$L$2)","v":0}]
[null,null,"Plus-value PEA",{"$f":"D18*('Hypothèses exogènes'!D14/100+((1+'Hypothèses exogènes'!E14/100)^$L$2-1))","v":131.84485443868479}]
[null,null,"Plus-value des comptes-titres",{"$f":"D19*('Hypothèses exogènes'!D15/100+((1+'Hypothèses exogènes'!E15/100)^$L$2-1))","v":359.91619520766687}]
[null,null,"Plus-value des autres propiétés",{"$f":"D30*('Hypothèses exogènes'!D16/100+((1+'Hypothèses exogènes'!E16/100)^$L$2-1))","v":95.107114799955355}]
[null,null,"Plus-value du PEE",{"$f":"D22*('Hypothèses exogènes'!D17/100+((1+'Hypothèses exogènes'!E17/100)^$L$2-1))","v":68.521802352660075}]
[null,null,"Plus-value du PERCO",{"$f":"D34*('Hypothèses exogènes'!D18/100+((1+'Hypothèses exogènes'!E18/100)^$L$2-1))","v":15.382545716438463}]
[null,null,"Plus-value de Livret A",{"$f":"D10*('Hypothèses exogènes'!D19/100+((1+'Hypothèses exogènes'!E19/100)^$L$2-1))","v":7.7138324580356379}]
[null,null,"Plus-value du PEL",{"$f":"D11*('Hypothèses exogènes'!D20/100+((1+'Hypothèses exogènes'!E20/100)^$L$2-1))","v":5.978824525521909}]
[null,null,"Plus-value du CEL",{"$f":"D12*('Hypothèses exogènes'!D21/100+((1+'Hypothèses exogènes'!E21/100)^$L$2-1))","v":7.2105434831928301}]
[null,null,"Plus-value du LDD",{"$f":"D13*('Hypothèses exogènes'!D22/100+((1+'Hypothèses exogènes'!E22/100)^$L$2-1))","v":6.8602111692068855}]
[null,null,"Plus-value de l'assurance-vie Fonds€",{"$f":"D14*('Hypothèses exogènes'!D23/100+((1+'Hypothèses exogènes'!E23/100)^$L$2-1))","v":439.28824936045186}]
[null,null,"Plus-value de l'assurance-vie UC",{"$f":"D15*('Hypothèses exogènes'!D24/100+((1+'Hypothèses exogènes'!E24/100)^$L$2-1))","v":755.41441913246945}]
[null,null,"Plus-value du plan retraites PERP",{"$f":"D33*('Hypothèses exogènes'!D25/100+((1+'Hypothèses exogènes'!E25/100)^$L$2-1))","v":5.3607101451572374}]
[null,null,"Plus-value résidence principale",{"$f":"D28*('Hypothèses exogènes'!D26/100+((1+'Hypothèses exogènes'!E26/100)^$L$2-1))","v":3587.2947153131445}]
[null,null,"Plus-value du bien investissement locatif",{"$f":"D29*('Hypothèses exogènes'!D27/100+((1+'Hypothèses exogènes'!E27/100)^$L$2-1))","v":3388.0005644624143}]
[null,null,"Autres revenus",{"$f":"Profil_Investisseur!B59*12","v":0}]
[null,"Total des ressources ",null,{"$f":"SUM(D49:D67)","v":36972.993660031672}]
[]
[null,null,null,"[42]"]
[null,"CHARGES"]
[null,null,"Assurance habitation",{"$f":"(Profil_Investisseur!I109+Profil_Investisseur!E123)","v":620}]
[null,null,"Autre(s) assurance(s)",{"$f":"Profil_Investisseur!B127","v":600}]
[null,"Total assurances",null,{"$f":"D72+D73","v":1220}]
[null,null,"Intérêts crédit A (résidence principale)",{"$f":"VLOOKUP(F115,Tableau18[[#All],[Date du versement]:[Intérêts crédit A cumulés]],2,1)-VLOOKUP(F2,Tableau18[[#All],[Date du versement]:[Intérêts crédit A cumulés]],2,1)","v":2162.5617177734766}]
[null,null,"Ammortissement crédit A (résidence principale)",{"$f":"VLOOKUP(F115,Tableau18[#All],3,1)-VLOOKUP(F2,Tableau18[#All],3,1)","v":7870.1260865828372}]
[null,null,"Intérêts crédit B (Investissement locatif)",{"$f":"VLOOKUP(F115,Tableau19[[#All],[Date du versement]:[Intérêts crédit B cumulés]],2,1)-VLOOKUP(F2,Tableau19[[#All],[Date du versement]:[Intérêts crédit B cumulés]],2,1)","v":1199.0623766141944}]
[null,null,"Amortissement crédit B (investissement locatif)",{"$f":"VLOOKUP(F115,Tableau19[#All],3,1)-VLOOKUP(F2,Tableau19[#All],3,1)","v":10382.027436552671}]
[null,null,"Intérêts autres dettes",{"$f":"0","v":0}]
[null,null,"Ammortissement autres dettes",{"$f":"0","v":0}]
[null,"Total des remboursements",null,{"$f":"SUM(D75:D80)","v":21613.777617523177}]
[null,null,"Loyer + charges",{"$f":"Profil_Investisseur!B134*12","v":0}]
[null,null,"Transport, Alimentation, Pension Alimentaire,Loisirs",{"$f":"Profil_Investisseur!F63*12","v":11728.000000000002}]
[null,null,"Charges totales (propriétaire investissement locatif)",{"$f":"Profil_Investisseur!D123*12","v":600}]
[null,null,"Charges totales (propriétaire principal)",{"$f":"Profil_Investisseur!D114*12","v":600}]
[null,"Total dépenses personnelles",null,{"$f":"SUM(D82:D85)","v":12928.000000000002}]
[null,null,"Impôts sur le revenu",{"$f":"'Impôts revenus'!E10","v":4366.9006550347458}]
[null,null,"Impôts sur le foncier",{"$f":"'Impôts revenus'!F10","v":3754.3182395222502}]
[null,null,"Taxe d'habitation",{"$f":"Profil_Investisseur!J109+Profil_Investisseur!B135*12","v":881}]
[null,null,"Fiscalité sur la plus-value du PEA",{"$f":"D53*('Hypothèses exogènes'!D43/100+((1+'Hypothèses exogènes'!E43/100)^$L$2-1))","v":23.867482024282818}]
[null,null,"Fiscalité sur la plus-value des comptes-titres",{"$f":"D54*('Hypothèses exogènes'!D44/100+((1+'Hypothèses exogènes'!E44/100)^$L$2-1))","v":111.22383177417683}]
[null,null,"Fiscalité sur la plus-value des autres propiétés",{"$f":"D55*('Hypothèses exogènes'!D45/100+((1+'Hypothèses exogènes'!E45/100)^$L$2-1))","v":17.216958238783587}]
[null,null,"Fiscalité sur la plus-value du PEE",{"$f":"D56*('Hypothèses exogènes'!D46/100+((1+'Hypothèses exogènes'!E46/100)^$L$2-1))","v":12.404298164583636}]
[null,null,"Fiscalité sur la plus-value du PERCO",{"$f":"D57*('Hypothèses exogènes'!D47/100+((1+'Hypothèses exogènes'!E47/100)^$L$2-1))","v":2.7846565187384349}]
[null,null,"Fiscalité sur la plus-value de Livret A",{"$f":"D58*('Hypothèses exogènes'!D48/100+((1+'Hypothèses exogènes'!E48/100)^$L$2-1))","v":0}]
[null,null,"Fiscalité sur la plus-value du PEL",{"$f":"D59*('Hypothèses exogènes'!D49/100+((1+'Hypothèses exogènes'!E49/100)^$L$2-1))","v":1.8476183680767193}]
[null,null,"Fiscalité sur la plus-value du CEL",{"$f":"D60*('Hypothèses exogènes'!D50/100+((1+'Hypothèses exogènes'!E50/100)^$L$2-1))","v":1.3053032498166202}]
[null,null,"Fiscalité sur la plus-value du LDD",{"$f":"D61*('Hypothèses exogènes'!D51/100+((1+'Hypothèses exogènes'!E51/100)^$L$2-1))","v":6.1927311450129981E-2}]
[null,null,"Fiscalité sur la plus-value de l'assurance-vie Fonds€",{"$f":"D62*('Hypothèses exogènes'!D52/100+((1+'Hypothèses exogènes'!E52/100)^$L$2-1))","v":79.523045777757105}]
[null,null,"Fiscalité sur la plus-value de l'assurance-vie UC",{"$f":"D63*('Hypothèses exogènes'!D53/100+((1+'Hypothèses exogènes'!E53/100)^$L$2-1))","v":136.75042644848261}]
[null,null,"Fiscalité sur la plus-value du plan retraites PERP",{"$f":"D64*('Hypothèses exogènes'!D54/100+((1+'Hypothèses exogènes'!E54/100)^$L$2-1))","v":0.97043342018655143}]
[null,null,"Fiscalité sur la plus-value de la résidence principale",{"$f":"D65*('Hypothèses exogènes'!D55/100+((1+'Hypothèses exogènes'!E55/100)^$L$2-1))","v":0}]
[null,null,"Fiscalité sur la plus-value du bien investissement locatif",{"$f":"D66*('Hypothèses exogènes'!D56/100+((1+'Hypothèses exogènes'!E56/100)^$L$2-1))","v":0}]
[null,"Total fiscalité",null,{"$f":"SUM(D87:D103)","v":9390.174875853334}]
[null,null,"Dépenses exceptionnelles",{"$f":"D49*'Hypothèses exogènes'!D57/100","v":1000},null,null,"Pour vérifier"]
[null,"Total des charges ",null,{"$f":"SUM(D74,D81,D86,D104,D105)","v":46151.952493376513},null,null,"Somme ammortissements + résultat net",null,{"$f":"D76+D78+D80+D108","v":9073.1946897906673}]
[]
[null,"Résultat Net Comptable",null,{"$f":"D68-D106","v":-9178.958833344841},null,null,"Différence fonds propres",null,{"$f":"I123-I10","v":9073.1946897905727}]
[]
[null,null,null,null,null,null,"Différence Actifs",null,{"$f":"D154-D41","v":-9178.958833344921}]
[]
[]
[]
[]
[null,null,"Bilan Actif Passif",null,"Date:",{"$f":"H115","v":"2024-01-01"},null,{"$f":"EDATE(F2,12)","v":"2024-01-01"}]
[]
["Actif",null,null,null,null,"Passif"]
["Actif liquide"]
["Compte(s) courant(s)",null,null,null,null,"Fonds propres"]
[null,"Compte(s) courant(s)",null,{"$f":"F162","v":-17652.853415909849},null,"Fonds propres liquide",null,null,{"$f":"D138-SUM(I126:I134)","v":-173615.44777173182}]
[null,null,"Total compte(s) courant(s)",{"$f":"D120","v":-17652.853415909849},null,"Fonds propres semi-liquide",null,null,{"$f":"D144","v":381563.70359817776}]
["Epargnes classiques",null,null,null,null,"Fonds propres non-liquide",null,null,{"$f":"D148","v":875.15853660821074}]
[null,"Livret A",null,{"$f":"D10+D58","v":1036.2248268627873},null,"Total Fonds propres",null,null,{"$f":"SUM(I120:I122)","v":208823.41436305415}]
[null,"PEL",null,{"$f":"D11+D59","v":320.20681850072395}]
[null,"CEL",null,{"$f":"D12+D60","v":521.25699703268629}]
[null,"LDD",null,{"$f":"D13+D61","v":421.95066689406383},null,"Capital restant dû crédit résidence principale",null,null,{"$f":"I16-D76","v":122935.46381615476}]
[null,"Assurance  vie Fonds euros",null,{"$f":"D14+D62+F163","v":15573.054768420656}]
[null,"Assurance vie Unités de compte",null,{"$f":"D15+D63+F164","v":10959.990365867066}]
[null,null,"Total épargnes classiques",{"$f":"SUM(D123:D128)","v":28832.684443577982}]
["Actifs financiers",null,null,null,null,"Capital restant dû crédit investissement immo locatif",null,null,{"$f":"I19-D78","v":74301.014263449571}]
[null,"PEA",null,{"$f":"D18+D53","v":4006.5546384784711}]
[null,"Compte-titres",null,{"$f":"D19+D54","v":4914.2592961782784},null,"Capital restant dû autres prêts / dettes…",null,null,{"$f":"0","v":0}]
[null,null,"Total actifs financiers",{"$f":"SUM(D131,D132)","v":8920.8139346567496}]
["Epargnes salariales",null,null,null,null,"Dettes fiscales",null,null,{"$f":"Profil_Investisseur!F173","v":0}]
[null,"PEE",null,{"$f":"D22+D56+D51","v":3520.3853455476196},null,"Résultat net comptable",null,null,{"$f":"D108","v":-9178.958833344841}]
[null,null,"Total épargnes salariales",{"$f":"D135","v":3520.3853455476196}]
[]
[null,null,"Total Actif liquide",{"$f":"SUM(D121,D129,D133,D136)","v":23621.030307872505}]
["Actif non-liquide"]
["Biens"]
[null,"Résidence principale (valeur marchande)",null,{"$f":"D28+D65","v":192124.09110043434}]
[null,"Investissement immobilier (valeur marchande)",null,{"$f":"D29+D66","v":181450.53048374353}]
[null,"Autres propriétés (valeur)",null,{"$f":"D30+D55","v":7989.082013999956}]
[null,null,"Total biens",{"$f":"SUM(D141,D142,D143)","v":381563.70359817776}]
["Retraites"]
[null,"Plan Retraites (PERP)",null,{"$f":"D33+D64","v":219.55755202962496},null,"Total Passif",null,null,{"$f":"SUM(I123:I134)","v":406059.89244265849}]
[null,"PERCO",null,{"$f":"D34+D57","v":655.60098457858578}]
[null,null,"Total Retraites",{"$f":"SUM(D146,D147)","v":875.15853660821074}]
[]
[null,null,"Total Actif non-liquide",{"$f":"SUM(D144,D148)","v":382438.86213478597}]
[]
[]
[]
["Total Actifs",null,null,{"$f":"SUM(D150+D138)","v":406059.89244265849}]
[]
[]
[]
[]
[]
[]
[null,null,null,null,"\"compte courant intermédiaire\"",{"$f":"D7+D49+D50+D52+D67-D106","v":-17652.853415909849}]
[null,null,null,null,"compte-courant final",{"$f":"MIN(1000,F161)","v":-17652.853415909849}]
[null,null,null,null,"Va dans Assurance-Vie Fonds euros",{"$f":"(F161-F162)*(1-'Hypothèses exogènes'!C3)","v":0}]
[null,null,null,null,"Va dans Assurance-Vie Unités de compte",{"$f":"(F161-F162)*'Hypothèses exogènes'!C3","v":0}]

{"sheet":"Bilan 2024","index":9,"n_rows":164,"n_cols":20,"rows_kept":164,"cut":false,"hidden":false,"merged":[[38,5,38,6],[40,0,40,1],[45,1,46,4],[118,5,118,6],[20,5,20,6],[18,5,18,6],[1,2,1,3],[3,0,3,1],[3,5,3,6],[5,5,5,6],[15,5,15,6]]}
[]
[null,null,"Bilan Actif Passif",null,"Date:",{"$f":"H2","v":"2024-01-01"},null,{"$f":"DATE(2024,1,1)","v":"2024-01-01"},null,null,{"$f":"YEAR(H2)","v":2024},{"$f":"K2-2020","v":4}]
[]
["Actif",null,null,null,null,"Passif"]
["Actif liquide"]
["Compte(s) courant(s)",null,null,null,null,"Fonds propres"]
[null,"Compte(s) courant(s)",null,{"$f":"'Bilan 2023'!D120","v":1000},null,"Fonds propres liquide",null,null,{"$f":"D25-SUM(I16:I26)","v":-148195.5792383985}]
[null,null,"Total compte(s) courant(s)",{"$f":"D7","v":1000},null,"Fonds propres semi-liquide",null,null,{"$f":"D31","v":381563.70359817776},null,null,null,null,null,null,null,null,null,null,"Titres financiers augmentent de 10%"]
["Epargnes classiques",null,null,null,null,"Fonds propres non-liquide",null,null,{"$f":"D35","v":875.15853660821074}]
[null,"Livret A",null,{"$f":"'Bilan 2023'!D123","v":1036.2248268627873},null,"Total Fonds propres",null,null,{"$f":"SUM(I7:I9)","v":234243.28289638748}]
[null,"PEL",null,{"$f":"'Bilan 2023'!D124","v":320.20681850072395},null,null,null,null,null,null,null,null,null,null,null,null,null,null,null,"Assurance vie de 1,5"]
[null,"CEL",null,{"$f":"'Bilan 2023'!D125","v":521.25699703268629}]
[null,"LDD",null,{"$f":"'Bilan 2023'!D126","v":421.95066689406383},null,null,null,null,null,null,null,null,null,null,null,null,null,null,null,"Plan retraite de 1%"]
[null,"Assurance  vie Fonds euros",null,{"$f":"'Bilan 2023'!D127","v":18956.5623271324}]
[null,"Assurance vie Unités de compte",null,{"$f":"'Bilan 2023'!D128","v":14343.497924578809}]
[null,null,"Total épargnes classiques",{"$f":"SUM(D10:D15)","v":35599.699561001471},null,"Capital restant dû crédit résidence principale",null,null,{"$f":"VLOOKUP(F2,Tableau1[#All],2,1)","v":122935.46381615475}]
["Actifs financiers"]
[null,"PEA",null,{"$f":"'Bilan 2023'!D131","v":4006.5546384784711}]
[null,"Compte-titres",null,{"$f":"'Bilan 2023'!D132","v":4914.2592961782784},null,"Capital restant dû crédit investissement immo locatif",null,null,{"$f":"VLOOKUP(F2,Tableau17[#All],2,1)","v":74301.014263449571}]
[null,null,"Total actifs financiers",{"$f":"SUM(D18,D19)","v":8920.8139346567496}]
["Epargnes salariales",null,null,null,null,"Capital restant dû autres prêts / dettes…",null,null,{"$f":"Profil_Investisseur!F100","v":0}]
[null,"PEE",null,{"$f":"'Bilan 2023'!D135","v":3520.3853455476196}]
[null,null,"Total épargnes salariales",{"$f":"D22","v":3520.3853455476196}]
[]
[null,null,"Total Actif liquide",{"$f":"SUM(D8,D16,D20,D23)","v":49040.898841205839},null,"Dettes fiscales",null,null,{"$f":"Profil_Investisseur!F96","v":0}]
["Actif non-liquide"]
["Biens"]
[null,"Résidence principale (valeur marchande)",null,{"$f":"'Bilan 2023'!D141","v":192124.09110043434}]
[null,"Investissement immobilier (valeur marchande)",null,{"$f":"'Bilan 2023'!D142","v":181450.53048374353}]
[null,"Autres propriétés (valeur)",null,{"$f":"'Bilan 2023'!D143","v":7989.082013999956}]
[null,null,"Total biens",{"$f":"SUM(D28,D29,D30)","v":381563.70359817776}]
["Retraites"]
[null,"Plan Retraites (PERP)",null,{"$f":"'Bilan 2023'!D146","v":219.55755202962496}]
[null,"PERCO",null,{"$f":"'Bilan 2023'!D147","v":655.60098457858578}]
[null,null,"Total Retraites",{"$f":"SUM(D33,D34)","v":875.15853660821074}]
[]
[null,null,"Total Actif non-liquide",{"$f":"SUM(D31,D35)","v":382438.86213478597}]
[]
[null,null,null,null,null,"Total Passif",null,null,{"$f":"SUM(I10:I25)","v":431479.76097599184}]
[]
["Total Actifs",null,null,{"$f":"SUM(D37+D25)","v":431479.76097599184}]
[]
[]
[]
[]
[null,"Compte de Résultat"]
[]
[null,"RESSOURCES",null,{"$f":"F2","v":"2024-01-01"},{"$f":"F115","v":"2025-01-01"}]
[null,null,"Salaire",{"$f":"'Bilan 2020'!D49*((1+'Hypothèses exogènes'!E10/100)^$L$2)","v":45020.352399999996}]
[null,null,"Rentes immobilières",{"$f":"'Bilan 2020'!D50*((1+'Hypothèses exogènes'!E11/100)^$L$2)","v":10843.264843210794}]
[null,null,"Prime d'intéressement et de participation",{"$f":"'Bilan 2020'!D51*((1+'Hypothèses exogènes'!E12/100)^$L$2)","v":600}]
[null,null,"Don(s) / Bourse(s) / Aide(s) / Allocation(s) / Pension(s)",{"$f":"'Bilan 2020'!D52*((1+'Hypothèses exogènes'!E13/100)^$L$2)","v":0}]
[null,null,"Plus-value PEA",{"$f":"D18*('Hypothèses exogènes'!D14/100+((1+'Hypothèses exogènes'!E14/100)^$L$2-1))","v":148.45930860661113}]
[null,null,"Plus-value des comptes-titres",{"$f":"D19*('Hypothèses exogènes'!D15/100+((1+'Hypothèses exogènes'!E15/100)^$L$2-1))","v":403.23516342666898}]
[null,null,"Plus-value des autres propiétés",{"$f":"D30*('Hypothèses exogènes'!D16/100+((1+'Hypothèses exogènes'!E16/100)^$L$2-1))","v":128.59431134754456}]
[null,null,"Plus-value du PEE",{"$f":"D22*('Hypothèses exogènes'!D17/100+((1+'Hypothèses exogènes'!E17/100)^$L$2-1))","v":95.240885625212044}]
[null,null,"Plus-value du PERCO",{"$f":"D34*('Hypothèses exogènes'!D18/100+((1+'Hypothèses exogènes'!E18/100)^$L$2-1))","v":17.73669989479874}]
[null,null,"Plus-value de Livret A",{"$f":"D10*('Hypothèses exogènes'!D19/100+((1+'Hypothèses exogènes'!E19/100)^$L$2-1))","v":7.7716862014709038}]
[null,null,"Plus-value du PEL",{"$f":"D11*('Hypothèses exogènes'!D20/100+((1+'Hypothèses exogènes'!E20/100)^$L$2-1))","v":7.0618757834879551}]
[null,null,"Plus-value du CEL",{"$f":"D12*('Hypothèses exogènes'!D21/100+((1+'Hypothèses exogènes'!E21/100)^$L$2-1))","v":8.8895731653726635}]
[null,null,"Plus-value du LDD",{"$f":"D13*('Hypothèses exogènes'!D22/100+((1+'Hypothèses exogènes'!E22/100)^$L$2-1))","v":8.2508689452963377}]
[null,null,"Plus-value de l'assurance-vie Fonds€",{"$f":"D14*('Hypothèses exogènes'!D23/100+((1+'Hypothèses exogènes'!E23/100)^$L$2-1))","v":607.63569767810532}]
[null,null,"Plus-value de l'assurance-vie UC",{"$f":"D15*('Hypothèses exogènes'!D24/100+((1+'Hypothèses exogènes'!E24/100)^$L$2-1))","v":1105.2254393400874}]
[null,null,"Plus-value du plan retraites PERP",{"$f":"D33*('Hypothèses exogènes'!D25/100+((1+'Hypothèses exogènes'!E25/100)^$L$2-1))","v":6.1594912946387685}]
[null,null,"Plus-value résidence principale",{"$f":"D28*('Hypothèses exogènes'!D26/100+((1+'Hypothèses exogènes'!E26/100)^$L$2-1))","v":4237.125470092772}]
[null,null,"Plus-value du bien investissement locatif",{"$f":"D29*('Hypothèses exogènes'!D27/100+((1+'Hypothèses exogènes'!E27/100)^$L$2-1))","v":4001.7296106431731}]
[null,null,"Autres revenus",{"$f":"Profil_Investisseur!B59*12","v":0}]
[null,"Total des ressources ",null,{"$f":"SUM(D49:D67)","v":67246.733325256035}]
[]
[null,null,null,"[42]"]
[null,"CHARGES"]
[null,null,"Assurance habitation",{"$f":"(Profil_Investisseur!I109+Profil_Investisseur!E123)","v":620}]
[null,null,"Autre(s) assurance(s)",{"$f":"Profil_Investisseur!B127","v":600}]
[null,"Total assurances",null,{"$f":"D72+D73","v":1220}]
[null,null,"Intérêts crédit A (résidence principale)",{"$f":"VLOOKUP(F115,Tableau18[[#All],[Date du versement]:[Intérêts crédit A cumulés]],2,1)-VLOOKUP(F2,Tableau18[[#All],[Date du versement]:[Intérêts crédit A cumulés]],2,1)","v":2027.7221720444904}]
[null,null,"Ammortissement crédit A (résidence principale)",{"$f":"VLOOKUP(F115,Tableau18[#All],3,1)-VLOOKUP(F2,Tableau18[#All],3,1)","v":8004.9656323118252}]
[null,null,"Intérêts crédit B (Investissement locatif)",{"$f":"VLOOKUP(F115,Tableau19[[#All],[Date du versement]:[Intérêts crédit B cumulés]],2,1)-VLOOKUP(F2,Tableau19[[#All],[Date du versement]:[Intérêts crédit B cumulés]],2,1)","v":1042.2568448873244}]
[null,null,"Amortissement crédit B (investissement locatif)",{"$f":"VLOOKUP(F115,Tableau19[#All],3,1)-VLOOKUP(F2,Tableau19[#All],3,1)","v":10538.832968279545}]
[null,null,"Intérêts autres dettes",{"$f":"0","v":0}]
[null,null,"Ammortissement autres dettes",{"$f":"0","v":0}]
[null,"Total des remboursements",null,{"$f":"SUM(D75:D80)","v":21613.777617523185}]
[null,null,"Loyer + charges",{"$f":"Profil_Investisseur!B134*12","v":0}]
[null,null,"Transport, Alimentation, Pension Alimentaire,Loisirs",{"$f":"Profil_Investisseur!F63*12","v":11728.000000000002}]
[null,null,"Charges totales (propriétaire investissement locatif)",{"$f":"Profil_Investisseur!D123*12","v":600}]
[null,null,"Charges totales (propriétaire principal)",{"$f":"Profil_Investisseur!D114*12","v":600}]
[null,"Total dépenses personnelles",null,{"$f":"SUM(D82:D85)","v":12928.000000000002}]
[null,null,"Impôts sur le revenu",{"$f":"'Impôts revenus'!E11","v":3977.0184285669302}]
[null,null,"Impôts sur le foncier",{"$f":"'Impôts revenus'!F11","v":3319.4473759768757}]
[null,null,"Taxe d'habitation",{"$f":"Profil_Investisseur!J109+Profil_Investisseur!B135*12","v":881}]
[null,null,"Fiscalité sur la plus-value du PEA",{"$f":"D53*('Hypothèses exogènes'!D43/100+((1+'Hypothèses exogènes'!E43/100)^$L$2-1))","v":27.324545631911661}]
[null,null,"Fiscalité sur la plus-value des comptes-titres",{"$f":"D54*('Hypothèses exogènes'!D44/100+((1+'Hypothèses exogènes'!E44/100)^$L$2-1))","v":125.83118927000525}]
[null,null,"Fiscalité sur la plus-value des autres propiétés",{"$f":"D55*('Hypothèses exogènes'!D45/100+((1+'Hypothèses exogènes'!E45/100)^$L$2-1))","v":23.668311279362666}]
[null,null,"Fiscalité sur la plus-value du PEE",{"$f":"D56*('Hypothèses exogènes'!D46/100+((1+'Hypothèses exogènes'!E46/100)^$L$2-1))","v":17.529476256592886}]
[null,null,"Fiscalité sur la plus-value du PERCO",{"$f":"D57*('Hypothèses exogènes'!D47/100+((1+'Hypothèses exogènes'!E47/100)^$L$2-1))","v":3.2645124794375393}]
[null,null,"Fiscalité sur la plus-value de Livret A",{"$f":"D58*('Hypothèses exogènes'!D48/100+((1+'Hypothèses exogènes'!E48/100)^$L$2-1))","v":0}]
[null,null,"Fiscalité sur la plus-value du PEL",{"$f":"D59*('Hypothèses exogènes'!D49/100+((1+'Hypothèses exogènes'!E49/100)^$L$2-1))","v":2.2036873489951434}]
[null,null,"Fiscalité sur la plus-value du CEL",{"$f":"D60*('Hypothèses exogènes'!D50/100+((1+'Hypothèses exogènes'!E50/100)^$L$2-1))","v":1.6361624601734528}]
[null,null,"Fiscalité sur la plus-value du LDD",{"$f":"D61*('Hypothèses exogènes'!D51/100+((1+'Hypothèses exogènes'!E51/100)^$L$2-1))","v":9.9456866028764343E-2}]
[null,null,"Fiscalité sur la plus-value de l'assurance-vie Fonds€",{"$f":"D62*('Hypothèses exogènes'!D52/100+((1+'Hypothèses exogènes'!E52/100)^$L$2-1))","v":111.83784637431953}]
[null,null,"Fiscalité sur la plus-value de l'assurance-vie UC",{"$f":"D63*('Hypothèses exogènes'!D53/100+((1+'Hypothèses exogènes'!E53/100)^$L$2-1))","v":203.42128246617057}]
[null,null,"Fiscalité sur la plus-value du plan retraites PERP",{"$f":"D64*('Hypothèses exogènes'!D54/100+((1+'Hypothèses exogènes'!E54/100)^$L$2-1))","v":1.1336796764674193}]
[null,null,"Fiscalité sur la plus-value de la résidence principale",{"$f":"D65*('Hypothèses exogènes'!D55/100+((1+'Hypothèses exogènes'!E55/100)^$L$2-1))","v":0}]
[null,null,"Fiscalité sur la plus-value du bien investissement locatif",{"$f":"D66*('Hypothèses exogènes'!D56/100+((1+'Hypothèses exogènes'!E56/100)^$L$2-1))","v":0}]
[null,"Total fiscalité",null,{"$f":"SUM(D87:D103)","v":8695.4159546532737}]
[null,null,"Dépenses exceptionnelles",{"$f":"D49*'Hypothèses exogènes'!D57/100","v":2701.2211439999996},null,null,"Pour vérifier"]
[null,"Total des charges ",null,{"$f":"SUM(D74,D81,D86,D104,D105)","v":47158.414716176463},null,null,"Somme ammortissements + résultat net",null,{"$f":"D76+D78+D80+D108","v":38632.117209670942}]
[]
[null,"Résultat Net Comptable",null,{"$f":"D68-D106","v":20088.318609079572},null,null,"Différence fonds propres",null,{"$f":"I123-I10","v":38632.117209670978}]
[]
[null,null,null,null,null,null,"Différence Actifs",null,{"$f":"D154-D41","v":20088.318609079579}]
[]
[]
[]
[]
[null,null,"Bilan Actif Passif",null,"Date:",{"$f":"H115","v":"2025-01-01"},null,{"$f":"EDATE(F2,12)","v":"2025-01-01"}]
[]
["Actif",null,null,null,null,"Passif"]
["Actif liquide"]
["Compte(s) courant(s)",null,null,null,null,"Fonds propres"]
[null,"Compte(s) courant(s)",null,{"$f":"F162","v":1000},null,"Fonds propres liquide",null,null,{"$f":"D138-SUM(I126:I134)","v":-117954.80761200048}]
[null,null,"Total compte(s) courant(s)",{"$f":"D120","v":1000},null,"Fonds propres semi-liquide",null,null,{"$f":"D144","v":389931.15299026133}]
["Epargnes classiques",null,null,null,null,"Fonds propres non-liquide",null,null,{"$f":"D148","v":899.0547277976483}]
[null,"Livret A",null,{"$f":"D10+D58","v":1043.9965130642581},null,"Total Fonds propres",null,null,{"$f":"SUM(I120:I122)","v":272875.40010605846}]
[null,"PEL",null,{"$f":"D11+D59","v":327.2686942842119}]
[null,"CEL",null,{"$f":"D12+D60","v":530.14657019805895}]
[null,"LDD",null,{"$f":"D13+D61","v":430.20153583936019},null,"Capital restant dû crédit résidence principale",null,null,{"$f":"I16-D76","v":114930.49818384292}]
[null,"Assurance  vie Fonds euros",null,{"$f":"D14+D62+F163","v":23916.799288327671}]
[null,"Assurance vie Unités de compte",null,{"$f":"D15+D63+F164","v":19801.324627436061}]
[null,null,"Total épargnes classiques",{"$f":"SUM(D123:D128)","v":46049.737229149621}]
["Actifs financiers",null,null,null,null,"Capital restant dû crédit investissement immo locatif",null,null,{"$f":"I19-D78","v":63762.181295170027}]
[null,"PEA",null,{"$f":"D18+D53","v":4155.0139470850827}]
[null,"Compte-titres",null,{"$f":"D19+D54","v":5317.4944596049472},null,"Capital restant dû autres prêts / dettes…",null,null,{"$f":"0","v":0}]
[null,null,"Total actifs financiers",{"$f":"SUM(D131,D132)","v":9472.5084066900308}]
["Epargnes salariales",null,null,null,null,"Dettes fiscales",null,null,{"$f":"Profil_Investisseur!F173","v":0}]
[null,"PEE",null,{"$f":"D22+D56+D51","v":4215.6262311728315},null,"Résultat net comptable",null,null,{"$f":"D108","v":20088.318609079572}]
[null,null,"Total épargnes salariales",{"$f":"D135","v":4215.6262311728315}]
[]
[null,null,"Total Actif liquide",{"$f":"SUM(D121,D129,D133,D136)","v":60737.87186701248}]
["Actif non-liquide"]
["Biens"]
[null,"Résidence principale (valeur marchande)",null,{"$f":"D28+D65","v":196361.21657052712}]
[null,"Investissement immobilier (valeur marchande)",null,{"$f":"D29+D66","v":185452.2600943867}]
[null,"Autres propriétés (valeur)",null,{"$f":"D30+D55","v":8117.6763253475001}]
[null,null,"Total biens",{"$f":"SUM(D141,D142,D143)","v":389931.15299026133}]
["Retraites"]
[null,"Plan Retraites (PERP)",null,{"$f":"D33+D64","v":225.71704332426373},null,"Total Passif",null,null,{"$f":"SUM(I123:I134)","v":451568.07958507142}]
[null,"PERCO",null,{"$f":"D34+D57","v":673.33768447338457}]
[null,null,"Total Retraites",{"$f":"SUM(D146,D147)","v":899.0547277976483}]
[]
[null,null,"Total Actif non-liquide",{"$f":"SUM(D144,D148)","v":390830.20771805895}]
[]
[]
[]
["Total Actifs",null,null,{"$f":"SUM(D150+D138)","v":451568.07958507142}]
[]
[]
[]
[]
[]
[]
[null,null,null,null,"\"compte courant intermédiaire\"",{"$f":"D7+D49+D50+D52+D67-D106","v":9705.2025270343293}]
[null,null,null,null,"compte-courant final",{"$f":"MIN(1000,F161)","v":1000}]
[null,null,null,null,"Va dans Assurance-Vie Fonds euros",{"$f":"(F161-F162)*(1-'Hypothèses exogènes'!C3)","v":4352.6012635171646}]
[null,null,null,null,"Va dans Assurance-Vie Unités de compte",{"$f":"(F161-F162)*'Hypothèses exogènes'!C3","v":4352.6012635171646}]

{"sheet":"Bilan 2025","index":10,"n_rows":164,"n_cols":20,"rows_kept":164,"cut":false,"hidden":false,"merged":[[5,5,5,6],[3,5,3,6],[3,0,3,1],[1,2,1,3],[15,5,15,6],[18,5,18,6],[20,5,20,6],[118,5,118,6],[45,1,46,4],[40,0,40,1],[38,5,38,6]]}
[]
[null,null,"Bilan Actif Passif",null,"Date:",{"$f":"H2","v":"2025-01-01"},null,{"$f":"DATE(2025,1,1)","v":"2025-01-01"},null,null,{"$f":"YEAR(H2)","v":2025},{"$f":"K2-2020","v":5}]
[]
["Actif",null,null,null,null,"Passif"]
["Actif liquide"]
["Compte(s) courant(s)",null,null,null,null,"Fonds propres"]
[null,"Compte(s) courant(s)",null,{"$f":"'Bilan 2024'!D120","v":1000},null,"Fonds propres liquide",null,null,{"$f":"D25-SUM(I16:I26)","v":-117954.80761200046}]
[null,null,"Total compte(s) courant(s)",{"$f":"D7","v":1000},null,"Fonds propres semi-liquide",null,null,{"$f":"D31","v":389931.15299026133},null,null,null,null,null,null,null,null,null,null,"Titres financiers augmentent de 10%"]
["Epargnes classiques",null,null,null,null,"Fonds propres non-liquide",null,null,{"$f":"D35","v":899.0547277976483}]
[null,"Livret A",null,{"$f":"'Bilan 2024'!D123","v":1043.9965130642581},null,"Total Fonds propres",null,null,{"$f":"SUM(I7:I9)","v":272875.40010605851}]
[null,"PEL",null,{"$f":"'Bilan 2024'!D124","v":327.2686942842119},null,null,null,null,null,null,null,null,null,null,null,null,null,null,null,"Assurance vie de 1,5"]
[null,"CEL",null,{"$f":"'Bilan 2024'!D125","v":530.14657019805895}]
[null,"LDD",null,{"$f":"'Bilan 2024'!D126","v":430.20153583936019},null,null,null,null,null,null,null,null,null,null,null,null,null,null,null,"Plan retraite de 1%"]
[null,"Assurance  vie Fonds euros",null,{"$f":"'Bilan 2024'!D127","v":23916.799288327671}]
[null,"Assurance vie Unités de compte",null,{"$f":"'Bilan 2024'!D128","v":19801.324627436061}]
[null,null,"Total épargnes classiques",{"$f":"SUM(D10:D15)","v":46049.737229149621},null,"Capital restant dû crédit résidence principale",null,null,{"$f":"VLOOKUP(F2,Tableau1[#All],2,1)","v":114930.49818384291}]
["Actifs financiers"]
[null,"PEA",null,{"$f":"'Bilan 2024'!D131","v":4155.0139470850827}]
[null,"Compte-titres",null,{"$f":"'Bilan 2024'!D132","v":5317.4944596049472},null,"Capital restant dû crédit investissement immo locatif",null,null,{"$f":"VLOOKUP(F2,Tableau17[#All],2,1)","v":63762.181295170027}]
[null,null,"Total actifs financiers",{"$f":"SUM(D18,D19)","v":9472.5084066900308}]
["Epargnes salariales",null,null,null,null,"Capital restant dû autres prêts / dettes…",null,null,{"$f":"Profil_Investisseur!F100","v":0}]
[null,"PEE",null,{"$f":"'Bilan 2024'!D135","v":4215.6262311728315}]
[null,null,"Total épargnes salariales",{"$f":"D22","v":4215.6262311728315}]
[]
[null,null,"Total Actif liquide",{"$f":"SUM(D8,D16,D20,D23)","v":60737.87186701248},null,"Dettes fiscales",null,null,{"$f":"Profil_Investisseur!F96","v":0}]
["Actif non-liquide"]
["Biens"]
[null,"Résidence principale (valeur marchande)",null,{"$f":"'Bilan 2024'!D141","v":196361.21657052712}]
[null,"Investissement immobilier (valeur marchande)",null,{"$f":"'Bilan 2024'!D142","v":185452.2600943867}]
[null,"Autres propriétés (valeur)",null,{"$f":"'Bilan 2024'!D143","v":8117.6763253475001}]
[null,null,"Total biens",{"$f":"SUM(D28,D29,D30)","v":389931.15299026133}]
["Retraites"]
[null,"Plan Retraites (PERP)",null,{"$f":"'Bilan 2024'!D146","v":225.71704332426373}]
[null,"PERCO",null,{"$f":"'Bilan 2024'!D147","v":673.33768447338457}]
[null,null,"Total Retraites",{"$f":"SUM(D33,D34)","v":899.0547277976483}]
[]
[null,null,"Total Actif non-liquide",{"$f":"SUM(D31,D35)","v":390830.20771805895}]
[]
[null,null,null,null,null,"Total Passif",null,null,{"$f":"SUM(I10:I26)","v":451568.07958507148}]
[]
["Total Actifs",null,null,{"$f":"SUM(D37+D25)","v":451568.07958507142}]
[]
[]
[]
[]
[null,"Compte de Résultat"]
[]
[null,"RESSOURCES",null,{"$f":"F2","v":"2025-01-01"},{"$f":"F115","v":"2026-01-01"}]
[null,null,"Salaire",{"$f":"'Bilan 2020'!D49*((1+'Hypothèses exogènes'!E10/100)^$L$2)","v":46370.962971999994}]
[null,null,"Rentes immobilières",{"$f":"'Bilan 2020'!D50*((1+'Hypothèses exogènes'!E11/100)^$L$2)","v":10854.108108054004}]
[null,null,"Prime d'intéressement et de participation",{"$f":"'Bilan 2020'!D51*((1+'Hypothèses exogènes'!E12/100)^$L$2)","v":600}]
[null,null,"Don(s) / Bourse(s) / Aide(s) / Allocation(s) / Pension(s)",{"$f":"'Bilan 2020'!D52*((1+'Hypothèses exogènes'!E13/100)^$L$2)","v":0}]
[null,null,"Plus-value PEA",{"$f":"D18*('Hypothèses exogènes'!D14/100+((1+'Hypothèses exogènes'!E14/100)^$L$2-1))","v":166.5756326761948}]
[null,null,"Plus-value des comptes-titres",{"$f":"D19*('Hypothèses exogènes'!D15/100+((1+'Hypothèses exogènes'!E15/100)^$L$2-1))","v":452.46704144616365}]
[null,null,"Plus-value des autres propiétés",{"$f":"D30*('Hypothèses exogènes'!D16/100+((1+'Hypothèses exogènes'!E16/100)^$L$2-1))","v":163.65756043079216}]
[null,null,"Plus-value du PEE",{"$f":"D22*('Hypothèses exogènes'!D17/100+((1+'Hypothèses exogènes'!E17/100)^$L$2-1))","v":126.84933322342368}]
[null,null,"Plus-value du PERCO",{"$f":"D34*('Hypothèses exogènes'!D18/100+((1+'Hypothèses exogènes'!E18/100)^$L$2-1))","v":20.260912999843974}]
[null,null,"Plus-value de Livret A",{"$f":"D10*('Hypothèses exogènes'!D19/100+((1+'Hypothèses exogènes'!E19/100)^$L$2-1))","v":7.8299738479819361}]
[null,null,"Plus-value du PEL",{"$f":"D11*('Hypothèses exogènes'!D20/100+((1+'Hypothèses exogènes'!E20/100)^$L$2-1))","v":8.2112600347615068}]
[null,null,"Plus-value du CEL",{"$f":"D12*('Hypothèses exogènes'!D21/100+((1+'Hypothèses exogènes'!E21/100)^$L$2-1))","v":10.650787949690862}]
[null,null,"Plus-value du LDD",{"$f":"D13*('Hypothèses exogènes'!D22/100+((1+'Hypothèses exogènes'!E22/100)^$L$2-1))","v":9.7183690233617543}]
[null,null,"Plus-value de l'assurance-vie Fonds€",{"$f":"D14*('Hypothèses exogènes'!D23/100+((1+'Hypothèses exogènes'!E23/100)^$L$2-1))","v":839.24695425532866}]
[null,null,"Plus-value de l'assurance-vie UC",{"$f":"D15*('Hypothèses exogènes'!D24/100+((1+'Hypothèses exogènes'!E24/100)^$L$2-1))","v":1585.8934437933412}]
[null,null,"Plus-value du plan retraites PERP",{"$f":"D33*('Hypothèses exogènes'!D25/100+((1+'Hypothèses exogènes'!E25/100)^$L$2-1))","v":7.0176039120231888}]
[null,null,"Plus-value résidence principale",{"$f":"D28*('Hypothèses exogènes'!D26/100+((1+'Hypothèses exogènes'!E26/100)^$L$2-1))","v":4926.7560208569039}]
[null,null,"Plus-value du bien investissement locatif",{"$f":"D29*('Hypothèses exogènes'!D27/100+((1+'Hypothèses exogènes'!E27/100)^$L$2-1))","v":4653.0473530315194}]
[null,null,"Autres revenus",{"$f":"Profil_Investisseur!B59*12","v":0}]
[null,"Total des ressources ",null,{"$f":"SUM(D49:D67)","v":70803.253327535334}]
[]
[null,null,null,"[42]"]
[null,"CHARGES"]
[null,null,"Assurance habitation",{"$f":"(Profil_Investisseur!I109+Profil_Investisseur!E123)","v":620}]
[null,null,"Autre(s) assurance(s)",{"$f":"Profil_Investisseur!B127","v":600}]
[null,"Total assurances",null,{"$f":"D72+D73","v":1220}]
[null,null,"Intérêts crédit A (résidence principale)",{"$f":"VLOOKUP(F115,Tableau18[[#All],[Date du versement]:[Intérêts crédit A cumulés]],2,1)-VLOOKUP(F2,Tableau18[[#All],[Date du versement]:[Intérêts crédit A cumulés]],2,1)","v":1890.5724088053394}]
[null,null,"Ammortissement crédit A (résidence principale)",{"$f":"VLOOKUP(F115,Tableau18[#All],3,1)-VLOOKUP(F2,Tableau18[#All],3,1)","v":8142.1153955509726}]
[null,null,"Intérêts crédit B (Investissement locatif)",{"$f":"VLOOKUP(F115,Tableau19[[#All],[Date du versement]:[Intérêts crédit B cumulés]],2,1)-VLOOKUP(F2,Tableau19[[#All],[Date du versement]:[Intérêts crédit B cumulés]],2,1)","v":883.08299204683863}]
[null,null,"Amortissement crédit B (investissement locatif)",{"$f":"VLOOKUP(F115,Tableau19[#All],3,1)-VLOOKUP(F2,Tableau19[#All],3,1)","v":10698.006821120071}]
[null,null,"Intérêts autres dettes",{"$f":"0","v":0}]
[null,null,"Ammortissement autres dettes",{"$f":"0","v":0}]
[null,"Total des remboursements",null,{"$f":"SUM(D75:D80)","v":21613.777617523221}]
[null,null,"Loyer + charges",{"$f":"Profil_Investisseur!B134*12","v":0}]
[null,null,"Transport, Alimentation, Pension Alimentaire,Loisirs",{"$f":"Profil_Investisseur!F63*12","v":11728.000000000002}]
[null,null,"Charges totales (propriétaire investissement locatif)",{"$f":"Profil_Investisseur!D123*12","v":600}]
[null,null,"Charges totales (propriétaire principal)",{"$f":"Profil_Investisseur!D114*12","v":600}]
[null,"Total dépenses personnelles",null,{"$f":"SUM(D82:D85)","v":12928.000000000002}]
[null,null,"Impôts sur le revenu",{"$f":"'Impôts revenus'!E12","v":3880.365034232897}]
[null,null,"Impôts sur le foncier",{"$f":"'Impôts revenus'!F12","v":3177.5804013798934}]
[null,null,"Taxe d'habitation",{"$f":"Profil_Investisseur!J109+Profil_Investisseur!B135*12","v":881}]
[null,null,"Fiscalité sur la plus-value du PEA",{"$f":"D53*('Hypothèses exogènes'!D43/100+((1+'Hypothèses exogènes'!E43/100)^$L$2-1))","v":31.164680160313626}]
[null,null,"Fiscalité sur la plus-value des comptes-titres",{"$f":"D54*('Hypothèses exogènes'!D44/100+((1+'Hypothèses exogènes'!E44/100)^$L$2-1))","v":142.56796243873174}]
[null,null,"Fiscalité sur la plus-value des autres propiétés",{"$f":"D55*('Hypothèses exogènes'!D45/100+((1+'Hypothèses exogènes'!E45/100)^$L$2-1))","v":30.618737234859214}]
[null,null,"Fiscalité sur la plus-value du PEE",{"$f":"D56*('Hypothèses exogènes'!D46/100+((1+'Hypothèses exogènes'!E46/100)^$L$2-1))","v":23.732276053495042}]
[null,null,"Fiscalité sur la plus-value du PERCO",{"$f":"D57*('Hypothèses exogènes'!D47/100+((1+'Hypothèses exogènes'!E47/100)^$L$2-1))","v":3.7906196917979011}]
[null,null,"Fiscalité sur la plus-value de Livret A",{"$f":"D58*('Hypothèses exogènes'!D48/100+((1+'Hypothèses exogènes'!E48/100)^$L$2-1))","v":0}]
[null,null,"Fiscalité sur la plus-value du PEL",{"$f":"D59*('Hypothèses exogènes'!D49/100+((1+'Hypothèses exogènes'!E49/100)^$L$2-1))","v":2.5872881447207638}]
[null,null,"Fiscalité sur la plus-value du CEL",{"$f":"D60*('Hypothèses exogènes'!D50/100+((1+'Hypothèses exogènes'!E50/100)^$L$2-1))","v":1.9926587975365613}]
[null,null,"Fiscalité sur la plus-value du LDD",{"$f":"D61*('Hypothèses exogènes'!D51/100+((1+'Hypothèses exogènes'!E51/100)^$L$2-1))","v":0.14665281646046102}]
[null,null,"Fiscalité sur la plus-value de l'assurance-vie Fonds€",{"$f":"D62*('Hypothèses exogènes'!D52/100+((1+'Hypothèses exogènes'!E52/100)^$L$2-1))","v":157.01493960840557}]
[null,null,"Fiscalité sur la plus-value de l'assurance-vie UC",{"$f":"D63*('Hypothèses exogènes'!D53/100+((1+'Hypothèses exogènes'!E53/100)^$L$2-1))","v":296.70523323319736}]
[null,null,"Fiscalité sur la plus-value du plan retraites PERP",{"$f":"D64*('Hypothèses exogènes'!D54/100+((1+'Hypothèses exogènes'!E54/100)^$L$2-1))","v":1.3129254134973056}]
[null,null,"Fiscalité sur la plus-value de la résidence principale",{"$f":"D65*('Hypothèses exogènes'!D55/100+((1+'Hypothèses exogènes'!E55/100)^$L$2-1))","v":0}]
[null,null,"Fiscalité sur la plus-value du bien investissement locatif",{"$f":"D66*('Hypothèses exogènes'!D56/100+((1+'Hypothèses exogènes'!E56/100)^$L$2-1))","v":0}]
[null,"Total fiscalité",null,{"$f":"SUM(D87:D103)","v":8630.579409205804}]
[null,null,"Dépenses exceptionnelles",{"$f":"D49*'Hypothèses exogènes'!D57/100","v":2782.2577783199995},null,null,"Pour vérifier"]
[null,"Total des charges ",null,{"$f":"SUM(D74,D81,D86,D104,D105)","v":47174.61480504903},null,null,"Somme ammortissements + résultat net",null,{"$f":"D76+D78+D80+D108","v":42468.760739157347}]
[]
[null,"Résultat Net Comptable",null,{"$f":"D68-D106","v":23628.638522486304},null,null,"Différence fonds propres",null,{"$f":"I123-I10","v":42468.760739157326}]
[]
[null,null,null,null,null,null,"Différence Actifs",null,{"$f":"D154-D41","v":23628.638522486319}]
[]
[]
[]
[]
[null,null,"Bilan Actif Passif",null,"Date:",{"$f":"H115","v":"2026-01-01"},null,{"$f":"EDATE(F2,12)","v":"2026-01-01"}]
[]
["Actif",null,null,null,null,"Passif"]
["Actif liquide"]
["Compte(s) courant(s)",null,null,null,null,"Fonds propres"]
[null,"Compte(s) courant(s)",null,{"$f":"F162","v":1000},null,"Fonds propres liquide",null,null,{"$f":"D138-SUM(I126:I134)","v":-85256.786324074201}]
[null,null,"Total compte(s) courant(s)",{"$f":"D120","v":1000},null,"Fonds propres semi-liquide",null,null,{"$f":"D144","v":399674.61392458051}]
["Epargnes classiques",null,null,null,null,"Fonds propres non-liquide",null,null,{"$f":"D148","v":926.3332447095155}]
[null,"Livret A",null,{"$f":"D10+D58","v":1051.8264869122402},null,"Total Fonds propres",null,null,{"$f":"SUM(I120:I122)","v":315344.16084521584}]
[null,"PEL",null,{"$f":"D11+D59","v":335.4799543189734}]
[null,"CEL",null,{"$f":"D12+D60","v":540.79735814774983}]
[null,"LDD",null,{"$f":"D13+D61","v":439.91990486272192},null,"Capital restant dû crédit résidence principale",null,null,{"$f":"I16-D76","v":106788.38278829193}]
[null,"Assurance  vie Fonds euros",null,{"$f":"D14+D62+F163","v":29781.274380085484}]
[null,"Assurance vie Unités de compte",null,{"$f":"D15+D63+F164","v":26412.446208731886}]
[null,null,"Total épargnes classiques",{"$f":"SUM(D123:D128)","v":58561.744293059055}]
["Actifs financiers",null,null,null,null,"Capital restant dû crédit investissement immo locatif",null,null,{"$f":"I19-D78","v":53064.174474049956}]
[null,"PEA",null,{"$f":"D18+D53","v":4321.5895797612775}]
[null,"Compte-titres",null,{"$f":"D19+D54","v":5769.9615010511106},null,"Capital restant dû autres prêts / dettes…",null,null,{"$f":"0","v":0}]
[null,null,"Total actifs financiers",{"$f":"SUM(D131,D132)","v":10091.551080812387}]
["Epargnes salariales",null,null,null,null,"Dettes fiscales",null,null,{"$f":"Profil_Investisseur!F173","v":0}]
[null,"PEE",null,{"$f":"D22+D56+D51","v":4942.4755643962553},null,"Résultat net comptable",null,null,{"$f":"D108","v":23628.638522486304}]
[null,null,"Total épargnes salariales",{"$f":"D135","v":4942.4755643962553}]
[]
[null,null,"Total Actif liquide",{"$f":"SUM(D121,D129,D133,D136)","v":74595.770938267699}]
["Actif non-liquide"]
["Biens"]
[null,"Résidence principale (valeur marchande)",null,{"$f":"D28+D65","v":201287.97259138402}]
[null,"Investissement immobilier (valeur marchande)",null,{"$f":"D29+D66","v":190105.30744741822}]
[null,"Autres propriétés (valeur)",null,{"$f":"D30+D55","v":8281.3338857782928}]
[null,null,"Total biens",{"$f":"SUM(D141,D142,D143)","v":399674.61392458051}]
["Retraites"]
[null,"Plan Retraites (PERP)",null,{"$f":"D33+D64","v":232.73464723628692},null,"Total Passif",null,null,{"$f":"SUM(I123:I134)","v":475196.71810755774}]
[null,"PERCO",null,{"$f":"D34+D57","v":693.59859747322855}]
[null,null,"Total Retraites",{"$f":"SUM(D146,D147)","v":926.3332447095155}]
[]
[null,null,"Total Actif non-liquide",{"$f":"SUM(D144,D148)","v":400600.94716929004}]
[]
[]
[]
["Total Actifs",null,null,{"$f":"SUM(D150+D138)","v":475196.71810755774}]
[]
[]
[]
[]
[]
[]
[null,null,null,null,"\"compte courant intermédiaire\"",{"$f":"D7+D49+D50+D52+D67-D106","v":11050.456275004966}]
[null,null,null,null,"compte-courant final",{"$f":"MIN(1000,F161)","v":1000}]
[null,null,null,null,"Va dans Assurance-Vie Fonds euros",{"$f":"(F161-F162)*(1-'Hypothèses exogènes'!C3)","v":5025.2281375024832}]
[null,null,null,null,"Va dans Assurance-Vie Unités de compte",{"$f":"(F161-F162)*'Hypothèses exogènes'!C3","v":5025.2281375024832}]

{"sheet":"Bilan 2026","index":11,"n_rows":164,"n_cols":20,"rows_kept":164,"cut":false,"hidden":false,"merged":[[38,5,38,6],[40,0,40,1],[45,1,46,4],[118,5,118,6],[20,5,20,6],[18,5,18,6],[1,2,1,3],[3,0,3,1],[3,5,3,6],[5,5,5,6],[15,5,15,6]]}
[]
[null,null,"Bilan Actif Passif",null,"Date:",{"$f":"H2","v":"2026-01-01"},null,{"$f":"DATE(2026,1,1)","v":"2026-01-01"},null,null,{"$f":"YEAR(H2)","v":2026},{"$f":"K2-2020","v":6}]
[]
["Actif",null,null,null,null,"Passif"]
["Actif liquide"]
["Compte(s) courant(s)",null,null,null,null,"Fonds propres"]
[null,"Compte(s) courant(s)",null,{"$f":"'Bilan 2025'!D120","v":1000},null,"Fonds propres liquide",null,null,{"$f":"D25-SUM(I16:I26)","v":-85256.78632407423}]
[null,null,"Total compte(s) courant(s)",{"$f":"D7","v":1000},null,"Fonds propres semi-liquide",null,null,{"$f":"D31","v":399674.61392458051},null,null,null,null,null,null,null,null,null,null,"Titres financiers augmentent de 10%"]
["Epargnes classiques",null,null,null,null,"Fonds propres non-liquide",null,null,{"$f":"D35","v":926.3332447095155}]
[null,"Livret A",null,{"$f":"'Bilan 2025'!D123","v":1051.8264869122402},null,"Total Fonds propres",null,null,{"$f":"SUM(I7:I9)","v":315344.16084521578}]
[null,"PEL",null,{"$f":"'Bilan 2025'!D124","v":335.4799543189734},null,null,null,null,null,null,null,null,null,null,null,null,null,null,null,"Assurance vie de 1,5"]
[null,"CEL",null,{"$f":"'Bilan 2025'!D125","v":540.79735814774983}]
[null,"LDD",null,{"$f":"'Bilan 2025'!D126","v":439.91990486272192},null,null,null,null,null,null,null,null,null,null,null,null,null,null,null,"Plan retraite de 1%"]
[null,"Assurance  vie Fonds euros",null,{"$f":"'Bilan 2025'!D127","v":29781.274380085484}]
[null,"Assurance vie Unités de compte",null,{"$f":"'Bilan 2025'!D128","v":26412.446208731886}]
[null,null,"Total épargnes classiques",{"$f":"SUM(D10:D15)","v":58561.744293059055},null,"Capital restant dû crédit résidence principale",null,null,{"$f":"VLOOKUP(F2,Tableau1[#All],2,1)","v":106788.38278829191}]
["Actifs financiers"]
[null,"PEA",null,{"$f":"'Bilan 2025'!D131","v":4321.5895797612775}]
[null,"Compte-titres",null,{"$f":"'Bilan 2025'!D132","v":5769.9615010511106},null,"Capital restant dû crédit investissement immo locatif",null,null,{"$f":"VLOOKUP(F2,Tableau17[#All],2,1)","v":53064.174474050007}]
[null,null,"Total actifs financiers",{"$f":"SUM(D18,D19)","v":10091.551080812387}]
["Epargnes salariales",null,null,null,null,"Capital restant dû autres prêts / dettes…",null,null,{"$f":"Profil_Investisseur!F100","v":0}]
[null,"PEE",null,{"$f":"'Bilan 2025'!D135","v":4942.4755643962553}]
[null,null,"Total épargnes salariales",{"$f":"D22","v":4942.4755643962553}]
[]
[null,null,"Total Actif liquide",{"$f":"SUM(D8,D16,D20,D23)","v":74595.770938267699},null,"Dettes fiscales",null,null,{"$f":"Profil_Investisseur!F96","v":0}]
["Actif non-liquide"]
["Biens"]
[null,"Résidence principale (valeur marchande)",null,{"$f":"'Bilan 2025'!D141","v":201287.97259138402}]
[null,"Investissement immobilier (valeur marchande)",null,{"$f":"'Bilan 2025'!D142","v":190105.30744741822}]
[null,"Autres propriétés (valeur)",null,{"$f":"'Bilan 2025'!D143","v":8281.3338857782928}]
[null,null,"Total biens",{"$f":"SUM(D28,D29,D30)","v":399674.61392458051}]
["Retraites"]
[null,"Plan Retraites (PERP)",null,{"$f":"'Bilan 2025'!D146","v":232.73464723628692}]
[null,"PERCO",null,{"$f":"'Bilan 2025'!D147","v":693.59859747322855}]
[null,null,"Total Retraites",{"$f":"SUM(D33,D34)","v":926.3332447095155}]
[]
[null,null,"Total Actif non-liquide",{"$f":"SUM(D31,D35)","v":400600.94716929004}]
[]
[null,null,null,null,null,"Total Passif",null,null,{"$f":"SUM(I10:I25)","v":475196.71810755768}]
[]
["Total Actifs",null,null,{"$f":"SUM(D37+D25)","v":475196.71810755774}]
[]
[]
[]
[]
[null,"Compte de Résultat"]
[]
[null,"RESSOURCES",null,{"$f":"F2","v":"2026-01-01"},{"$f":"F115","v":"2027-01-01"}]
[null,null,"Salaire",{"$f":"'Bilan 2020'!D49*((1+'Hypothèses exogènes'!E10/100)^$L$2)","v":47762.091861159999}]
[null,null,"Rentes immobilières",{"$f":"'Bilan 2020'!D50*((1+'Hypothèses exogènes'!E11/100)^$L$2)","v":10864.962216162055}]
[null,null,"Prime d'intéressement et de participation",{"$f":"'Bilan 2020'!D51*((1+'Hypothèses exogènes'!E12/100)^$L$2)","v":600}]
[null,null,"Don(s) / Bourse(s) / Aide(s) / Allocation(s) / Pension(s)",{"$f":"'Bilan 2020'!D52*((1+'Hypothèses exogènes'!E13/100)^$L$2)","v":0}]
[null,null,"Plus-value PEA",{"$f":"D18*('Hypothèses exogènes'!D14/100+((1+'Hypothèses exogènes'!E14/100)^$L$2-1))","v":186.41410543840749}]
[null,null,"Plus-value des comptes-titres",{"$f":"D19*('Hypothèses exogènes'!D15/100+((1+'Hypothèses exogènes'!E15/100)^$L$2-1))","v":508.53867969326541}]
[null,null,"Plus-value des autres propiétés",{"$f":"D30*('Hypothèses exogènes'!D16/100+((1+'Hypothèses exogènes'!E16/100)^$L$2-1))","v":200.7501653498762}]
[null,null,"Plus-value du PEE",{"$f":"D22*('Hypothèses exogènes'!D17/100+((1+'Hypothèses exogènes'!E17/100)^$L$2-1))","v":163.77160277538806}]
[null,null,"Plus-value du PERCO",{"$f":"D34*('Hypothèses exogènes'!D18/100+((1+'Hypothèses exogènes'!E18/100)^$L$2-1))","v":22.982764914251547}]
[null,null,"Plus-value de Livret A",{"$f":"D10*('Hypothèses exogènes'!D19/100+((1+'Hypothèses exogènes'!E19/100)^$L$2-1))","v":7.8886986518418007}]
[null,null,"Plus-value du PEL",{"$f":"D11*('Hypothèses exogènes'!D20/100+((1+'Hypothèses exogènes'!E20/100)^$L$2-1))","v":9.4389100820368856}]
[null,null,"Plus-value du CEL",{"$f":"D12*('Hypothèses exogènes'!D21/100+((1+'Hypothèses exogènes'!E21/100)^$L$2-1))","v":12.511639569178802}]
[null,null,"Plus-value du LDD",{"$f":"D13*('Hypothèses exogènes'!D22/100+((1+'Hypothèses exogènes'!E22/100)^$L$2-1))","v":11.277584853048539}]
[null,null,"Plus-value de l'assurance-vie Fonds€",{"$f":"D14*('Hypothèses exogènes'!D23/100+((1+'Hypothèses exogènes'!E23/100)^$L$2-1))","v":1135.7250166003914}]
[null,null,"Plus-value de l'assurance-vie UC",{"$f":"D15*('Hypothèses exogènes'!D24/100+((1+'Hypothèses exogènes'!E24/100)^$L$2-1))","v":2195.8130104135066}]
[null,null,"Plus-value du plan retraites PERP",{"$f":"D33*('Hypothèses exogènes'!D25/100+((1+'Hypothèses exogènes'!E25/100)^$L$2-1))","v":7.9445231432320584}]
[null,null,"Plus-value résidence principale",{"$f":"D28*('Hypothèses exogènes'!D26/100+((1+'Hypothèses exogènes'!E26/100)^$L$2-1))","v":5663.3460492221302}]
[null,null,"Plus-value du bien investissement locatif",{"$f":"D29*('Hypothèses exogènes'!D27/100+((1+'Hypothèses exogènes'!E27/100)^$L$2-1))","v":5348.7157131542335}]
[null,null,"Autres revenus",{"$f":"Profil_Investisseur!B59*12","v":0}]
[null,"Total des ressources ",null,{"$f":"SUM(D49:D67)","v":74702.172541182852}]
[]
[null,null,null,"[42]"]
[null,"CHARGES"]
[null,null,"Assurance habitation",{"$f":"(Profil_Investisseur!I109+Profil_Investisseur!E123)","v":620}]
[null,null,"Autre(s) assurance(s)",{"$f":"Profil_Investisseur!B127","v":600}]
[null,"Total assurances",null,{"$f":"D72+D73","v":1220}]
[null,null,"Intérêts crédit A (résidence principale)",{"$f":"VLOOKUP(F115,Tableau18[[#All],[Date du versement]:[Intérêts crédit A cumulés]],2,1)-VLOOKUP(F2,Tableau18[[#All],[Date du versement]:[Intérêts crédit A cumulés]],2,1)","v":1751.072846901141}]
[null,null,"Ammortissement crédit A (résidence principale)",{"$f":"VLOOKUP(F115,Tableau18[#All],3,1)-VLOOKUP(F2,Tableau18[#All],3,1)","v":8281.6149574551819}]
[null,null,"Intérêts crédit B (Investissement locatif)",{"$f":"VLOOKUP(F115,Tableau19[[#All],[Date du versement]:[Intérêts crédit B cumulés]],2,1)-VLOOKUP(F2,Tableau19[[#All],[Date du versement]:[Intérêts crédit B cumulés]],2,1)","v":721.50504802241267}]
[null,null,"Amortissement crédit B (investissement locatif)",{"$f":"VLOOKUP(F115,Tableau19[#All],3,1)-VLOOKUP(F2,Tableau19[#All],3,1)","v":10859.58476514442}]
[null,null,"Intérêts autres dettes",{"$f":"0","v":0}]
[null,null,"Ammortissement autres dettes",{"$f":"0","v":0}]
[null,"Total des remboursements",null,{"$f":"SUM(D75:D80)","v":21613.777617523156}]
[null,null,"Loyer + charges",{"$f":"Profil_Investisseur!B134*12","v":0}]
[null,null,"Transport, Alimentation, Pension Alimentaire,Loisirs",{"$f":"Profil_Investisseur!F63*12","v":11728.000000000002}]
[null,null,"Charges totales (propriétaire investissement locatif)",{"$f":"Profil_Investisseur!D123*12","v":600}]
[null,null,"Charges totales (propriétaire principal)",{"$f":"Profil_Investisseur!D114*12","v":600}]
[null,"Total dépenses personnelles",null,{"$f":"SUM(D82:D85)","v":12928.000000000002}]
[null,null,"Impôts sur le revenu",{"$f":"'Impôts revenus'!E13","v":3906.4457463835624}]
[null,null,"Impôts sur le foncier",{"$f":"'Impôts revenus'!F13","v":3158.2214653662945}]
[null,null,"Taxe d'habitation",{"$f":"Profil_Investisseur!J109+Profil_Investisseur!B135*12","v":881}]
[null,null,"Fiscalité sur la plus-value du PEA",{"$f":"D53*('Hypothèses exogènes'!D43/100+((1+'Hypothèses exogènes'!E43/100)^$L$2-1))","v":35.44394682791345}]
[null,null,"Fiscalité sur la plus-value des comptes-titres",{"$f":"D54*('Hypothèses exogènes'!D44/100+((1+'Hypothèses exogènes'!E44/100)^$L$2-1))","v":161.78422809371992}]
[null,null,"Fiscalité sur la plus-value des autres propiétés",{"$f":"D55*('Hypothèses exogènes'!D45/100+((1+'Hypothèses exogènes'!E45/100)^$L$2-1))","v":38.169741338092116}]
[null,null,"Fiscalité sur la plus-value du PEE",{"$f":"D56*('Hypothèses exogènes'!D46/100+((1+'Hypothèses exogènes'!E46/100)^$L$2-1))","v":31.138802329585165}]
[null,null,"Fiscalité sur la plus-value du PERCO",{"$f":"D57*('Hypothèses exogènes'!D47/100+((1+'Hypothèses exogènes'!E47/100)^$L$2-1))","v":4.3698404456218372}]
[null,null,"Fiscalité sur la plus-value de Livret A",{"$f":"D58*('Hypothèses exogènes'!D48/100+((1+'Hypothèses exogènes'!E48/100)^$L$2-1))","v":0}]
[null,null,"Fiscalité sur la plus-value du PEL",{"$f":"D59*('Hypothèses exogènes'!D49/100+((1+'Hypothèses exogènes'!E49/100)^$L$2-1))","v":3.0028527674422856}]
[null,null,"Fiscalité sur la plus-value du CEL",{"$f":"D60*('Hypothèses exogènes'!D50/100+((1+'Hypothèses exogènes'!E50/100)^$L$2-1))","v":2.3789073609910614}]
[null,null,"Fiscalité sur la plus-value du LDD",{"$f":"D61*('Hypothèses exogènes'!D51/100+((1+'Hypothèses exogènes'!E51/100)^$L$2-1))","v":0.20452510492456291}]
[null,null,"Fiscalité sur la plus-value de l'assurance-vie Fonds€",{"$f":"D62*('Hypothèses exogènes'!D52/100+((1+'Hypothèses exogènes'!E52/100)^$L$2-1))","v":215.94169070438602}]
[null,null,"Fiscalité sur la plus-value de l'assurance-vie UC",{"$f":"D63*('Hypothèses exogènes'!D53/100+((1+'Hypothèses exogènes'!E53/100)^$L$2-1))","v":417.5020951451117}]
[null,null,"Fiscalité sur la plus-value du plan retraites PERP",{"$f":"D64*('Hypothèses exogènes'!D54/100+((1+'Hypothèses exogènes'!E54/100)^$L$2-1))","v":1.5105362075451025}]
[null,null,"Fiscalité sur la plus-value de la résidence principale",{"$f":"D65*('Hypothèses exogènes'!D55/100+((1+'Hypothèses exogènes'!E55/100)^$L$2-1))","v":0}]
[null,null,"Fiscalité sur la plus-value du bien investissement locatif",{"$f":"D66*('Hypothèses exogènes'!D56/100+((1+'Hypothèses exogènes'!E56/100)^$L$2-1))","v":0}]
[null,"Total fiscalité",null,{"$f":"SUM(D87:D103)","v":8857.1143780751918}]
[null,null,"Dépenses exceptionnelles",{"$f":"D49*'Hypothèses exogènes'!D57/100","v":2865.7255116695997},null,null,"Pour vérifier"]
[null,"Total des charges ",null,{"$f":"SUM(D74,D81,D86,D104,D105)","v":47484.617507267947},null,null,"Somme ammortissements + résultat net",null,{"$f":"D76+D78+D80+D108","v":46358.754756514507}]
[]
[null,"Résultat Net Comptable",null,{"$f":"D68-D106","v":27217.555033914905},null,null,"Différence fonds propres",null,{"$f":"I123-I10","v":46358.754756514623}]
[]
[null,null,null,null,null,null,"Différence Actifs",null,{"$f":"D154-D41","v":27217.555033914978}]
[]
[]
[]
[]
[null,null,"Bilan Actif Passif",null,"Date:",{"$f":"H115","v":"2027-01-01"},null,{"$f":"EDATE(F2,12)","v":"2027-01-01"}]
[]
["Actif",null,null,null,null,"Passif"]
["Actif liquide"]
["Compte(s) courant(s)",null,null,null,null,"Fonds propres"]
[null,"Compte(s) courant(s)",null,{"$f":"F162","v":1000},null,"Fonds propres liquide",null,null,{"$f":"D138-SUM(I126:I134)","v":-50141.770783343425}]
[null,null,"Total compte(s) courant(s)",{"$f":"D120","v":1000},null,"Fonds propres semi-liquide",null,null,{"$f":"D144","v":410887.42585230683}]
["Epargnes classiques",null,null,null,null,"Fonds propres non-liquide",null,null,{"$f":"D148","v":957.26053276699906}]
[null,"Livret A",null,{"$f":"D10+D58","v":1059.715185564082},null,"Total Fonds propres",null,null,{"$f":"SUM(I120:I122)","v":361702.9156017304}]
[null,"PEL",null,{"$f":"D11+D59","v":344.9188644010103}]
[null,"CEL",null,{"$f":"D12+D60","v":553.30899771692862}]
[null,"LDD",null,{"$f":"D13+D61","v":451.19748971577047},null,"Capital restant dû crédit résidence principale",null,null,{"$f":"I16-D76","v":98506.767830836732}]
[null,"Assurance  vie Fonds euros",null,{"$f":"D14+D62+F163","v":36488.217681712929}]
[null,"Assurance vie Unités de compte",null,{"$f":"D15+D63+F164","v":34179.47750417245}]
[null,null,"Total épargnes classiques",{"$f":"SUM(D123:D128)","v":73076.835723283177}]
["Actifs financiers",null,null,null,null,"Capital restant dû crédit investissement immo locatif",null,null,{"$f":"I19-D78","v":42204.589708905587}]
[null,"PEA",null,{"$f":"D18+D53","v":4508.0036851996847}]
[null,"Compte-titres",null,{"$f":"D19+D54","v":6278.5001807443759},null,"Capital restant dû autres prêts / dettes…",null,null,{"$f":"0","v":0}]
[null,null,"Total actifs financiers",{"$f":"SUM(D131,D132)","v":10786.503865944062}]
["Epargnes salariales",null,null,null,null,"Dettes fiscales",null,null,{"$f":"Profil_Investisseur!F173","v":0}]
[null,"PEE",null,{"$f":"D22+D56+D51","v":5706.247167171643},null,"Résultat net comptable",null,null,{"$f":"D108","v":27217.555033914905}]
[null,null,"Total épargnes salariales",{"$f":"D135","v":5706.247167171643}]
[]
[null,null,"Total Actif liquide",{"$f":"SUM(D121,D129,D133,D136)","v":90569.586756398887}]
["Actif non-liquide"]
["Biens"]
[null,"Résidence principale (valeur marchande)",null,{"$f":"D28+D65","v":206951.31864060616}]
[null,"Investissement immobilier (valeur marchande)",null,{"$f":"D29+D66","v":195454.02316057245}]
[null,"Autres propriétés (valeur)",null,{"$f":"D30+D55","v":8482.0840511281694}]
[null,null,"Total biens",{"$f":"SUM(D141,D142,D143)","v":410887.42585230683}]
["Retraites"]
[null,"Plan Retraites (PERP)",null,{"$f":"D33+D64","v":240.67917037951898},null,"Total Passif",null,null,{"$f":"SUM(I123:I134)","v":502414.27314147278}]
[null,"PERCO",null,{"$f":"D34+D57","v":716.58136238748011}]
[null,null,"Total Retraites",{"$f":"SUM(D146,D147)","v":957.26053276699906}]
[]
[null,null,"Total Actif non-liquide",{"$f":"SUM(D144,D148)","v":411844.68638507382}]
[]
[]
[]
["Total Actifs",null,null,{"$f":"SUM(D150+D138)","v":502414.27314147272}]
[]
[]
[]
[]
[]
[]
[null,null,null,null,"\"compte courant intermédiaire\"",{"$f":"D7+D49+D50+D52+D67-D106","v":12142.436570054109}]
[null,null,null,null,"compte-courant final",{"$f":"MIN(1000,F161)","v":1000}]
[null,null,null,null,"Va dans Assurance-Vie Fonds euros",{"$f":"(F161-F162)*(1-'Hypothèses exogènes'!C3)","v":5571.2182850270547}]
[null,null,null,null,"Va dans Assurance-Vie Unités de compte",{"$f":"(F161-F162)*'Hypothèses exogènes'!C3","v":5571.2182850270547}]

{"sheet":"Bilan 2027","index":12,"n_rows":164,"n_cols":20,"rows_kept":164,"cut":false,"hidden":false,"merged":[[38,5,38,6],[40,0,40,1],[45,1,46,4],[118,5,118,6],[20,5,20,6],[18,5,18,6],[1,2,1,3],[3,0,3,1],[3,5,3,6],[5,5,5,6],[15,5,15,6]]}
[]
[null,null,"Bilan Actif Passif",null,"Date:",{"$f":"H2","v":"2027-01-01"},null,{"$f":"DATE(2027,1,1)","v":"2027-01-01"},null,null,{"$f":"YEAR(H2)","v":2027},{"$f":"K2-2020","v":7}]
[]
["Actif",null,null,null,null,"Passif"]
["Actif liquide"]
["Compte(s) courant(s)",null,null,null,null,"Fonds propres"]
[null,"Compte(s) courant(s)",null,{"$f":"'Bilan 2026'!D120","v":1000},null,"Fonds propres liquide",null,null,{"$f":"D25-SUM(I16:I26)","v":-50141.770783343425}]
[null,null,"Total compte(s) courant(s)",{"$f":"D7","v":1000},null,"Fonds propres semi-liquide",null,null,{"$f":"D31","v":410887.42585230683},null,null,null,null,null,null,null,null,null,null,"Titres financiers augmentent de 10%"]
["Epargnes classiques",null,null,null,null,"Fonds propres non-liquide",null,null,{"$f":"D35","v":957.26053276699906}]
[null,"Livret A",null,{"$f":"'Bilan 2026'!D123","v":1059.715185564082},null,"Total Fonds propres",null,null,{"$f":"SUM(I7:I9)","v":361702.9156017304}]
[null,"PEL",null,{"$f":"'Bilan 2026'!D124","v":344.9188644010103},null,null,null,null,null,null,null,null,null,null,null,null,null,null,null,"Assurance vie de 1,5"]
[null,"CEL",null,{"$f":"'Bilan 2026'!D125","v":553.30899771692862}]
[null,"LDD",null,{"$f":"'Bilan 2026'!D126","v":451.19748971577047},null,null,null,null,null,null,null,null,null,null,null,null,null,null,null,"Plan retraite de 1%"]
[null,"Assurance  vie Fonds euros",null,{"$f":"'Bilan 2026'!D127","v":36488.217681712929}]
[null,"Assurance vie Unités de compte",null,{"$f":"'Bilan 2026'!D128","v":34179.47750417245}]
[null,null,"Total épargnes classiques",{"$f":"SUM(D10:D15)","v":73076.835723283177},null,"Capital restant dû crédit résidence principale",null,null,{"$f":"VLOOKUP(F2,Tableau1[#All],2,1)","v":98506.767830836747}]
["Actifs financiers"]
[null,"PEA",null,{"$f":"'Bilan 2026'!D131","v":4508.0036851996847}]
[null,"Compte-titres",null,{"$f":"'Bilan 2026'!D132","v":6278.5001807443759},null,"Capital restant dû crédit investissement immo locatif",null,null,{"$f":"VLOOKUP(F2,Tableau17[#All],2,1)","v":42204.589708905565}]
[null,null,"Total actifs financiers",{"$f":"SUM(D18,D19)","v":10786.503865944062}]
["Epargnes salariales",null,null,null,null,"Capital restant dû autres prêts / dettes…",null,null,{"$f":"Profil_Investisseur!F100","v":0}]
[null,"PEE",null,{"$f":"'Bilan 2026'!D135","v":5706.247167171643}]
[null,null,"Total épargnes salariales",{"$f":"D22","v":5706.247167171643}]
[]
[null,null,"Total Actif liquide",{"$f":"SUM(D8,D16,D20,D23)","v":90569.586756398887},null,"Dettes fiscales",null,null,{"$f":"Profil_Investisseur!F96","v":0}]
["Actif non-liquide"]
["Biens"]
[null,"Résidence principale (valeur marchande)",null,{"$f":"'Bilan 2026'!D141","v":206951.31864060616}]
[null,"Investissement immobilier (valeur marchande)",null,{"$f":"'Bilan 2026'!D142","v":195454.02316057245}]
[null,"Autres propriétés (valeur)",null,{"$f":"'Bilan 2026'!D143","v":8482.0840511281694}]
[null,null,"Total biens",{"$f":"SUM(D28,D29,D30)","v":410887.42585230683}]
["Retraites"]
[null,"Plan Retraites (PERP)",null,{"$f":"'Bilan 2026'!D146","v":240.67917037951898}]
[null,"PERCO",null,{"$f":"'Bilan 2026'!D147","v":716.58136238748011}]
[null,null,"Total Retraites",{"$f":"SUM(D33,D34)","v":957.26053276699906}]
[]
[null,null,"Total Actif non-liquide",{"$f":"SUM(D31,D35)","v":411844.68638507382}]
[]
[null,null,null,null,null,"Total Passif",null,null,{"$f":"SUM(I10:I25)","v":502414.27314147272}]
[]
["Total Actifs",null,null,{"$f":"SUM(D37+D25)","v":502414.27314147272}]
[]
[]
[]
[]
[null,"Compte de Résultat"]
[]
[null,"RESSOURCES",null,{"$f":"F2","v":"2027-01-01"},{"$f":"F115","v":"2028-01-01"}]
[null,null,"Salaire",{"$f":"'Bilan 2020'!D49*((1+'Hypothèses exogènes'!E10/100)^$L$2)","v":49194.954616994801}]
[null,null,"Rentes immobilières",{"$f":"'Bilan 2020'!D50*((1+'Hypothèses exogènes'!E11/100)^$L$2)","v":10875.827178378215}]
[null,null,"Prime d'intéressement et de participation",{"$f":"'Bilan 2020'!D51*((1+'Hypothèses exogènes'!E12/100)^$L$2)","v":600}]
[null,null,"Don(s) / Bourse(s) / Aide(s) / Allocation(s) / Pension(s)",{"$f":"'Bilan 2020'!D52*((1+'Hypothèses exogènes'!E13/100)^$L$2)","v":0}]
[null,null,"Plus-value PEA",{"$f":"D18*('Hypothèses exogènes'!D14/100+((1+'Hypothèses exogènes'!E14/100)^$L$2-1))","v":208.22445508238445}]
[null,null,"Plus-value des comptes-titres",{"$f":"D19*('Hypothèses exogènes'!D15/100+((1+'Hypothèses exogènes'!E15/100)^$L$2-1))","v":572.53610399618321}]
[null,null,"Plus-value des autres propiétés",{"$f":"D30*('Hypothèses exogènes'!D16/100+((1+'Hypothèses exogènes'!E16/100)^$L$2-1))","v":240.36740972315761}]
[null,null,"Plus-value du PEE",{"$f":"D22*('Hypothèses exogènes'!D17/100+((1+'Hypothèses exogènes'!E17/100)^$L$2-1))","v":206.5087873427012}]
[null,null,"Plus-value du PERCO",{"$f":"D34*('Hypothèses exogènes'!D18/100+((1+'Hypothèses exogènes'!E18/100)^$L$2-1))","v":25.933042127995854}]
[null,null,"Plus-value de Livret A",{"$f":"D10*('Hypothèses exogènes'!D19/100+((1+'Hypothèses exogènes'!E19/100)^$L$2-1))","v":7.9478638917306155}]
[null,null,"Plus-value du PEL",{"$f":"D11*('Hypothèses exogènes'!D20/100+((1+'Hypothèses exogènes'!E20/100)^$L$2-1))","v":10.758001389736517}]
[null,null,"Plus-value du CEL",{"$f":"D12*('Hypothèses exogènes'!D21/100+((1+'Hypothèses exogènes'!E21/100)^$L$2-1))","v":14.491133789668352}]
[null,null,"Plus-value du LDD",{"$f":"D13*('Hypothèses exogènes'!D22/100+((1+'Hypothèses exogènes'!E22/100)^$L$2-1))","v":12.944832445532755}]
[null,null,"Plus-value de l'assurance-vie Fonds€",{"$f":"D14*('Hypothèses exogènes'!D23/100+((1+'Hypothèses exogènes'!E23/100)^$L$2-1))","v":1502.9477830882327}]
[null,null,"Plus-value de l'assurance-vie UC",{"$f":"D15*('Hypothèses exogènes'!D24/100+((1+'Hypothèses exogènes'!E24/100)^$L$2-1))","v":2945.9273832867407}]
[null,null,"Plus-value du plan retraites PERP",{"$f":"D33*('Hypothèses exogènes'!D25/100+((1+'Hypothèses exogènes'!E25/100)^$L$2-1))","v":8.950845792614583}]
[null,null,"Plus-value résidence principale",{"$f":"D28*('Hypothèses exogènes'!D26/100+((1+'Hypothèses exogènes'!E26/100)^$L$2-1))","v":6454.8008338419095}]
[null,null,"Plus-value du bien investissement locatif",{"$f":"D29*('Hypothèses exogènes'!D27/100+((1+'Hypothèses exogènes'!E27/100)^$L$2-1))","v":6096.2007875173585}]
[null,null,"Autres revenus",{"$f":"Profil_Investisseur!B59*12","v":0}]
[null,"Total des ressources ",null,{"$f":"SUM(D49:D67)","v":78979.321058688947}]
[]
[null,null,null,"[42]"]
[null,"CHARGES"]
[null,null,"Assurance habitation",{"$f":"(Profil_Investisseur!I109+Profil_Investisseur!E123)","v":620}]
[null,null,"Autre(s) assurance(s)",{"$f":"Profil_Investisseur!B127","v":600}]
[null,"Total assurances",null,{"$f":"D72+D73","v":1220}]
[null,null,"Intérêts crédit A (résidence principale)",{"$f":"VLOOKUP(F115,Tableau18[[#All],[Date du versement]:[Intérêts crédit A cumulés]],2,1)-VLOOKUP(F2,Tableau18[[#All],[Date du versement]:[Intérêts crédit A cumulés]],2,1)","v":1609.1832270296982}]
[null,null,"Ammortissement crédit A (résidence principale)",{"$f":"VLOOKUP(F115,Tableau18[#All],3,1)-VLOOKUP(F2,Tableau18[#All],3,1)","v":8423.504577326632}]
[null,null,"Intérêts crédit B (Investissement locatif)",{"$f":"VLOOKUP(F115,Tableau19[[#All],[Date du versement]:[Intérêts crédit B cumulés]],2,1)-VLOOKUP(F2,Tableau19[[#All],[Date du versement]:[Intérêts crédit B cumulés]],2,1)","v":557.48670248846611}]
[null,null,"Amortissement crédit B (investissement locatif)",{"$f":"VLOOKUP(F115,Tableau19[#All],3,1)-VLOOKUP(F2,Tableau19[#All],3,1)","v":11023.603110678378}]
[null,null,"Intérêts autres dettes",{"$f":"0","v":0}]
[null,null,"Ammortissement autres dettes",{"$f":"0","v":0}]
[null,"Total des remboursements",null,{"$f":"SUM(D75:D80)","v":21613.777617523174}]
[null,null,"Loyer + charges",{"$f":"Profil_Investisseur!B134*12","v":0}]
[null,null,"Transport, Alimentation, Pension Alimentaire,Loisirs",{"$f":"Profil_Investisseur!F63*12","v":11728.000000000002}]
[null,null,"Charges totales (propriétaire investissement locatif)",{"$f":"Profil_Investisseur!D123*12","v":600}]
[null,null,"Charges totales (propriétaire principal)",{"$f":"Profil_Investisseur!D114*12","v":600}]
[null,"Total dépenses personnelles",null,{"$f":"SUM(D82:D85)","v":12928.000000000002}]
[null,null,"Impôts sur le revenu",{"$f":"'Impôts revenus'!E14","v":3932.3688356107377}]
[null,null,"Impôts sur le foncier",{"$f":"'Impôts revenus'!F14","v":3138.4777081883849}]
[null,null,"Taxe d'habitation",{"$f":"Profil_Investisseur!J109+Profil_Investisseur!B135*12","v":881}]
[null,null,"Fiscalité sur la plus-value du PEA",{"$f":"D53*('Hypothèses exogènes'!D43/100+((1+'Hypothèses exogènes'!E43/100)^$L$2-1))","v":40.226871616400594}]
[null,null,"Fiscalité sur la plus-value des comptes-titres",{"$f":"D54*('Hypothèses exogènes'!D44/100+((1+'Hypothèses exogènes'!E44/100)^$L$2-1))","v":183.89284137911227}]
[null,null,"Fiscalité sur la plus-value des autres propiétés",{"$f":"D55*('Hypothèses exogènes'!D45/100+((1+'Hypothèses exogènes'!E45/100)^$L$2-1))","v":46.436567346878491}]
[null,null,"Fiscalité sur la plus-value du PEE",{"$f":"D56*('Hypothèses exogènes'!D46/100+((1+'Hypothèses exogènes'!E46/100)^$L$2-1))","v":39.895421855260231}]
[null,null,"Fiscalité sur la plus-value du PERCO",{"$f":"D57*('Hypothèses exogènes'!D47/100+((1+'Hypothèses exogènes'!E47/100)^$L$2-1))","v":5.0100030560428213}]
[null,null,"Fiscalité sur la plus-value de Livret A",{"$f":"D58*('Hypothèses exogènes'!D48/100+((1+'Hypothèses exogènes'!E48/100)^$L$2-1))","v":0}]
[null,null,"Fiscalité sur la plus-value du PEL",{"$f":"D59*('Hypothèses exogènes'!D49/100+((1+'Hypothèses exogènes'!E49/100)^$L$2-1))","v":3.4553619052332722}]
[null,null,"Fiscalité sur la plus-value du CEL",{"$f":"D60*('Hypothèses exogènes'!D50/100+((1+'Hypothèses exogènes'!E50/100)^$L$2-1))","v":2.7995413809700436}]
[null,null,"Fiscalité sur la plus-value du LDD",{"$f":"D61*('Hypothèses exogènes'!D51/100+((1+'Hypothèses exogènes'!E51/100)^$L$2-1))","v":0.27430032431976631}]
[null,null,"Fiscalité sur la plus-value de l'assurance-vie Fonds€",{"$f":"D62*('Hypothèses exogènes'!D52/100+((1+'Hypothèses exogènes'!E52/100)^$L$2-1))","v":290.35440382122039}]
[null,null,"Fiscalité sur la plus-value de l'assurance-vie UC",{"$f":"D63*('Hypothèses exogènes'!D53/100+((1+'Hypothèses exogènes'!E53/100)^$L$2-1))","v":569.12355751790881}]
[null,null,"Fiscalité sur la plus-value du plan retraites PERP",{"$f":"D64*('Hypothèses exogènes'!D54/100+((1+'Hypothèses exogènes'!E54/100)^$L$2-1))","v":1.729213431800054}]
[null,null,"Fiscalité sur la plus-value de la résidence principale",{"$f":"D65*('Hypothèses exogènes'!D55/100+((1+'Hypothèses exogènes'!E55/100)^$L$2-1))","v":0}]
[null,null,"Fiscalité sur la plus-value du bien investissement locatif",{"$f":"D66*('Hypothèses exogènes'!D56/100+((1+'Hypothèses exogènes'!E56/100)^$L$2-1))","v":0}]
[null,"Total fiscalité",null,{"$f":"SUM(D87:D103)","v":9135.0446274342685}]
[null,null,"Dépenses exceptionnelles",{"$f":"D49*'Hypothèses exogènes'!D57/100","v":2951.697277019688},null,null,"Pour vérifier"]
[null,"Total des charges ",null,{"$f":"SUM(D74,D81,D86,D104,D105)","v":47848.519521977134},null,null,"Somme ammortissements + résultat net",null,{"$f":"D76+D78+D80+D108","v":50577.909224716823}]
[]
[null,"Résultat Net Comptable",null,{"$f":"D68-D106","v":31130.801536711813},null,null,"Différence fonds propres",null,{"$f":"I123-I10","v":50577.90922471683}]
[]
[null,null,null,null,null,null,"Différence Actifs",null,{"$f":"D154-D41","v":31130.801536711864}]
[]
[]
[]
[]
[null,null,"Bilan Actif Passif",null,"Date:",{"$f":"H115","v":"2028-01-01"},null,{"$f":"EDATE(F2,12)","v":"2028-01-01"}]
[]
["Actif",null,null,null,null,"Passif"]
["Actif liquide"]
["Compte(s) courant(s)",null,null,null,null,"Fonds propres"]
[null,"Compte(s) courant(s)",null,{"$f":"F162","v":1000},null,"Fonds propres liquide",null,null,{"$f":"D138-SUM(I126:I134)","v":-12390.114477629642}]
[null,null,"Total compte(s) courant(s)",{"$f":"D120","v":1000},null,"Fonds propres semi-liquide",null,null,{"$f":"D144","v":423678.79488338926}]
["Epargnes classiques",null,null,null,null,"Fonds propres non-liquide",null,null,{"$f":"D148","v":992.14442068760945}]
[null,"Livret A",null,{"$f":"D10+D58","v":1067.6630494558126},null,"Total Fonds propres",null,null,{"$f":"SUM(I120:I122)","v":412280.82482644723}]
[null,"PEL",null,{"$f":"D11+D59","v":355.67686579074683}]
[null,"CEL",null,{"$f":"D12+D60","v":567.80013150659693}]
[null,"LDD",null,{"$f":"D13+D61","v":464.14232216130324},null,"Capital restant dû crédit résidence principale",null,null,{"$f":"I16-D76","v":90083.263253510115}]
[null,"Assurance  vie Fonds euros",null,{"$f":"D14+D62+F163","v":44102.296601499096}]
[null,"Assurance vie Unités de compte",null,{"$f":"D15+D63+F164","v":43236.536024157132}]
[null,null,"Total épargnes classiques",{"$f":"SUM(D123:D128)","v":89794.114994570686}]
["Actifs financiers",null,null,null,null,"Capital restant dû crédit investissement immo locatif",null,null,{"$f":"I19-D78","v":31180.986598227188}]
[null,"PEA",null,{"$f":"D18+D53","v":4716.228140282069}]
[null,"Compte-titres",null,{"$f":"D19+D54","v":6851.0362847405595},null,"Capital restant dû autres prêts / dettes…",null,null,{"$f":"0","v":0}]
[null,null,"Total actifs financiers",{"$f":"SUM(D131,D132)","v":11567.264425022629}]
["Epargnes salariales",null,null,null,null,"Dettes fiscales",null,null,{"$f":"Profil_Investisseur!F173","v":0}]
[null,"PEE",null,{"$f":"D22+D56+D51","v":6512.755954514344},null,"Résultat net comptable",null,null,{"$f":"D108","v":31130.801536711813}]
[null,null,"Total épargnes salariales",{"$f":"D135","v":6512.755954514344}]
[]
[null,null,"Total Actif liquide",{"$f":"SUM(D121,D129,D133,D136)","v":108874.13537410766}]
["Actif non-liquide"]
["Biens"]
[null,"Résidence principale (valeur marchande)",null,{"$f":"D28+D65","v":213406.11947444806}]
[null,"Investissement immobilier (valeur marchande)",null,{"$f":"D29+D66","v":201550.22394808981}]
[null,"Autres propriétés (valeur)",null,{"$f":"D30+D55","v":8722.4514608513273}]
[null,null,"Total biens",{"$f":"SUM(D141,D142,D143)","v":423678.79488338926}]
["Retraites"]
[null,"Plan Retraites (PERP)",null,{"$f":"D33+D64","v":249.63001617213357},null,"Total Passif",null,null,{"$f":"SUM(I123:I134)","v":533545.07467818458}]
[null,"PERCO",null,{"$f":"D34+D57","v":742.51440451547592}]
[null,null,"Total Retraites",{"$f":"SUM(D146,D147)","v":992.14442068760945}]
[]
[null,null,"Total Actif non-liquide",{"$f":"SUM(D144,D148)","v":424670.93930407689}]
[]
[]
[]
["Total Actifs",null,null,{"$f":"SUM(D150+D138)","v":533545.07467818458}]
[]
[]
[]
[]
[]
[]
[null,null,null,null,"\"compte courant intermédiaire\"",{"$f":"D7+D49+D50+D52+D67-D106","v":13222.262273395878}]
[null,null,null,null,"compte-courant final",{"$f":"MIN(1000,F161)","v":1000}]
[null,null,null,null,"Va dans Assurance-Vie Fonds euros",{"$f":"(F161-F162)*(1-'Hypothèses exogènes'!C3)","v":6111.1311366979389}]
[null,null,null,null,"Va dans Assurance-Vie Unités de compte",{"$f":"(F161-F162)*'Hypothèses exogènes'!C3","v":6111.1311366979389}]

{"sheet":"Bilan 2028","index":13,"n_rows":164,"n_cols":20,"rows_kept":164,"cut":false,"hidden":false,"merged":[[20,5,20,6],[38,5,38,6],[40,0,40,1],[45,1,46,4],[118,5,118,6],[18,5,18,6],[1,2,1,3],[3,0,3,1],[3,5,3,6],[5,5,5,6],[15,5,15,6]]}
[]
[null,null,"Bilan Actif Passif",null,"Date:",{"$f":"H2","v":"2028-01-01"},null,{"$f":"DATE(2028,1,1)","v":"2028-01-01"},null,null,{"$f":"YEAR(H2)","v":2028},{"$f":"K2-2020","v":8}]
[]
["Actif",null,null,null,null,"Passif"]
["Actif liquide"]
["Compte(s) courant(s)",null,null,null,null,"Fonds propres"]
[null,"Compte(s) courant(s)",null,{"$f":"'Bilan 2027'!D120","v":1000},null,"Fonds propres liquide",null,null,{"$f":"D25-SUM(I16:I26)","v":-12390.114477629613}]
[null,null,"Total compte(s) courant(s)",{"$f":"D7","v":1000},null,"Fonds propres semi-liquide",null,null,{"$f":"D31","v":423678.79488338926},null,null,null,null,null,null,null,null,null,null,"Titres financiers augmentent de 10%"]
["Epargnes classiques",null,null,null,null,"Fonds propres non-liquide",null,null,{"$f":"D35","v":992.14442068760945}]
[null,"Livret A",null,{"$f":"'Bilan 2027'!D123","v":1067.6630494558126},null,"Total Fonds propres",null,null,{"$f":"SUM(I7:I9)","v":412280.82482644729}]
[null,"PEL",null,{"$f":"'Bilan 2027'!D124","v":355.67686579074683},null,null,null,null,null,null,null,null,null,null,null,null,null,null,null,"Assurance vie de 1,5"]
[null,"CEL",null,{"$f":"'Bilan 2027'!D125","v":567.80013150659693}]
[null,"LDD",null,{"$f":"'Bilan 2027'!D126","v":464.14232216130324},null,null,null,null,null,null,null,null,null,null,null,null,null,null,null,"Plan retraite de 1%"]
[null,"Assurance  vie Fonds euros",null,{"$f":"'Bilan 2027'!D127","v":44102.296601499096}]
[null,"Assurance vie Unités de compte",null,{"$f":"'Bilan 2027'!D128","v":43236.536024157132}]
[null,null,"Total épargnes classiques",{"$f":"SUM(D10:D15)","v":89794.114994570686},null,"Capital restant dû crédit résidence principale",null,null,{"$f":"VLOOKUP(F2,Tableau1[#All],2,1)","v":90083.263253510115}]
["Actifs financiers"]
[null,"PEA",null,{"$f":"'Bilan 2027'!D131","v":4716.228140282069}]
[null,"Compte-titres",null,{"$f":"'Bilan 2027'!D132","v":6851.0362847405595},null,"Capital restant dû crédit investissement immo locatif",null,null,{"$f":"VLOOKUP(F2,Tableau17[#All],2,1)","v":31180.986598227162}]
[null,null,"Total actifs financiers",{"$f":"SUM(D18,D19)","v":11567.264425022629}]
["Epargnes salariales",null,null,null,null,"Capital restant dû autres prêts / dettes…",null,null,{"$f":"Profil_Investisseur!F100","v":0}]
[null,"PEE",null,{"$f":"'Bilan 2027'!D135","v":6512.755954514344}]
[null,null,"Total épargnes salariales",{"$f":"D22","v":6512.755954514344}]
[]
[null,null,"Total Actif liquide",{"$f":"SUM(D8,D16,D20,D23)","v":108874.13537410766},null,"Dettes fiscales",null,null,{"$f":"Profil_Investisseur!F96","v":0}]
["Actif non-liquide"]
["Biens"]
[null,"Résidence principale (valeur marchande)",null,{"$f":"'Bilan 2027'!D141","v":213406.11947444806}]
[null,"Investissement immobilier (valeur marchande)",null,{"$f":"'Bilan 2027'!D142","v":201550.22394808981}]
[null,"Autres propriétés (valeur)",null,{"$f":"'Bilan 2027'!D143","v":8722.4514608513273}]
[null,null,"Total biens",{"$f":"SUM(D28,D29,D30)","v":423678.79488338926}]
["Retraites"]
[null,"Plan Retraites (PERP)",null,{"$f":"'Bilan 2027'!D146","v":249.63001617213357}]
[null,"PERCO",null,{"$f":"'Bilan 2027'!D147","v":742.51440451547592}]
[null,null,"Total Retraites",{"$f":"SUM(D33,D34)","v":992.14442068760945}]
[]
[null,null,"Total Actif non-liquide",{"$f":"SUM(D31,D35)","v":424670.93930407689}]
[]
[null,null,null,null,null,"Total Passif",null,null,{"$f":"SUM(I10:I25)","v":533545.07467818458}]
[]
["Total Actifs",null,null,{"$f":"SUM(D37+D25)","v":533545.07467818458}]
[]
[]
[]
[]
[null,"Compte de Résultat"]
[]
[null,"RESSOURCES",null,{"$f":"F2","v":"2028-01-01"},{"$f":"F115","v":"2029-01-01"}]
[null,null,"Salaire",{"$f":"'Bilan 2020'!D49*((1+'Hypothèses exogènes'!E10/100)^$L$2)","v":50670.803255504637}]
[null,null,"Rentes immobilières",{"$f":"'Bilan 2020'!D50*((1+'Hypothèses exogènes'!E11/100)^$L$2)","v":10886.703005556594}]
[null,null,"Prime d'intéressement et de participation",{"$f":"'Bilan 2020'!D51*((1+'Hypothèses exogènes'!E12/100)^$L$2)","v":600}]
[null,null,"Don(s) / Bourse(s) / Aide(s) / Allocation(s) / Pension(s)",{"$f":"'Bilan 2020'!D52*((1+'Hypothèses exogènes'!E13/100)^$L$2)","v":0}]
[null,null,"Plus-value PEA",{"$f":"D18*('Hypothèses exogènes'!D14/100+((1+'Hypothèses exogènes'!E14/100)^$L$2-1))","v":232.29082610740397}]
[null,null,"Plus-value des comptes-titres",{"$f":"D19*('Hypothèses exogènes'!D15/100+((1+'Hypothèses exogènes'!E15/100)^$L$2-1))","v":645.73426961496716}]
[null,null,"Plus-value des autres propiétés",{"$f":"D30*('Hypothèses exogènes'!D16/100+((1+'Hypothèses exogènes'!E16/100)^$L$2-1))","v":283.05752307525307}]
[null,null,"Plus-value du PEE",{"$f":"D22*('Hypothèses exogènes'!D17/100+((1+'Hypothèses exogènes'!E17/100)^$L$2-1))","v":255.6485810296783}]
[null,null,"Plus-value du PERCO",{"$f":"D34*('Hypothèses exogènes'!D18/100+((1+'Hypothèses exogènes'!E18/100)^$L$2-1))","v":29.146302307996287}]
[null,null,"Plus-value de Livret A",{"$f":"D10*('Hypothèses exogènes'!D19/100+((1+'Hypothèses exogènes'!E19/100)^$L$2-1))","v":8.0074728709185941}]
[null,null,"Plus-value du PEL",{"$f":"D11*('Hypothèses exogènes'!D20/100+((1+'Hypothèses exogènes'!E20/100)^$L$2-1))","v":12.183183812020509}]
[null,null,"Plus-value du CEL",{"$f":"D12*('Hypothèses exogènes'!D21/100+((1+'Hypothèses exogènes'!E21/100)^$L$2-1))","v":16.610151187794184}]
[null,null,"Plus-value du LDD",{"$f":"D13*('Hypothèses exogènes'!D22/100+((1+'Hypothèses exogènes'!E22/100)^$L$2-1))","v":14.738151434468818}]
[null,null,"Plus-value de l'assurance-vie Fonds€",{"$f":"D14*('Hypothèses exogènes'!D23/100+((1+'Hypothèses exogènes'!E23/100)^$L$2-1))","v":1951.6817625430201}]
[null,null,"Plus-value de l'assurance-vie UC",{"$f":"D15*('Hypothèses exogènes'!D24/100+((1+'Hypothèses exogènes'!E24/100)^$L$2-1))","v":3859.0129326109009}]
[null,null,"Plus-value du plan retraites PERP",{"$f":"D33*('Hypothèses exogènes'!D25/100+((1+'Hypothèses exogènes'!E25/100)^$L$2-1))","v":10.048486270349168}]
[null,null,"Plus-value résidence principale",{"$f":"D28*('Hypothèses exogènes'!D26/100+((1+'Hypothèses exogènes'!E26/100)^$L$2-1))","v":7309.910287212304}]
[null,null,"Plus-value du bien investissement locatif",{"$f":"D29*('Hypothèses exogènes'!D27/100+((1+'Hypothèses exogènes'!E27/100)^$L$2-1))","v":6903.8041601449531}]
[null,null,"Autres revenus",{"$f":"Profil_Investisseur!B59*12","v":0}]
[null,"Total des ressources ",null,{"$f":"SUM(D49:D67)","v":83689.380351283253}]
[]
[null,null,null,"[42]"]
[null,"CHARGES"]
[null,null,"Assurance habitation",{"$f":"(Profil_Investisseur!I109+Profil_Investisseur!E123)","v":620}]
[null,null,"Autre(s) assurance(s)",{"$f":"Profil_Investisseur!B127","v":600}]
[null,"Total assurances",null,{"$f":"D72+D73","v":1220}]
[null,null,"Intérêts crédit A (résidence principale)",{"$f":"VLOOKUP(F115,Tableau18[[#All],[Date du versement]:[Intérêts crédit A cumulés]],2,1)-VLOOKUP(F2,Tableau18[[#All],[Date du versement]:[Intérêts crédit A cumulés]],2,1)","v":1464.8626001226949}]
[null,null,"Ammortissement crédit A (résidence principale)",{"$f":"VLOOKUP(F115,Tableau18[#All],3,1)-VLOOKUP(F2,Tableau18[#All],3,1)","v":8567.8252042336244}]
[null,null,"Intérêts crédit B (Investissement locatif)",{"$f":"VLOOKUP(F115,Tableau19[[#All],[Date du versement]:[Intérêts crédit B cumulés]],2,1)-VLOOKUP(F2,Tableau19[[#All],[Date du versement]:[Intérêts crédit B cumulés]],2,1)","v":390.99109670436155}]
[null,null,"Amortissement crédit B (investissement locatif)",{"$f":"VLOOKUP(F115,Tableau19[#All],3,1)-VLOOKUP(F2,Tableau19[#All],3,1)","v":11190.098716462468}]
[null,null,"Intérêts autres dettes",{"$f":"0","v":0}]
[null,null,"Ammortissement autres dettes",{"$f":"0","v":0}]
[null,"Total des remboursements",null,{"$f":"SUM(D75:D80)","v":21613.777617523148}]
[null,null,"Loyer + charges",{"$f":"Profil_Investisseur!B134*12","v":0}]
[null,null,"Transport, Alimentation, Pension Alimentaire,Loisirs",{"$f":"Profil_Investisseur!F63*12","v":11728.000000000002}]
[null,null,"Charges totales (propriétaire investissement locatif)",{"$f":"Profil_Investisseur!D123*12","v":600}]
[null,null,"Charges totales (propriétaire principal)",{"$f":"Profil_Investisseur!D114*12","v":600}]
[null,"Total dépenses personnelles",null,{"$f":"SUM(D82:D85)","v":12928.000000000002}]
[null,null,"Impôts sur le revenu",{"$f":"'Impôts revenus'!E15","v":3958.1277438398952}]
[null,null,"Impôts sur le foncier",{"$f":"'Impôts revenus'!F15","v":3118.3414357804309}]
[null,null,"Taxe d'habitation",{"$f":"Profil_Investisseur!J109+Profil_Investisseur!B135*12","v":881}]
[null,null,"Fiscalité sur la plus-value du PEA",{"$f":"D53*('Hypothèses exogènes'!D43/100+((1+'Hypothèses exogènes'!E43/100)^$L$2-1))","v":45.587891749213817}]
[null,null,"Fiscalité sur la plus-value des comptes-titres",{"$f":"D54*('Hypothèses exogènes'!D44/100+((1+'Hypothèses exogènes'!E44/100)^$L$2-1))","v":209.38160841152094}]
[null,null,"Fiscalité sur la plus-value des autres propiétés",{"$f":"D55*('Hypothèses exogènes'!D45/100+((1+'Hypothèses exogènes'!E45/100)^$L$2-1))","v":55.551034610332941}]
[null,null,"Fiscalité sur la plus-value du PEE",{"$f":"D56*('Hypothèses exogènes'!D46/100+((1+'Hypothèses exogènes'!E46/100)^$L$2-1))","v":50.171933317902216}]
[null,null,"Fiscalité sur la plus-value du PERCO",{"$f":"D57*('Hypothèses exogènes'!D47/100+((1+'Hypothèses exogènes'!E47/100)^$L$2-1))","v":5.7200643554146984}]
[null,null,"Fiscalité sur la plus-value de Livret A",{"$f":"D58*('Hypothèses exogènes'!D48/100+((1+'Hypothèses exogènes'!E48/100)^$L$2-1))","v":0}]
[null,null,"Fiscalité sur la plus-value du PEL",{"$f":"D59*('Hypothèses exogènes'!D49/100+((1+'Hypothèses exogènes'!E49/100)^$L$2-1))","v":3.9504402076338749}]
[null,null,"Fiscalité sur la plus-value du CEL",{"$f":"D60*('Hypothèses exogènes'!D50/100+((1+'Hypothèses exogènes'!E50/100)^$L$2-1))","v":3.2598005998614901}]
[null,null,"Fiscalité sur la plus-value du LDD",{"$f":"D61*('Hypothèses exogènes'!D51/100+((1+'Hypothèses exogènes'!E51/100)^$L$2-1))","v":0.35745201643986774}]
[null,null,"Fiscalité sur la plus-value de l'assurance-vie Fonds€",{"$f":"D62*('Hypothèses exogènes'!D52/100+((1+'Hypothèses exogènes'!E52/100)^$L$2-1))","v":383.02441129804964}]
[null,null,"Fiscalité sur la plus-value de l'assurance-vie UC",{"$f":"D63*('Hypothèses exogènes'!D53/100+((1+'Hypothèses exogènes'!E53/100)^$L$2-1))","v":757.34486281150009}]
[null,null,"Fiscalité sur la plus-value du plan retraites PERP",{"$f":"D64*('Hypothèses exogènes'!D54/100+((1+'Hypothèses exogènes'!E54/100)^$L$2-1))","v":1.9720507779516572}]
[null,null,"Fiscalité sur la plus-value de la résidence principale",{"$f":"D65*('Hypothèses exogènes'!D55/100+((1+'Hypothèses exogènes'!E55/100)^$L$2-1))","v":0}]
[null,null,"Fiscalité sur la plus-value du bien investissement locatif",{"$f":"D66*('Hypothèses exogènes'!D56/100+((1+'Hypothèses exogènes'!E56/100)^$L$2-1))","v":0}]
[null,"Total fiscalité",null,{"$f":"SUM(D87:D103)","v":9473.7907297761467}]
[null,null,"Dépenses exceptionnelles",{"$f":"D49*'Hypothèses exogènes'!D57/100","v":3040.2481953302781},null,null,"Pour vérifier"]
[null,"Total des charges ",null,{"$f":"SUM(D74,D81,D86,D104,D105)","v":48275.816542629575},null,null,"Somme ammortissements + résultat net",null,{"$f":"D76+D78+D80+D108","v":55171.48772934977}]
[]
[null,"Résultat Net Comptable",null,{"$f":"D68-D106","v":35413.563808653678},null,null,"Différence fonds propres",null,{"$f":"I123-I10","v":55171.487729349639}]
[]
[null,null,null,null,null,null,"Différence Actifs",null,{"$f":"D154-D41","v":35413.563808653504}]
[]
[]
[]
[]
[null,null,"Bilan Actif Passif",null,"Date:",{"$f":"H115","v":"2029-01-01"},null,{"$f":"EDATE(F2,12)","v":"2029-01-01"}]
[]
["Actif",null,null,null,null,"Passif"]
["Actif liquide"]
["Compte(s) courant(s)",null,null,null,null,"Fonds propres"]
[null,"Compte(s) courant(s)",null,{"$f":"F162","v":1000},null,"Fonds propres liquide",null,null,{"$f":"D138-SUM(I126:I134)","v":28245.406492709299}]
[null,null,"Total compte(s) courant(s)",{"$f":"D120","v":1000},null,"Fonds propres semi-liquide",null,null,{"$f":"D144","v":438175.56685382169}]
["Epargnes classiques",null,null,null,null,"Fonds propres non-liquide",null,null,{"$f":"D148","v":1031.3392092659549}]
[null,"Livret A",null,{"$f":"D10+D58","v":1075.6705223267311},null,"Total Fonds propres",null,null,{"$f":"SUM(I120:I122)","v":467452.31255579693}]
[null,"PEL",null,{"$f":"D11+D59","v":367.86004960276733}]
[null,"CEL",null,{"$f":"D12+D60","v":584.41028269439107}]
[null,"LDD",null,{"$f":"D13+D61","v":478.88047359577206},null,"Capital restant dû crédit résidence principale",null,null,{"$f":"I16-D76","v":81515.43804927649}]
[null,"Assurance  vie Fonds euros",null,{"$f":"D14+D62+F163","v":52694.823223257947}]
[null,"Assurance vie Unités de compte",null,{"$f":"D15+D63+F164","v":53736.393815983858}]
[null,null,"Total épargnes classiques",{"$f":"SUM(D123:D128)","v":108938.03836746147}]
["Actifs financiers",null,null,null,null,"Capital restant dû crédit investissement immo locatif",null,null,{"$f":"I19-D78","v":19990.887881764695}]
[null,"PEA",null,{"$f":"D18+D53","v":4948.5189663894726}]
[null,"Compte-titres",null,{"$f":"D19+D54","v":7496.7705543555267},null,"Capital restant dû autres prêts / dettes…",null,null,{"$f":"0","v":0}]
[null,null,"Total actifs financiers",{"$f":"SUM(D131,D132)","v":12445.289520744998}]
["Epargnes salariales",null,null,null,null,"Dettes fiscales",null,null,{"$f":"Profil_Investisseur!F173","v":0}]
[null,"PEE",null,{"$f":"D22+D56+D51","v":7368.4045355440221},null,"Résultat net comptable",null,null,{"$f":"D108","v":35413.563808653678}]
[null,null,"Total épargnes salariales",{"$f":"D135","v":7368.4045355440221}]
[]
[null,null,"Total Actif liquide",{"$f":"SUM(D121,D129,D133,D136)","v":129751.73242375048}]
["Actif non-liquide"]
["Biens"]
[null,"Résidence principale (valeur marchande)",null,{"$f":"D28+D65","v":220716.02976166038}]
[null,"Investissement immobilier (valeur marchande)",null,{"$f":"D29+D66","v":208454.02810823478}]
[null,"Autres propriétés (valeur)",null,{"$f":"D30+D55","v":9005.5089839265802}]
[null,null,"Total biens",{"$f":"SUM(D141,D142,D143)","v":438175.56685382169}]
["Retraites"]
[null,"Plan Retraites (PERP)",null,{"$f":"D33+D64","v":259.67850244248274},null,"Total Passif",null,null,{"$f":"SUM(I123:I134)","v":568958.63848683808}]
[null,"PERCO",null,{"$f":"D34+D57","v":771.6607068234722}]
[null,null,"Total Retraites",{"$f":"SUM(D146,D147)","v":1031.3392092659549}]
[]
[null,null,"Total Actif non-liquide",{"$f":"SUM(D144,D148)","v":439206.90606308763}]
[]
[]
[]
["Total Actifs",null,null,{"$f":"SUM(D150+D138)","v":568958.63848683808}]
[]
[]
[]
[]
[]
[]
[null,null,null,null,"\"compte courant intermédiaire\"",{"$f":"D7+D49+D50+D52+D67-D106","v":14281.689718431655}]
[null,null,null,null,"compte-courant final",{"$f":"MIN(1000,F161)","v":1000}]
[null,null,null,null,"Va dans Assurance-Vie Fonds euros",{"$f":"(F161-F162)*(1-'Hypothèses exogènes'!C3)","v":6640.8448592158275}]
[null,null,null,null,"Va dans Assurance-Vie Unités de compte",{"$f":"(F161-F162)*'Hypothèses exogènes'!C3","v":6640.8448592158275}]

{"sheet":"Bilan 2029","index":14,"n_rows":164,"n_cols":20,"rows_kept":164,"cut":false,"hidden":false,"merged":[[20,5,20,6],[118,5,118,6],[1,2,1,3],[3,0,3,1],[3,5,3,6],[5,5,5,6],[15,5,15,6],[18,5,18,6],[38,5,38,6],[40,0,40,1],[45,1,46,4]]}
[]
[null,null,"Bilan Actif Passif",null,"Date:",{"$f":"H2","v":"2029-01-01"},null,{"$f":"DATE(2029,1,1)","v":"2029-01-01"},null,null,{"$f":"YEAR(H2)","v":2029},{"$f":"K2-2020","v":9}]
[]
["Actif",null,null,null,null,"Passif"]
["Actif liquide"]
["Compte(s) courant(s)",null,null,null,null,"Fonds propres"]
[null,"Compte(s) courant(s)",null,{"$f":"'Bilan 2028'!D120","v":1000},null,"Fonds propres liquide",null,null,{"$f":"D25-SUM(I16:I26)","v":28245.406492709313}]
[null,null,"Total compte(s) courant(s)",{"$f":"D7","v":1000},null,"Fonds propres semi-liquide",null,null,{"$f":"D31","v":438175.56685382169},null,null,null,null,null,null,null,null,null,null,"Titres financiers augmentent de 10%"]
["Epargnes classiques",null,null,null,null,"Fonds propres non-liquide",null,null,{"$f":"D35","v":1031.3392092659549}]
[null,"Livret A",null,{"$f":"'Bilan 2028'!D123","v":1075.6705223267311},null,"Total Fonds propres",null,null,{"$f":"SUM(I7:I9)","v":467452.31255579693}]
[null,"PEL",null,{"$f":"'Bilan 2028'!D124","v":367.86004960276733},null,null,null,null,null,null,null,null,null,null,null,null,null,null,null,"Assurance vie de 1,5"]
[null,"CEL",null,{"$f":"'Bilan 2028'!D125","v":584.41028269439107}]
[null,"LDD",null,{"$f":"'Bilan 2028'!D126","v":478.88047359577206},null,null,null,null,null,null,null,null,null,null,null,null,null,null,null,"Plan retraite de 1%"]
[null,"Assurance  vie Fonds euros",null,{"$f":"'Bilan 2028'!D127","v":52694.823223257947}]
[null,"Assurance vie Unités de compte",null,{"$f":"'Bilan 2028'!D128","v":53736.393815983858}]
[null,null,"Total épargnes classiques",{"$f":"SUM(D10:D15)","v":108938.03836746147},null,"Capital restant dû crédit résidence principale",null,null,{"$f":"VLOOKUP(F2,Tableau1[#All],2,1)","v":81515.43804927649}]
["Actifs financiers"]
[null,"PEA",null,{"$f":"'Bilan 2028'!D131","v":4948.5189663894726}]
[null,"Compte-titres",null,{"$f":"'Bilan 2028'!D132","v":7496.7705543555267},null,"Capital restant dû crédit investissement immo locatif",null,null,{"$f":"VLOOKUP(F2,Tableau17[#All],2,1)","v":19990.887881764676}]
[null,null,"Total actifs financiers",{"$f":"SUM(D18,D19)","v":12445.289520744998}]
["Epargnes salariales",null,null,null,null,"Capital restant dû autres prêts / dettes…",null,null,{"$f":"Profil_Investisseur!F100","v":0}]
[null,"PEE",null,{"$f":"'Bilan 2028'!D135","v":7368.4045355440221}]
[null,null,"Total épargnes salariales",{"$f":"D22","v":7368.4045355440221}]
[]
[null,null,"Total Actif liquide",{"$f":"SUM(D8,D16,D20,D23)","v":129751.73242375048},null,"Dettes fiscales",null,null,{"$f":"Profil_Investisseur!F96","v":0}]
["Actif non-liquide"]
["Biens"]
[null,"Résidence principale (valeur marchande)",null,{"$f":"'Bilan 2028'!D141","v":220716.02976166038}]
[null,"Investissement immobilier (valeur marchande)",null,{"$f":"'Bilan 2028'!D142","v":208454.02810823478}]
[null,"Autres propriétés (valeur)",null,{"$f":"'Bilan 2028'!D143","v":9005.5089839265802}]
[null,null,"Total biens",{"$f":"SUM(D28,D29,D30)","v":438175.56685382169}]
["Retraites"]
[null,"Plan Retraites (PERP)",null,{"$f":"'Bilan 2028'!D146","v":259.67850244248274}]
[null,"PERCO",null,{"$f":"'Bilan 2028'!D147","v":771.6607068234722}]
[null,null,"Total Retraites",{"$f":"SUM(D33,D34)","v":1031.3392092659549}]
[]
[null,null,"Total Actif non-liquide",{"$f":"SUM(D31,D35)","v":439206.90606308763}]
[]
[null,null,null,null,null,"Total Passif",null,null,{"$f":"SUM(I10:I25)","v":568958.63848683808}]
[]
["Total Actifs",null,null,{"$f":"SUM(D37+D25)","v":568958.63848683808}]
[]
[]
[]
[]
[null,"Compte de Résultat"]
[]
[null,"RESSOURCES",null,{"$f":"F2","v":"2029-01-01"},{"$f":"F115","v":"2030-01-01"}]
[null,null,"Salaire",{"$f":"'Bilan 2020'!D49*((1+'Hypothèses exogènes'!E10/100)^$L$2)","v":52190.927353169776}]
[null,null,"Rentes immobilières",{"$f":"'Bilan 2020'!D50*((1+'Hypothèses exogènes'!E11/100)^$L$2)","v":10897.589708562149}]
[null,null,"Prime d'intéressement et de participation",{"$f":"'Bilan 2020'!D51*((1+'Hypothèses exogènes'!E12/100)^$L$2)","v":600}]
[null,null,"Don(s) / Bourse(s) / Aide(s) / Allocation(s) / Pension(s)",{"$f":"'Bilan 2020'!D52*((1+'Hypothèses exogènes'!E13/100)^$L$2)","v":0}]
[null,null,"Plus-value PEA",{"$f":"D18*('Hypothèses exogènes'!D14/100+((1+'Hypothèses exogènes'!E14/100)^$L$2-1))","v":258.93758029477431}]
[null,null,"Plus-value des comptes-titres",{"$f":"D19*('Hypothèses exogènes'!D15/100+((1+'Hypothèses exogènes'!E15/100)^$L$2-1))","v":729.63277684974162}]
[null,null,"Plus-value des autres propiétés",{"$f":"D30*('Hypothèses exogènes'!D16/100+((1+'Hypothèses exogènes'!E16/100)^$L$2-1))","v":329.43420185912612}]
[null,null,"Plus-value du PEE",{"$f":"D22*('Hypothèses exogènes'!D17/100+((1+'Hypothèses exogènes'!E17/100)^$L$2-1))","v":311.87714053183714}]
[null,null,"Plus-value du PERCO",{"$f":"D34*('Hypothèses exogènes'!D18/100+((1+'Hypothèses exogènes'!E18/100)^$L$2-1))","v":32.66152578132197}]
[null,null,"Plus-value de Livret A",{"$f":"D10*('Hypothèses exogènes'!D19/100+((1+'Hypothèses exogènes'!E19/100)^$L$2-1))","v":8.067528917450483}]
[null,null,"Plus-value du PEL",{"$f":"D11*('Hypothèses exogènes'!D20/100+((1+'Hypothèses exogènes'!E20/100)^$L$2-1))","v":13.730846563631102}]
[null,null,"Plus-value du CEL",{"$f":"D12*('Hypothèses exogènes'!D21/100+((1+'Hypothèses exogènes'!E21/100)^$L$2-1))","v":18.891809402754589}]
[null,null,"Plus-value du LDD",{"$f":"D13*('Hypothèses exogènes'!D22/100+((1+'Hypothèses exogènes'!E22/100)^$L$2-1))","v":16.677624615558539}]
[null,null,"Plus-value de l'assurance-vie Fonds€",{"$f":"D14*('Hypothèses exogènes'!D23/100+((1+'Hypothèses exogènes'!E23/100)^$L$2-1))","v":2493.8498654964728}]
[null,null,"Plus-value de l'assurance-vie UC",{"$f":"D15*('Hypothèses exogènes'!D24/100+((1+'Hypothèses exogènes'!E24/100)^$L$2-1))","v":4961.2812468902348}]
[null,null,"Plus-value du plan retraites PERP",{"$f":"D33*('Hypothèses exogènes'!D25/100+((1+'Hypothèses exogènes'!E25/100)^$L$2-1))","v":11.250903048906901}]
[null,null,"Plus-value résidence principale",{"$f":"D28*('Hypothèses exogènes'!D26/100+((1+'Hypothèses exogènes'!E26/100)^$L$2-1))","v":8238.50793817866}]
[null,null,"Plus-value du bien investissement locatif",{"$f":"D29*('Hypothèses exogènes'!D27/100+((1+'Hypothèses exogènes'!E27/100)^$L$2-1))","v":7780.8130527242902}]
[null,null,"Autres revenus",{"$f":"Profil_Investisseur!B59*12","v":0}]
[null,"Total des ressources ",null,{"$f":"SUM(D49:D67)","v":88894.131102886691}]
[]
[null,null,null,"[42]"]
[null,"CHARGES"]
[null,null,"Assurance habitation",{"$f":"(Profil_Investisseur!I109+Profil_Investisseur!E123)","v":620}]
[null,null,"Autre(s) assurance(s)",{"$f":"Profil_Investisseur!B127","v":600}]
[null,"Total assurances",null,{"$f":"D72+D73","v":1220}]
[null,null,"Intérêts crédit A (résidence principale)",{"$f":"VLOOKUP(F115,Tableau18[[#All],[Date du versement]:[Intérêts crédit A cumulés]],2,1)-VLOOKUP(F2,Tableau18[[#All],[Date du versement]:[Intérêts crédit A cumulés]],2,1)","v":1318.0693155279587}]
[null,null,"Ammortissement crédit A (résidence principale)",{"$f":"VLOOKUP(F115,Tableau18[#All],3,1)-VLOOKUP(F2,Tableau18[#All],3,1)","v":8714.618488828346}]
[null,null,"Intérêts crédit B (Investissement locatif)",{"$f":"VLOOKUP(F115,Tableau19[[#All],[Date du versement]:[Intérêts crédit B cumulés]],2,1)-VLOOKUP(F2,Tableau19[[#All],[Date du versement]:[Intérêts crédit B cumulés]],2,1)","v":221.98081523148358}]
[null,null,"Amortissement crédit B (investissement locatif)",{"$f":"VLOOKUP(F115,Tableau19[#All],3,1)-VLOOKUP(F2,Tableau19[#All],3,1)","v":11359.1089979354}]
[null,null,"Intérêts autres dettes",{"$f":"0","v":0}]
[null,null,"Ammortissement autres dettes",{"$f":"0","v":0}]
[null,"Total des remboursements",null,{"$f":"SUM(D75:D80)","v":21613.777617523188}]
[null,null,"Loyer + charges",{"$f":"Profil_Investisseur!B134*12","v":0}]
[null,null,"Transport, Alimentation, Pension Alimentaire,Loisirs",{"$f":"Profil_Investisseur!F63*12","v":11728.000000000002}]
[null,null,"Charges totales (propriétaire investissement locatif)",{"$f":"Profil_Investisseur!D123*12","v":600}]
[null,null,"Charges totales (propriétaire principal)",{"$f":"Profil_Investisseur!D114*12","v":600}]
[null,"Total dépenses personnelles",null,{"$f":"SUM(D82:D85)","v":12928.000000000002}]
[null,null,"Impôts sur le revenu",{"$f":"'Impôts revenus'!E16","v":3983.7157647975046}]
[null,null,"Impôts sur le foncier",{"$f":"'Impôts revenus'!F16","v":3097.8048001977454}]
[null,null,"Taxe d'habitation",{"$f":"Profil_Investisseur!J109+Profil_Investisseur!B135*12","v":881}]
[null,null,"Fiscalité sur la plus-value du PEA",{"$f":"D53*('Hypothèses exogènes'!D43/100+((1+'Hypothèses exogènes'!E43/100)^$L$2-1))","v":51.613064175768358}]
[null,null,"Fiscalité sur la plus-value des comptes-titres",{"$f":"D54*('Hypothèses exogènes'!D44/100+((1+'Hypothèses exogènes'!E44/100)^$L$2-1))","v":238.82798132571858}]
[null,null,"Fiscalité sur la plus-value des autres propiétés",{"$f":"D55*('Hypothèses exogènes'!D45/100+((1+'Hypothèses exogènes'!E45/100)^$L$2-1))","v":65.664893380450152}]
[null,null,"Fiscalité sur la plus-value du PEE",{"$f":"D56*('Hypothèses exogènes'!D46/100+((1+'Hypothèses exogènes'!E46/100)^$L$2-1))","v":62.165309689308522}]
[null,null,"Fiscalité sur la plus-value du PERCO",{"$f":"D57*('Hypothèses exogènes'!D47/100+((1+'Hypothèses exogènes'!E47/100)^$L$2-1))","v":6.5103003755222177}]
[null,null,"Fiscalité sur la plus-value de Livret A",{"$f":"D58*('Hypothèses exogènes'!D48/100+((1+'Hypothèses exogènes'!E48/100)^$L$2-1))","v":0}]
[null,null,"Fiscalité sur la plus-value du PEL",{"$f":"D59*('Hypothèses exogènes'!D49/100+((1+'Hypothèses exogènes'!E49/100)^$L$2-1))","v":4.494466902712249}]
[null,null,"Fiscalité sur la plus-value du CEL",{"$f":"D60*('Hypothèses exogènes'!D50/100+((1+'Hypothèses exogènes'!E50/100)^$L$2-1))","v":3.7656340574077527}]
[null,null,"Fiscalité sur la plus-value du LDD",{"$f":"D61*('Hypothèses exogènes'!D51/100+((1+'Hypothèses exogènes'!E51/100)^$L$2-1))","v":0.45573741057162431}]
[null,null,"Fiscalité sur la plus-value de l'assurance-vie Fonds€",{"$f":"D62*('Hypothèses exogènes'!D52/100+((1+'Hypothèses exogènes'!E52/100)^$L$2-1))","v":497.08981217045215}]
[null,null,"Fiscalité sur la plus-value de l'assurance-vie UC",{"$f":"D63*('Hypothèses exogènes'!D53/100+((1+'Hypothèses exogènes'!E53/100)^$L$2-1))","v":988.91372622805613}]
[null,null,"Fiscalité sur la plus-value du plan retraites PERP",{"$f":"D64*('Hypothèses exogènes'!D54/100+((1+'Hypothèses exogènes'!E54/100)^$L$2-1))","v":2.2426006315403066}]
[null,null,"Fiscalité sur la plus-value de la résidence principale",{"$f":"D65*('Hypothèses exogènes'!D55/100+((1+'Hypothèses exogènes'!E55/100)^$L$2-1))","v":0}]
[null,null,"Fiscalité sur la plus-value du bien investissement locatif",{"$f":"D66*('Hypothèses exogènes'!D56/100+((1+'Hypothèses exogènes'!E56/100)^$L$2-1))","v":0}]
[null,"Total fiscalité",null,{"$f":"SUM(D87:D103)","v":9884.2640913427567}]
[null,null,"Dépenses exceptionnelles",{"$f":"D49*'Hypothèses exogènes'!D57/100","v":3131.4556411901867},null,null,"Pour vérifier"]
[null,"Total des charges ",null,{"$f":"SUM(D74,D81,D86,D104,D105)","v":48777.497350056132},null,null,"Somme ammortissements + résultat net",null,{"$f":"D76+D78+D80+D108","v":60190.361239594306}]
[]
[null,"Résultat Net Comptable",null,{"$f":"D68-D106","v":40116.633752830559},null,null,"Différence fonds propres",null,{"$f":"I123-I10","v":60190.361239594291}]
[]
[null,null,null,null,null,null,"Différence Actifs",null,{"$f":"D154-D41","v":40116.633752830676}]
[]
[]
[]
[]
[null,null,"Bilan Actif Passif",null,"Date:",{"$f":"H115","v":"2030-01-01"},null,{"$f":"EDATE(F2,12)","v":"2030-01-01"}]
[]
["Actif",null,null,null,null,"Passif"]
["Actif liquide"]
["Compte(s) courant(s)",null,null,null,null,"Fonds propres"]
[null,"Compte(s) courant(s)",null,{"$f":"F162","v":1000},null,"Fonds propres liquide",null,null,{"$f":"D138-SUM(I126:I134)","v":72043.100110711297}]
[null,null,"Total compte(s) courant(s)",{"$f":"D120","v":1000},null,"Fonds propres semi-liquide",null,null,{"$f":"D144","v":454524.32204658381}]
["Epargnes classiques",null,null,null,null,"Fonds propres non-liquide",null,null,{"$f":"D148","v":1075.2516380961838}]
[null,"Livret A",null,{"$f":"D10+D58","v":1083.7380512441816},null,"Total Fonds propres",null,null,{"$f":"SUM(I120:I122)","v":527642.67379539122}]
[null,"PEL",null,{"$f":"D11+D59","v":381.59089616639841}]
[null,"CEL",null,{"$f":"D12+D60","v":603.30209209714565}]
[null,"LDD",null,{"$f":"D13+D61","v":495.55809821133062},null,"Capital restant dû crédit résidence principale",null,null,{"$f":"I16-D76","v":72800.819560448144}]
[null,"Assurance  vie Fonds euros",null,{"$f":"D14+D62+F163","v":62344.182944592314}]
[null,"Assurance vie Unités de compte",null,{"$f":"D15+D63+F164","v":65853.184918711981}]
[null,null,"Total épargnes classiques",{"$f":"SUM(D123:D128)","v":130761.55700102335}]
["Actifs financiers",null,null,null,null,"Capital restant dû crédit investissement immo locatif",null,null,{"$f":"I19-D78","v":8631.7788838292763}]
[null,"PEA",null,{"$f":"D18+D53","v":5207.4565466842469}]
[null,"Compte-titres",null,{"$f":"D19+D54","v":8226.4033312052688},null,"Capital restant dû autres prêts / dettes…",null,null,{"$f":"0","v":0}]
[null,null,"Total actifs financiers",{"$f":"SUM(D131,D132)","v":13433.859877889516}]
["Epargnes salariales",null,null,null,null,"Dettes fiscales",null,null,{"$f":"Profil_Investisseur!F173","v":0}]
[null,"PEE",null,{"$f":"D22+D56+D51","v":8280.2816760758597},null,"Résultat net comptable",null,null,{"$f":"D108","v":40116.633752830559}]
[null,null,"Total épargnes salariales",{"$f":"D135","v":8280.2816760758597}]
[]
[null,null,"Total Actif liquide",{"$f":"SUM(D121,D129,D133,D136)","v":153475.69855498872}]
["Actif non-liquide"]
["Biens"]
[null,"Résidence principale (valeur marchande)",null,{"$f":"D28+D65","v":228954.53769983904}]
[null,"Investissement immobilier (valeur marchande)",null,{"$f":"D29+D66","v":216234.84116095907}]
[null,"Autres propriétés (valeur)",null,{"$f":"D30+D55","v":9334.9431857857071}]
[null,null,"Total biens",{"$f":"SUM(D141,D142,D143)","v":454524.32204658381}]
["Retraites"]
[null,"Plan Retraites (PERP)",null,{"$f":"D33+D64","v":270.92940549138962},null,"Total Passif",null,null,{"$f":"SUM(I123:I134)","v":609075.27223966864}]
[null,"PERCO",null,{"$f":"D34+D57","v":804.32223260479418}]
[null,null,"Total Retraites",{"$f":"SUM(D146,D147)","v":1075.2516380961838}]
[]
[null,null,"Total Actif non-liquide",{"$f":"SUM(D144,D148)","v":455599.57368467998}]
[]
[]
[]
["Total Actifs",null,null,{"$f":"SUM(D150+D138)","v":609075.27223966876}]
[]
[]
[]
[]
[]
[]
[null,null,null,null,"\"compte courant intermédiaire\"",{"$f":"D7+D49+D50+D52+D67-D106","v":15311.019711675792}]
[null,null,null,null,"compte-courant final",{"$f":"MIN(1000,F161)","v":1000}]
[null,null,null,null,"Va dans Assurance-Vie Fonds euros",{"$f":"(F161-F162)*(1-'Hypothèses exogènes'!C3)","v":7155.5098558378959}]
[null,null,null,null,"Va dans Assurance-Vie Unités de compte",{"$f":"(F161-F162)*'Hypothèses exogènes'!C3","v":7155.5098558378959}]

{"sheet":"Bilan 2030","index":15,"n_rows":164,"n_cols":20,"rows_kept":164,"cut":false,"hidden":false,"merged":[[20,5,20,6],[38,5,38,6],[40,0,40,1],[45,1,46,4],[118,5,118,6],[18,5,18,6],[1,2,1,3],[3,0,3,1],[3,5,3,6],[5,5,5,6],[15,5,15,6]]}
[]
[null,null,"Bilan Actif Passif",null,"Date:",{"$f":"H2","v":"2030-01-01"},null,{"$f":"DATE(2030,1,1)","v":"2030-01-01"},null,null,{"$f":"YEAR(H2)","v":2030},{"$f":"K2-2020","v":10}]
[]
["Actif",null,null,null,null,"Passif"]
["Actif liquide"]
["Compte(s) courant(s)",null,null,null,null,"Fonds propres"]
[null,"Compte(s) courant(s)",null,{"$f":"'Bilan 2029'!D120","v":1000},null,"Fonds propres liquide",null,null,{"$f":"D25-SUM(I16:I26)","v":72043.100110711268}]
[null,null,"Total compte(s) courant(s)",{"$f":"D7","v":1000},null,"Fonds propres semi-liquide",null,null,{"$f":"D31","v":454524.32204658381},null,null,null,null,null,null,null,null,null,null,"Titres financiers augmentent de 10%"]
["Epargnes classiques",null,null,null,null,"Fonds propres non-liquide",null,null,{"$f":"D35","v":1075.2516380961838}]
[null,"Livret A",null,{"$f":"'Bilan 2029'!D123","v":1083.7380512441816},null,"Total Fonds propres",null,null,{"$f":"SUM(I7:I9)","v":527642.67379539122}]
[null,"PEL",null,{"$f":"'Bilan 2029'!D124","v":381.59089616639841},null,null,null,null,null,null,null,null,null,null,null,null,null,null,null,"Assurance vie de 1,5"]
[null,"CEL",null,{"$f":"'Bilan 2029'!D125","v":603.30209209714565}]
[null,"LDD",null,{"$f":"'Bilan 2029'!D126","v":495.55809821133062},null,null,null,null,null,null,null,null,null,null,null,null,null,null,null,"Plan retraite de 1%"]
[null,"Assurance  vie Fonds euros",null,{"$f":"'Bilan 2029'!D127","v":62344.182944592314}]
[null,"Assurance vie Unités de compte",null,{"$f":"'Bilan 2029'!D128","v":65853.184918711981}]
[null,null,"Total épargnes classiques",{"$f":"SUM(D10:D15)","v":130761.55700102335},null,"Capital restant dû crédit résidence principale",null,null,{"$f":"VLOOKUP(F2,Tableau1[#All],2,1)","v":72800.819560448144}]
["Actifs financiers"]
[null,"PEA",null,{"$f":"'Bilan 2029'!D131","v":5207.4565466842469}]
[null,"Compte-titres",null,{"$f":"'Bilan 2029'!D132","v":8226.4033312052688},null,"Capital restant dû crédit investissement immo locatif",null,null,{"$f":"VLOOKUP(F2,Tableau17[#All],2,1)","v":8631.7788838292981}]
[null,null,"Total actifs financiers",{"$f":"SUM(D18,D19)","v":13433.859877889516}]
["Epargnes salariales",null,null,null,null,"Capital restant dû autres prêts / dettes…",null,null,{"$f":"Profil_Investisseur!F100","v":0}]
[null,"PEE",null,{"$f":"'Bilan 2029'!D135","v":8280.2816760758597}]
[null,null,"Total épargnes salariales",{"$f":"D22","v":8280.2816760758597}]
[]
[null,null,"Total Actif liquide",{"$f":"SUM(D8,D16,D20,D23)","v":153475.69855498872},null,"Dettes fiscales",null,null,{"$f":"Profil_Investisseur!F96","v":0}]
["Actif non-liquide"]
["Biens"]
[null,"Résidence principale (valeur marchande)",null,{"$f":"'Bilan 2029'!D141","v":228954.53769983904}]
[null,"Investissement immobilier (valeur marchande)",null,{"$f":"'Bilan 2029'!D142","v":216234.84116095907}]
[null,"Autres propriétés (valeur)",null,{"$f":"'Bilan 2029'!D143","v":9334.9431857857071}]
[null,null,"Total biens",{"$f":"SUM(D28,D29,D30)","v":454524.32204658381}]
["Retraites"]
[null,"Plan Retraites (PERP)",null,{"$f":"'Bilan 2029'!D146","v":270.92940549138962}]
[null,"PERCO",null,{"$f":"'Bilan 2029'!D147","v":804.32223260479418}]
[null,null,"Total Retraites",{"$f":"SUM(D33,D34)","v":1075.2516380961838}]
[]
[null,null,"Total Actif non-liquide",{"$f":"SUM(D31,D35)","v":455599.57368467998}]
[]
[null,null,null,null,null,"Total Passif",null,null,{"$f":"SUM(I10:I25)","v":609075.27223966864}]
[]
["Total Actifs",null,null,{"$f":"SUM(D37+D25)","v":609075.27223966876}]
[]
[]
[]
[]
[null,"Compte de Résultat"]
[]
[null,"RESSOURCES",null,{"$f":"F2","v":"2030-01-01"},{"$f":"F115","v":"2031-01-01"}]
[null,null,"Salaire",{"$f":"'Bilan 2020'!D49*((1+'Hypothèses exogènes'!E10/100)^$L$2)","v":53756.65517376487}]
[null,null,"Rentes immobilières",{"$f":"'Bilan 2020'!D50*((1+'Hypothèses exogènes'!E11/100)^$L$2)","v":10908.487298270711}]
[null,null,"Prime d'intéressement et de participation",{"$f":"'Bilan 2020'!D51*((1+'Hypothèses exogènes'!E12/100)^$L$2)","v":600}]
[null,null,"Don(s) / Bourse(s) / Aide(s) / Allocation(s) / Pension(s)",{"$f":"'Bilan 2020'!D52*((1+'Hypothèses exogènes'!E13/100)^$L$2)","v":0}]
[null,null,"Plus-value PEA",{"$f":"D18*('Hypothèses exogènes'!D14/100+((1+'Hypothèses exogènes'!E14/100)^$L$2-1))","v":288.5360910267629}]
[null,null,"Plus-value des comptes-titres",{"$f":"D19*('Hypothèses exogènes'!D15/100+((1+'Hypothèses exogènes'!E15/100)^$L$2-1))","v":825.99882045258084}]
[null,null,"Plus-value des autres propiétés",{"$f":"D30*('Hypothèses exogènes'!D16/100+((1+'Hypothèses exogènes'!E16/100)^$L$2-1))","v":380.19108315231921}]
[null,null,"Plus-value du PEE",{"$f":"D22*('Hypothèses exogènes'!D17/100+((1+'Hypothèses exogènes'!E17/100)^$L$2-1))","v":375.9931589707557}]
[null,null,"Plus-value du PERCO",{"$f":"D34*('Hypothèses exogènes'!D18/100+((1+'Hypothèses exogènes'!E18/100)^$L$2-1))","v":36.522870706351185}]
[null,null,"Plus-value de Livret A",{"$f":"D10*('Hypothèses exogènes'!D19/100+((1+'Hypothèses exogènes'!E19/100)^$L$2-1))","v":8.128035384331362}]
[null,null,"Plus-value du PEL",{"$f":"D11*('Hypothèses exogènes'!D20/100+((1+'Hypothèses exogènes'!E20/100)^$L$2-1))","v":15.419423028393132}]
[null,null,"Plus-value du CEL",{"$f":"D12*('Hypothèses exogènes'!D21/100+((1+'Hypothèses exogènes'!E21/100)^$L$2-1))","v":21.361875568681896}]
[null,null,"Plus-value du LDD",{"$f":"D13*('Hypothèses exogènes'!D22/100+((1+'Hypothèses exogènes'!E22/100)^$L$2-1))","v":18.785743780803237}]
[null,null,"Plus-value de l'assurance-vie Fonds€",{"$f":"D14*('Hypothèses exogènes'!D23/100+((1+'Hypothèses exogènes'!E23/100)^$L$2-1))","v":3142.6616007766493}]
[null,null,"Plus-value de l'assurance-vie UC",{"$f":"D15*('Hypothèses exogènes'!D24/100+((1+'Hypothèses exogènes'!E24/100)^$L$2-1))","v":6282.9375956941203}]
[null,null,"Plus-value du plan retraites PERP",{"$f":"D33*('Hypothèses exogènes'!D25/100+((1+'Hypothèses exogènes'!E25/100)^$L$2-1))","v":12.573361498242715}]
[null,null,"Plus-value résidence principale",{"$f":"D28*('Hypothèses exogènes'!D26/100+((1+'Hypothèses exogènes'!E26/100)^$L$2-1))","v":9251.6538170358799}]
[null,null,"Plus-value du bien investissement locatif",{"$f":"D29*('Hypothèses exogènes'!D27/100+((1+'Hypothèses exogènes'!E27/100)^$L$2-1))","v":8737.6730494227741}]
[null,null,"Autres revenus",{"$f":"Profil_Investisseur!B59*12","v":0}]
[null,"Total des ressources ",null,{"$f":"SUM(D49:D67)","v":94663.578998534213}]
[]
[null,null,null,"[42]"]
[null,"CHARGES"]
[null,null,"Assurance habitation",{"$f":"(Profil_Investisseur!I109+Profil_Investisseur!E123)","v":620}]
[null,null,"Autre(s) assurance(s)",{"$f":"Profil_Investisseur!B127","v":600}]
[null,"Total assurances",null,{"$f":"D72+D73","v":1220}]
[null,null,"Intérêts crédit A (résidence principale)",{"$f":"VLOOKUP(F115,Tableau18[[#All],[Date du versement]:[Intérêts crédit A cumulés]],2,1)-VLOOKUP(F2,Tableau18[[#All],[Date du versement]:[Intérêts crédit A cumulés]],2,1)","v":1168.7610089890877}]
[null,null,"Ammortissement crédit A (résidence principale)",{"$f":"VLOOKUP(F115,Tableau18[#All],3,1)-VLOOKUP(F2,Tableau18[#All],3,1)","v":8863.9267953672097}]
[null,null,"Intérêts crédit B (Investissement locatif)",{"$f":"VLOOKUP(F115,Tableau19[[#All],[Date du versement]:[Intérêts crédit B cumulés]],2,1)-VLOOKUP(F2,Tableau19[[#All],[Date du versement]:[Intérêts crédit B cumulés]],2,1)","v":54.038476045971038}]
[null,null,"Amortissement crédit B (investissement locatif)",{"$f":"VLOOKUP(F115,Tableau19[#All],3,1)-VLOOKUP(F2,Tableau19[#All],3,1)","v":8631.7788838291599}]
[null,null,"Intérêts autres dettes",{"$f":"0","v":0}]
[null,null,"Ammortissement autres dettes",{"$f":"0","v":0}]
[null,"Total des remboursements",null,{"$f":"SUM(D75:D80)","v":18718.505164231428}]
[null,null,"Loyer + charges",{"$f":"Profil_Investisseur!B134*12","v":0}]
[null,null,"Transport, Alimentation, Pension Alimentaire,Loisirs",{"$f":"Profil_Investisseur!F63*12","v":11728.000000000002}]
[null,null,"Charges totales (propriétaire investissement locatif)",{"$f":"Profil_Investisseur!D123*12","v":600}]
[null,null,"Charges totales (propriétaire principal)",{"$f":"Profil_Investisseur!D114*12","v":600}]
[null,"Total dépenses personnelles",null,{"$f":"SUM(D82:D85)","v":12928.000000000002}]
[null,null,"Impôts sur le revenu",{"$f":"'Impôts revenus'!E17","v":4009.1260409618662}]
[null,null,"Impôts sur le foncier",{"$f":"'Impôts revenus'!F17","v":3076.8597965391073}]
[null,null,"Taxe d'habitation",{"$f":"Profil_Investisseur!J109+Profil_Investisseur!B135*12","v":881}]
[null,null,"Fiscalité sur la plus-value du PEA",{"$f":"D53*('Hypothèses exogènes'!D43/100+((1+'Hypothèses exogènes'!E43/100)^$L$2-1))","v":58.402087286918416}]
[null,null,"Fiscalité sur la plus-value des comptes-titres",{"$f":"D54*('Hypothèses exogènes'!D44/100+((1+'Hypothèses exogènes'!E44/100)^$L$2-1))","v":272.91683060875954}]
[null,null,"Fiscalité sur la plus-value des autres propiétés",{"$f":"D55*('Hypothèses exogènes'!D45/100+((1+'Hypothèses exogènes'!E45/100)^$L$2-1))","v":76.953814494944055}]
[null,null,"Fiscalité sur la plus-value du PEE",{"$f":"D56*('Hypothèses exogènes'!D46/100+((1+'Hypothèses exogènes'!E46/100)^$L$2-1))","v":76.104119978035953}]
[null,null,"Fiscalité sur la plus-value du PERCO",{"$f":"D57*('Hypothèses exogènes'!D47/100+((1+'Hypothèses exogènes'!E47/100)^$L$2-1))","v":7.3925306029161941}]
[null,null,"Fiscalité sur la plus-value de Livret A",{"$f":"D58*('Hypothèses exogènes'!D48/100+((1+'Hypothèses exogènes'!E48/100)^$L$2-1))","v":0}]
[null,null,"Fiscalité sur la plus-value du PEL",{"$f":"D59*('Hypothèses exogènes'!D49/100+((1+'Hypothèses exogènes'!E49/100)^$L$2-1))","v":5.0947046878577966}]
[null,null,"Fiscalité sur la plus-value du CEL",{"$f":"D60*('Hypothèses exogènes'!D50/100+((1+'Hypothèses exogènes'!E50/100)^$L$2-1))","v":4.3238200016327664}]
[null,null,"Fiscalité sur la plus-value du LDD",{"$f":"D61*('Hypothèses exogènes'!D51/100+((1+'Hypothèses exogènes'!E51/100)^$L$2-1))","v":0.57124172616389213}]
[null,null,"Fiscalité sur la plus-value de l'assurance-vie Fonds€",{"$f":"D62*('Hypothèses exogènes'!D52/100+((1+'Hypothèses exogènes'!E52/100)^$L$2-1))","v":636.10065717837949}]
[null,null,"Fiscalité sur la plus-value de l'assurance-vie UC",{"$f":"D63*('Hypothèses exogènes'!D53/100+((1+'Hypothèses exogènes'!E53/100)^$L$2-1))","v":1271.7184480327435}]
[null,null,"Fiscalité sur la plus-value du plan retraites PERP",{"$f":"D64*('Hypothèses exogènes'!D54/100+((1+'Hypothèses exogènes'!E54/100)^$L$2-1))","v":2.5449521863878029}]
[null,null,"Fiscalité sur la plus-value de la résidence principale",{"$f":"D65*('Hypothèses exogènes'!D55/100+((1+'Hypothèses exogènes'!E55/100)^$L$2-1))","v":0}]
[null,null,"Fiscalité sur la plus-value du bien investissement locatif",{"$f":"D66*('Hypothèses exogènes'!D56/100+((1+'Hypothèses exogènes'!E56/100)^$L$2-1))","v":0}]
[null,"Total fiscalité",null,{"$f":"SUM(D87:D103)","v":10379.109044285713}]
[null,null,"Dépenses exceptionnelles",{"$f":"D49*'Hypothèses exogènes'!D57/100","v":3225.3993104258925},null,null,"Pour vérifier"]
[null,"Total des charges ",null,{"$f":"SUM(D74,D81,D86,D104,D105)","v":46471.013518943037},null,null,"Somme ammortissements + résultat net",null,{"$f":"D76+D78+D80+D108","v":65688.271158787538}]
[]
[null,"Résultat Net Comptable",null,{"$f":"D68-D106","v":48192.565479591176},null,null,"Différence fonds propres",null,{"$f":"I123-I10","v":65688.271158787538}]
[]
[null,null,null,null,null,null,"Différence Actifs",null,{"$f":"D154-D41","v":48192.565479591023}]
[]
[]
[]
[]
[null,null,"Bilan Actif Passif",null,"Date:",{"$f":"H115","v":"2031-01-01"},null,{"$f":"EDATE(F2,12)","v":"2031-01-01"}]
[]
["Actif",null,null,null,null,"Passif"]
["Actif liquide"]
["Compte(s) courant(s)",null,null,null,null,"Fonds propres"]
[null,"Compte(s) courant(s)",null,{"$f":"F162","v":1000},null,"Fonds propres liquide",null,null,{"$f":"D138-SUM(I126:I134)","v":119312.75708768325}]
[null,null,"Total compte(s) courant(s)",{"$f":"D120","v":1000},null,"Fonds propres semi-liquide",null,null,{"$f":"D144","v":472893.83999619476}]
["Epargnes classiques",null,null,null,null,"Fonds propres non-liquide",null,null,{"$f":"D148","v":1124.3478703007777}]
[null,"Livret A",null,{"$f":"D10+D58","v":1091.8660866285129},null,"Total Fonds propres",null,null,{"$f":"SUM(I120:I122)","v":593330.94495417876}]
[null,"PEL",null,{"$f":"D11+D59","v":397.01031919479152}]
[null,"CEL",null,{"$f":"D12+D60","v":624.6639676658275}]
[null,"LDD",null,{"$f":"D13+D61","v":514.34384199213389},null,"Capital restant dû crédit résidence principale",null,null,{"$f":"I16-D76","v":63936.892765080935}]
[null,"Assurance  vie Fonds euros",null,{"$f":"D14+D62+F163","v":74583.909021915242}]
[null,"Assurance vie Unités de compte",null,{"$f":"D15+D63+F164","v":81233.186990952381}]
[null,null,"Total épargnes classiques",{"$f":"SUM(D123:D128)","v":158444.98022834887}]
["Actifs financiers",null,null,null,null,"Capital restant dû crédit investissement immo locatif",null,null,{"$f":"I19-D78","v":1.3824319466948509E-10}]
[null,"PEA",null,{"$f":"D18+D53","v":5495.9926377110096}]
[null,"Compte-titres",null,{"$f":"D19+D54","v":9052.4021516578505},null,"Capital restant dû autres prêts / dettes…",null,null,{"$f":"0","v":0}]
[null,null,"Total actifs financiers",{"$f":"SUM(D131,D132)","v":14548.39478936886}]
["Epargnes salariales",null,null,null,null,"Dettes fiscales",null,null,{"$f":"Profil_Investisseur!F173","v":0}]
[null,"PEE",null,{"$f":"D22+D56+D51","v":9256.2748350466154},null,"Résultat net comptable",null,null,{"$f":"D108","v":48192.565479591176}]
[null,null,"Total épargnes salariales",{"$f":"D135","v":9256.2748350466154}]
[]
[null,null,"Total Actif liquide",{"$f":"SUM(D121,D129,D133,D136)","v":183249.64985276433}]
["Actif non-liquide"]
["Biens"]
[null,"Résidence principale (valeur marchande)",null,{"$f":"D28+D65","v":238206.19151687491}]
[null,"Investissement immobilier (valeur marchande)",null,{"$f":"D29+D66","v":224972.51421038184}]
[null,"Autres propriétés (valeur)",null,{"$f":"D30+D55","v":9715.1342689380272}]
[null,null,"Total biens",{"$f":"SUM(D141,D142,D143)","v":472893.83999619476}]
["Retraites"]
[null,"Plan Retraites (PERP)",null,{"$f":"D33+D64","v":283.50276698963233},null,"Total Passif",null,null,{"$f":"SUM(I123:I134)","v":657267.83771925978}]
[null,"PERCO",null,{"$f":"D34+D57","v":840.84510331114541}]
[null,null,"Total Retraites",{"$f":"SUM(D146,D147)","v":1124.3478703007777}]
[]
[null,null,"Total Actif non-liquide",{"$f":"SUM(D144,D148)","v":474018.18786649551}]
[]
[]
[]
["Total Actifs",null,null,{"$f":"SUM(D150+D138)","v":657267.83771925978}]
[]
[]
[]
[]
[]
[]
[null,null,null,null,"\"compte courant intermédiaire\"",{"$f":"D7+D49+D50+D52+D67-D106","v":19194.12895309255}]
[null,null,null,null,"compte-courant final",{"$f":"MIN(1000,F161)","v":1000}]
[null,null,null,null,"Va dans Assurance-Vie Fonds euros",{"$f":"(F161-F162)*(1-'Hypothèses exogènes'!C3)","v":9097.0644765462748}]
[null,null,null,null,"Va dans Assurance-Vie Unités de compte",{"$f":"(F161-F162)*'Hypothèses exogènes'!C3","v":9097.0644765462748}]

{"sheet":"Graphiques","index":16,"n_rows":71,"n_cols":22,"rows_kept":71,"cut":false,"hidden":false,"merged":[]}
[]
[null,"Date","Actifs",null,null,null,null,null,null,null,null,null,"Date","Dettes",null,null,null,null,null,null,"Compte(s) courant(s)",{"$f":"'Bilan Fin 2019'!D7","v":1000}]
[null,2020,{"$f":"'Bilan 2020'!D41","v":379996.87812927325},null,null,null,null,null,null,null,null,null,2020,{"$f":"C3-C20","v":268540.90186929668},null,null,null,null,null,null,"Livret A",{"$f":"'Bilan Fin 2019'!D10","v":1000}]
[null,2021,{"$f":"'Bilan 2021'!D41","v":389535.63956407044},null,null,null,null,null,null,null,null,null,2021,{"$f":"C4-C21","v":251136.34798950999},null,null,null,null,null,null,"PEL",{"$f":"'Bilan Fin 2019'!D11","v":300}]
[null,2022,{"$f":"'Bilan 2022'!D41","v":400776.70627864043},null,null,null,null,null,null,null,null,null,2022,233453.74443475928,null,null,null,null,null,null,"CEL",{"$f":"'Bilan Fin 2019'!D12","v":500}]
[null,2023,{"$f":"'Bilan 2023'!D41","v":415238.85127600341},null,null,null,null,null,null,null,null,null,2023,215488.63160273983,null,null,null,null,null,null,"LDD",{"$f":"'Bilan Fin 2019'!D13","v":400}]
[null,2024,{"$f":"'Bilan 2024'!D41","v":431479.76097599184},null,null,null,null,null,null,null,null,null,2024,197236.47807960436,null,null,null,null,null,null,"Assurance(s) vie(s)",{"$f":"'Bilan Fin 2019'!D14","v":5000}]
[null,2025,{"$f":"'Bilan 2025'!D41","v":451568.07958507142},null,null,null,null,null,null,null,null,null,2025,178692.67947901291,null,null,null,null,null,null,"PEA",{"$f":"'Bilan Fin 2019'!D18","v":3500}]
[null,2026,{"$f":"'Bilan 2026'!D41","v":475196.71810755774},null,null,null,null,null,null,null,null,null,2026,159852.55726234196,null,null,null,null,null,null,"Compte-titres",{"$f":"'Bilan Fin 2019'!D19","v":3500}]
[null,2027,{"$f":"'Bilan 2027'!D41","v":502414.27314147272},null,null,null,null,null,null,null,null,null,2027,140711.35753974231,null,null,null,null,null,null,"PEE",{"$f":"'Bilan Fin 2019'!D22","v":500}]
[null,2028,{"$f":"'Bilan 2028'!D41","v":533545.07467818458},null,null,null,null,null,null,null,null,null,2028,121264.24985173729,null,null,null,null,null,null,"Résidence principale (valeur marchande)",{"$f":"'Bilan Fin 2019'!D28","v":180000}]
[null,2029,{"$f":"'Bilan 2029'!D41","v":568958.63848683808},null,null,null,null,null,null,null,null,null,2029,101506.32593104115,null,null,null,null,null,null,"Investissement immobilier (valeur marchande)",{"$f":"'Bilan Fin 2019'!D29","v":170000}]
[null,2030,{"$f":"'Bilan 2030'!D41","v":609075.27223966876},null,null,null,null,null,null,null,null,null,2030,81432.598444277537,null,null,null,null,null,null,"Autres propriétés (valeur)",{"$f":"'Bilan Fin 2019'!D30","v":7800}]
[null,null,null,null,null,null,null,null,null,null,null,null,null,null,null,null,null,null,null,null,"Plan Retraites (PERP)",{"$f":"'Bilan Fin 2019'!D33","v":200}]
[null,null,null,null,null,null,null,null,null,null,null,null,null,null,null,null,null,null,null,null,"PERCO",{"$f":"'Bilan Fin 2019'!D34","v":600}]
[]
[]
[]
[null,"Date","Fonds Propres"]
[null,2020,{"$f":"'Bilan 2020'!I10","v":111455.9762599766}]
[null,2021,{"$f":"'Bilan 2021'!I10","v":138399.29157456046}]
[null,2022,{"$f":"'Bilan 2022'!I10","v":167322.96184388114}]
[null,2023,{"$f":"'Bilan 2023'!I10","v":199750.21967326358}]
[null,2024,{"$f":"'Bilan 2024'!I10","v":234243.28289638748}]
[null,2025,{"$f":"'Bilan 2025'!I10","v":272875.40010605851}]
[null,2026,{"$f":"'Bilan 2026'!I10","v":315344.16084521578}]
[null,2027,{"$f":"'Bilan 2027'!I10","v":361702.9156017304}]
[null,2028,{"$f":"'Bilan 2028'!I10","v":412280.82482644729}]
[null,2029,{"$f":"'Bilan 2029'!I10","v":467452.31255579693}]
[null,2030,{"$f":"'Bilan 2030'!I10","v":527642.67379539122}]
[]
[]
[]
[]
[]
[]
[]
[]
[]
[]
[]
[]
[]
[]
[]
[]
[]
[]
[]
[]
[]
[]
[]
[]
[]
[]
[]
[null,null,null,null,null,null,null,null,null,null,null,null,null,null,null,null,null,null,null,null,"Compte(s) courant(s)",{"$f":"'Bilan 2030'!D7","v":1000}]
[null,null,null,null,null,null,null,null,null,null,null,null,null,null,null,null,null,null,null,null,"Livret A",{"$f":"'Bilan 2030'!D10","v":1083.7380512441816}]
[null,null,null,null,null,null,null,null,null,null,null,null,null,null,null,null,null,null,null,null,"PEL",{"$f":"'Bilan 2030'!D11","v":381.59089616639841}]
[null,null,null,null,null,null,null,null,null,null,null,null,null,null,null,null,null,null,null,null,"CEL",{"$f":"'Bilan 2030'!D12","v":603.30209209714565}]
[null,null,null,null,null,null,null,null,null,null,null,null,null,null,null,null,null,null,null,null,"LDD",{"$f":"'Bilan 2030'!D13","v":495.55809821133062}]
[null,null,null,null,null,null,null,null,null,null,null,null,null,null,null,null,null,null,null,null,"Assurance(s) vie(s)",{"$f":"'Bilan 2030'!D14","v":62344.182944592314}]
[null,null,null,null,null,null,null,null,null,null,null,null,null,null,null,null,null,null,null,null,"PEA",{"$f":"'Bilan 2030'!D18","v":5207.4565466842469}]
[null,null,null,null,null,null,null,null,null,null,null,null,null,null,null,null,null,null,null,null,"Compte-titres",{"$f":"'Bilan 2030'!D19","v":8226.4033312052688}]
[null,null,null,null,null,null,null,null,null,null,null,null,null,null,null,null,null,null,null,null,"PEE",{"$f":"'Bilan 2030'!D22","v":8280.2816760758597}]
[null,null,null,null,null,null,null,null,null,null,null,null,null,null,null,null,null,null,null,null,"Résidence principale (valeur marchande)",{"$f":"'Bilan 2030'!D28","v":228954.53769983904}]
[null,null,null,null,null,null,null,null,null,null,null,null,null,null,null,null,null,null,null,null,"Investissement immobilier (valeur marchande)",{"$f":"'Bilan 2030'!D29","v":216234.84116095907}]
[null,null,null,null,null,null,null,null,null,null,null,null,null,null,null,null,null,null,null,null,"Autres propriétés (valeur)",{"$f":"'Bilan 2030'!D30","v":9334.9431857857071}]
[null,null,null,null,null,null,null,null,null,null,null,null,null,null,null,null,null,null,null,null,"Plan Retraites (PERP)",{"$f":"'Bilan 2030'!D33","v":270.92940549138962}]
[null,null,null,null,null,null,null,null,null,null,null,null,null,null,null,null,null,null,null,null,"PERCO",{"$f":"'Bilan 2030'!D34","v":804.32223260479418}]

{"sheet":"Graphiques Actifs","index":17,"n_rows":58,"n_cols":4,"rows_kept":58,"cut":false,"hidden":false,"merged":[]}
[]
[]
[]
[]
[null,null,"Date","Actifs liquides"]
[null,null,2020,{"$f":"'Bilan 2020'!D25","v":18721.83264982123}]
[null,null,2021,{"$f":"'Bilan 2021'!D25","v":24721.594732289679}]
[null,null,2022,{"$f":"'Bilan 2022'!D25","v":31285.965018425693}]
[null,null,2023,{"$f":"'Bilan 2023'!D25","v":39891.134791654469}]
[null,null,2024,{"$f":"'Bilan 2024'!D25","v":49040.898841205839}]
[null,null,2025,{"$f":"'Bilan 2025'!D25","v":60737.87186701248}]
[null,null,2026,{"$f":"'Bilan 2026'!D25","v":74595.770938267699}]
[null,null,2027,{"$f":"'Bilan 2027'!D25","v":90569.586756398887}]
[null,null,2028,{"$f":"'Bilan 2028'!D25","v":108874.13537410766}]
[null,null,2029,{"$f":"'Bilan 2029'!D25","v":129751.73242375048}]
[null,null,2030,{"$f":"'Bilan 2030'!D25","v":153475.69855498872}]
[]
[]
[]
[]
[]
[]
[]
[]
[null,null,"Date","Actifs semi-liquides"]
[null,null,2020,{"$f":"'Bilan 2020'!D31","v":360465.75342465751}]
[null,null,2021,{"$f":"'Bilan 2021'!D31","v":363992.41095890407}]
[null,null,2022,{"$f":"'Bilan 2022'!D31","v":368654.11230136978}]
[null,null,2023,{"$f":"'Bilan 2023'!D31","v":374493.30120360234}]
[null,null,2024,{"$f":"'Bilan 2024'!D31","v":381563.70359817776}]
[null,null,2025,{"$f":"'Bilan 2025'!D31","v":389931.15299026133}]
[null,null,2026,{"$f":"'Bilan 2026'!D31","v":399674.61392458051}]
[null,null,2027,{"$f":"'Bilan 2027'!D31","v":410887.42585230683}]
[null,null,2028,{"$f":"'Bilan 2028'!D31","v":423678.79488338926}]
[null,null,2029,{"$f":"'Bilan 2029'!D31","v":438175.56685382169}]
[null,null,2030,{"$f":"'Bilan 2030'!D31","v":454524.32204658381}]
[]
[]
[]
[]
[]
[]
[]
[]
[]
[]
[null,null,"Date","Actifs non-liquides"]
[null,null,2020,{"$f":"'Bilan 2020'!$D$35","v":809.29205479452048}]
[null,null,2021,{"$f":"'Bilan 2021'!$D$35","v":821.6338728767123}]
[null,null,2022,{"$f":"'Bilan 2022'!$D$35","v":836.62895884493139}]
[null,null,2023,{"$f":"'Bilan 2023'!$D$35","v":854.41528074661505}]
[null,null,2024,{"$f":"'Bilan 2024'!$D$35","v":875.15853660821074}]
[null,null,2025,{"$f":"'Bilan 2025'!$D$35","v":899.0547277976483}]
[null,null,2026,{"$f":"'Bilan 2026'!$D$35","v":926.3332447095155}]
[null,null,2027,{"$f":"'Bilan 2027'!$D$35","v":957.26053276699906}]
[null,null,2028,{"$f":"'Bilan 2028'!$D$35","v":992.14442068760945}]
[null,null,2029,{"$f":"'Bilan 2029'!$D$35","v":1031.3392092659549}]
[null,null,2030,{"$f":"'Bilan 2030'!$D$35","v":1075.2516380961838}]

{"sheet":"Graphique Fonds propres","index":18,"n_rows":16,"n_cols":17,"rows_kept":16,"cut":false,"hidden":false,"merged":[]}
[]
[]
[null,null,null,null,null,null,null,null,"Graphique des actifs, passifs et fonds propres sur le même graphe"]
[]
[null,null,null,null,null,null,null,null,"Date","Actifs","Dettes","Fonds propres","Fonds propres liquides",null,null,null,"Si les fonds propres liquides sont inférieurs à l'objectif, on ajoute 1 au nombre d'années nécessaires pour atteindre l'objectif"]
[null,null,null,null,null,null,null,null,"2020-01-01",{"$f":"'Bilan 2020'!D41","v":379996.87812927325},{"$f":"'Bilan 2020'!I39-'Bilan 2020'!I10","v":268540.90186929668},{"$f":"'Bilan 2020'!I10","v":111455.9762599766},{"$f":"'Bilan 2020'!$I$7","v":-249819.06921947544},null,null,null,{"$f":"IF(M6>Profil_Investisseur!$D$14,0,1)","v":1}]
[null,null,null,null,null,null,null,null,"2021-01-01",{"$f":"'Bilan 2021'!D41","v":389535.63956407044},{"$f":"'Bilan 2021'!I39-'Bilan 2021'!I10","v":251136.34798950999},{"$f":"'Bilan 2021'!I10","v":138399.29157456046},{"$f":"'Bilan 2021'!$I$7","v":-226414.75325722032},null,null,null,{"$f":"IF(M7>Profil_Investisseur!$D$14,0,1)","v":1}]
[null,null,null,null,null,null,null,null,"2022-01-01",{"$f":"'Bilan 2022'!D41","v":400776.70627864043},{"$f":"'Bilan 2022'!I39-'Bilan 2022'!I10","v":233453.74443475922},{"$f":"'Bilan 2022'!I10","v":167322.96184388114},{"$f":"'Bilan 2022'!$I$7","v":-202167.77941633356},null,null,null,{"$f":"IF(M8>Profil_Investisseur!$D$14,0,1)","v":1}]
[null,null,null,null,null,null,null,null,"2023-01-01",{"$f":"'Bilan 2023'!D41","v":415238.85127600341},{"$f":"'Bilan 2023'!I39-'Bilan 2023'!I10","v":215488.63160273983},{"$f":"'Bilan 2023'!I10","v":199750.21967326358},{"$f":"'Bilan 2023'!$I$7","v":-175597.49681108538},null,null,null,{"$f":"IF(M9>Profil_Investisseur!$D$14,0,1)","v":1}]
[null,null,null,null,null,null,null,null,"2024-01-01",{"$f":"'Bilan 2024'!D41","v":431479.76097599184},{"$f":"'Bilan 2024'!I39-'Bilan 2024'!I10","v":197236.47807960436},{"$f":"'Bilan 2024'!I10","v":234243.28289638748},{"$f":"'Bilan 2024'!$I$7","v":-148195.5792383985},null,null,null,{"$f":"IF(M10>Profil_Investisseur!$D$14,0,1)","v":1}]
[null,null,null,null,null,null,null,null,"2025-01-01",{"$f":"'Bilan 2025'!D41","v":451568.07958507142},{"$f":"'Bilan 2025'!I39-'Bilan 2025'!I10","v":178692.67947901296},{"$f":"'Bilan 2025'!I10","v":272875.40010605851},{"$f":"'Bilan 2025'!$I$7","v":-117954.80761200046},null,null,null,{"$f":"IF(M11>Profil_Investisseur!$D$14,0,1)","v":1}]
[null,null,null,null,null,null,null,null,"2026-01-01",{"$f":"'Bilan 2026'!D41","v":475196.71810755774},{"$f":"'Bilan 2026'!I39-'Bilan 2026'!I10","v":159852.5572623419},{"$f":"'Bilan 2026'!I10","v":315344.16084521578},{"$f":"'Bilan 2026'!$I$7","v":-85256.78632407423},null,null,null,{"$f":"IF(M12>Profil_Investisseur!$D$14,0,1)","v":1}]
[null,null,null,null,null,null,null,null,"2027-01-01",{"$f":"'Bilan 2027'!D41","v":502414.27314147272},{"$f":"'Bilan 2027'!I39-'Bilan 2027'!I10","v":140711.35753974231},{"$f":"'Bilan 2027'!I10","v":361702.9156017304},{"$f":"'Bilan 2027'!$I$7","v":-50141.770783343425},null,null,null,{"$f":"IF(M13>Profil_Investisseur!$D$14,0,1)","v":1}]
[null,null,null,null,null,null,null,null,"2028-01-01",{"$f":"'Bilan 2028'!D41","v":533545.07467818458},{"$f":"'Bilan 2028'!I39-'Bilan 2028'!I10","v":121264.24985173729},{"$f":"'Bilan 2028'!I10","v":412280.82482644729},{"$f":"'Bilan 2028'!$I$7","v":-12390.114477629613},null,null,null,{"$f":"IF(M14>Profil_Investisseur!$D$14,0,1)","v":1}]
[null,null,null,null,null,null,null,null,"2029-01-01",{"$f":"'Bilan 2029'!D41","v":568958.63848683808},{"$f":"'Bilan 2029'!I39-'Bilan 2029'!I10","v":101506.32593104115},{"$f":"'Bilan 2029'!I10","v":467452.31255579693},{"$f":"'Bilan 2029'!$I$7","v":28245.406492709313},null,null,null,{"$f":"IF(M15>Profil_Investisseur!$D$14,0,1)","v":0}]
[null,null,null,null,null,null,null,null,"2030-01-01",{"$f":"'Bilan 2030'!D41","v":609075.27223966876},{"$f":"'Bilan 2030'!I39-'Bilan 2030'!I10","v":81432.598444277421},{"$f":"'Bilan 2030'!I10","v":527642.67379539122},{"$f":"'Bilan 2030'!$I$7","v":72043.100110711268},null,null,null,{"$f":"IF(M16>Profil_Investisseur!$D$14,0,1)","v":0}]

{"sheet":"Hypothèses exogènes","index":19,"n_rows":57,"n_cols":5,"rows_kept":57,"cut":false,"hidden":false,"merged":[]}
[]
[]
[null,"Appetence au risque de 0 à 1",{"$f":"E3","v":0.5},null,{"$f":"IF(Profil_Investisseur!B44=\"Risqué\",1,IF(Profil_Investisseur!B44=\"Standard\",0.5,0))","v":0.5}]
[null,"(à 1 toutes les rentrées d'argent vont dans les actifs financiers, à 0 dans l'Assurance-Vie)"]
[]
[]
[null,"Points du CR","Remarques","Taux actuel","Inflation moyenne annuel en pourcentage"]
[]
[]
[null,"Revalorisation du salaire",null,"RAS",3]
[null,"Revalorisation des loyers perçus",null,null,0.1]
[null,"Prime d'intéressement et de participation",null,"RAS",0]
[null,"Don(s) / Bourse(s) / Aide(s) / Allocation(s) / Pension(s)",null,"RAS",0]
[null,"Plus-value PEA","rapporte",2.5,{"$f":"0.3","v":0.3}]
[null,"Plus-value des comptes-titres","\"",7,{"$f":"0.3","v":0.3}]
[null,"Plus-value des autres propiétés","\"",0,0.4]
[null,"Plus-value du PEE","\"",1.5,0.3]
[null,"Plus-value du PERCO","\"",1.5,0.3]
[null,"Plus-value de Livret A","\"",0.75,0]
[null,"Plus-value du PEL","\"",1,0.3]
[null,"Plus-value du CEL","\"",0.5,0.3]
[null,"Plus-value du LDD","\"",0.75,0.3]
[null,"Plus-value de l'assurance-vie Fonds€","\"",2,0.3]
[null,"Plus-value de l'assurance-vie UC","\"",6.5,0.3]
[null,"Plus-value du plan retraites PERP","\"",1.6,0.3]
[null,"Plus-value résidence principale","\"",1,0.3]
[null,"Plus-value du bien investissement locatif","\"",1,0.3]
[]
[]
[]
[null,"CSG",null,{"$f":"17.2","v":17.2},0.3]
[]
[]
[]
[null,"Loyer + charges",null,0,0]
[null,"Transport, Alimentation, Pension Alimentaire,Loisirs",null,0,{"$f":"2","v":2}]
[null,"Charges totales (propriétaire investissement locatif)",null,0,{"$f":"1.5","v":1.5}]
[null,"Charges totales (propriétaire principal)",null,0,{"$f":"1.2","v":1.2}]
[]
[null,"Impôts sur le revenu"]
[null,"Impôts sur le foncier"]
[null,"Taxe d'habitation"]
[null,"Fiscalité sur la plus-value du PEA",null,{"$f":"17.2","v":17.2},{"$f":"0.3","v":0.3}]
[null,"Fiscalité sur la plus-value des comptes-titres",null,{"$f":"30","v":30},0.3]
[null,"Fiscalité sur la plus-value des autres propiétés",null,{"$f":"17.2","v":17.2},0.3]
[null,"Fiscalité sur la plus-value du PEE",null,17.2,0.3]
[null,"Fiscalité sur la plus-value du PERCO",null,17.2,0.3]
[null,"Fiscalité sur la plus-value de Livret A",null,0,0]
[null,"Fiscalité sur la plus-value du PEL",null,30,0.3]
[null,"Fiscalité sur la plus-value du CEL",null,17.2,0.3]
[null,"Fiscalité sur la plus-value du LDD",null,0,0.3]
[null,"Fiscalité sur la plus-value de l'assurance-vie UC",null,{"$f":"17.2","v":17.2},{"$f":"0.3","v":0.3}]
[null,"Fiscalité sur la plus-value de l'assurance-vie Fonds€",null,17.2,0.3]
[null,"Fiscalité sur la plus-value du plan retraites PERP",null,17.2,0.3]
[null,"Fiscalité sur la plus-value de la résidence principale",null,0,0]
[null,"Fiscalité sur la plus-value du bien investissement locatif",null,0,0]
[null,"Dépenses exceptionnelles",null,{"$f":"IF(Profil_Investisseur!B49=\"Dépensier\",14,IF(Profil_Investisseur!B49=\"Standard\",10,6))","v":6}]

{"sheet":"Parametres Tout Les Biens","index":20,"n_rows":23,"n_cols":11,"rows_kept":23,"cut":false,"hidden":true,"merged":[[0,1,1,5]]}
[null,"Paramètres exogènes à tous les biens possédés"]
[]
[null,"Note: Les valeurs par défaut sont des indications proches de la réalité, mais vous restez libres de les modifier"]
[]
[]
[null,null,null,"Valeurs par défaut","Meilleur Scénario","Pire Scénario"]
[null,"Impôts"]
[]
[null,"Régime fiscal d'imposition","Micro-foncier"]
[null,"Vos revenus net (par an)",{"$f":"Profil_Investisseur!B11","v":40000},{"$f":"Profil_Investisseur!B12","v":0}]
[null,"Nombre d'enfant(s)",0,null,null,null,null,null,null,"Nombre de parts",1]
[]
[]
[null,"Paramètres avancés pour tout les biens"]
[]
[null,"Augmentation annuelle du loyer (%)",{"$f":"'Hypothèses exogènes'!D35","v":0}]
[null,"Augmentation annuelle des charges (%)",{"$f":"'Hypothèses exogènes'!D35","v":0},1E-3,0.1,0]
[null,"Augmentation annuelle des revenus (%)",{"$f":"'Hypothèses exogènes'!E10/100","v":0.03},{"$f":"'Hypothèses exogènes'!E10/100","v":0.03},0,0.1]
[null,"Taux de prélèvements sociaux",0.17199999999999999,5.0000000000000001E-3,0.05,0]
[null,"Augmentation annuelle des tranches d'imposition (%)",0,{"$f":"'Hypothèses exogènes'!D31/100","v":0.17199999999999999}]
[null,"Taux utilisé pour la VAN ",0.02,0.01]
[null,"Pourcentage de décôte du bien",0.2,"2% (Assurance Vie)"]
[null,null,null,0.2]

{"sheet":"Feuille de calcul_ammor","index":21,"n_rows":243,"n_cols":24,"rows_kept":243,"cut":false,"hidden":false,"merged":[]}
[null,null,null,null,null,null,null,null,null,null,"ne pas changer les cellules de ces dates (L1 et M1)",{"$f":"'Bilan Fin 2019'!H2","v":"2019-03-29"},"2020-01-01","2020-01-01","2021-01-01"]
[null,null,"(tableauA)Tableau pour fonction RechercheV pour remplir le CRD dans le bilan",null,null,null,null,null,"TableauB"]
[null,null,"Date du versement","CRD",null,null,null,null,"Date du versement","CRD",null,null,"Date du versement","Intérêts crédit A cumulés","Crédit A amortissement cumulé",null,null,"Date du versement","Intérêts crédit B cumulés","Crédit B amortissement cumulé",null,null,"Crédit A","Crédit B"]
[null,null,{"$f":"'Tableau d''amortissement A'!C18","v":"2017-11-01"},{"$f":"'Tableau d''amortissement A'!I18","v":169404.77601630363},null,null,null,null,{"$f":"'Tableau d''amortissement B'!C18","v":"2010-11-01"},{"$f":"'Tableau d''amortissement B'!I18","v":199284.90918223609},null,null,{"$f":"'Tableau d''amortissement A'!C18","v":"2017-11-01"},{"$f":"'Tableau d''amortissement A'!K18","v":240.83333333333334},{"$f":"'Tableau d''amortissement A'!H18","v":595.22398369635982},null,null,{"$f":"'Tableau d''amortissement B'!C18","v":"2010-11-01"},{"$f":"'Tableau d''amortissement B'!K18","v":250},{"$f":"'Tableau d''amortissement B'!H18","v":715.09081776390508},null,"Intérêts cumulés à la date choisie en 2019",{"$f":"VLOOKUP(L1,Tableau18[[#All],[Date du versement]:[Intérêts crédit A cumulés]],2,1)","v":3978.6704878019691},{"$f":"VLOOKUP(L1,Tableau19[[#All],[Date du versement]:[Intérêts crédit B cumulés]],2,1)","v":20543.942704613724}]
[null,null,{"$f":"'Tableau d''amortissement A'!C19","v":"2017-12-01"},{"$f":"'Tableau d''amortissement A'!I19","v":168808.70879863037},null,null,null,null,{"$f":"'Tableau d''amortissement B'!C19","v":"2010-12-01"},{"$f":"'Tableau d''amortissement B'!I19","v":198568.92450094997},null,null,{"$f":"'Tableau d''amortissement A'!C19","v":"2017-12-01"},{"$f":"'Tableau d''amortissement A'!K19","v":480.82343268976354},{"$f":"O4+'Tableau d''amortissement A'!H19","v":1191.2912013696227},null,null,{"$f":"'Tableau d''amortissement B'!C19","v":"2010-12-01"},{"$f":"'Tableau d''amortissement B'!K19","v":499.10613647779508},{"$f":"T4+'Tableau d''amortissement B'!H19","v":1431.075499050015},null,"Intérêts cumulés au 01/01/2020",{"$f":"VLOOKUP(N1,Tableau18[[#All],[Date du versement]:[Intérêts crédit A cumulés]],2,1)","v":6203.000828476971},{"$f":"VLOOKUP(N1,Tableau19[[#All],[Date du versement]:[Intérêts crédit B cumulés]],2,1)","v":22036.52937241481}]
[null,null,{"$f":"'Tableau d''amortissement A'!C20","v":"2018-01-01"},{"$f":"'Tableau d''amortissement A'!I20","v":168211.79715239874},null,null,null,null,{"$f":"'Tableau d''amortissement B'!C20","v":"2011-01-01"},{"$f":"'Tableau d''amortissement B'!I20","v":197852.04483881226},null,null,{"$f":"'Tableau d''amortissement A'!C20","v":"2018-01-01"},{"$f":"'Tableau d''amortissement A'!K20","v":719.96910348782319},{"$f":"O5+'Tableau d''amortissement A'!H20","v":1788.2028476012563},null,null,{"$f":"'Tableau d''amortissement B'!C20","v":"2011-01-01"},{"$f":"'Tableau d''amortissement B'!K20","v":747.31729210398248},{"$f":"T5+'Tableau d''amortissement B'!H20","v":2147.9551611877328},null,"Intérêts cumulés sur la fin de l'année 2019",{"$f":"W5-W4","v":2224.3303406750019},{"$f":"X5-X4","v":1492.5866678010862}]
[null,null,{"$f":"'Tableau d''amortissement A'!C21","v":"2018-02-01"},{"$f":"'Tableau d''amortissement A'!I21","v":167614.03988133493},null,{"$f":"VLOOKUP(L1,Tableau1[#All],2,1)","v":159765.69609829717},null,null,{"$f":"'Tableau d''amortissement B'!C21","v":"2011-02-01"},{"$f":"'Tableau d''amortissement B'!I21","v":197134.26907709686},null,null,{"$f":"'Tableau d''amortissement A'!C21","v":"2018-02-01"},{"$f":"'Tableau d''amortissement A'!K21","v":958.26914945372141},{"$f":"O6+'Tableau d''amortissement A'!H21","v":2385.9601186650511},null,null,{"$f":"'Tableau d''amortissement B'!C21","v":"2011-02-01"},{"$f":"'Tableau d''amortissement B'!K21","v":994.6323481524978},{"$f":"T6+'Tableau d''amortissement B'!H21","v":2865.7309229031225}]
[null,null,{"$f":"'Tableau d''amortissement A'!C22","v":"2018-03-01"},{"$f":"'Tableau d''amortissement A'!I22","v":167015.43578747046},null,null,null,null,{"$f":"'Tableau d''amortissement B'!C22","v":"2011-03-01"},{"$f":"'Tableau d''amortissement B'!I22","v":196415.59609567933},null,null,{"$f":"'Tableau d''amortissement A'!C22","v":"2018-03-01"},{"$f":"'Tableau d''amortissement A'!K22","v":1195.7223726189459},{"$f":"O7+'Tableau d''amortissement A'!H22","v":2984.5642125295199},null,null,{"$f":"'Tableau d''amortissement B'!C22","v":"2011-03-01"},{"$f":"'Tableau d''amortissement B'!K22","v":1241.0501844988689},{"$f":"T7+'Tableau d''amortissement B'!H22","v":3584.4039043206567},null,"Amortissement cumulé à la date choisie en 2019",{"$f":"VLOOKUP(L1,Tableau18[#All],3,1)","v":10234.303901702817},{"$f":"VLOOKUP(L1,Tableau19[#All],3,1)","v":76930.229889540657}]
[null,null,{"$f":"'Tableau d''amortissement A'!C23","v":"2018-04-01"},{"$f":"'Tableau d''amortissement A'!I23","v":166415.98367113969},null,null,null,null,{"$f":"'Tableau d''amortissement B'!C23","v":"2011-04-01"},{"$f":"'Tableau d''amortissement B'!I23","v":195696.02477303502},null,null,{"$f":"'Tableau d''amortissement A'!C23","v":"2018-04-01"},{"$f":"'Tableau d''amortissement A'!K23","v":1432.3275733178623},{"$f":"O8+'Tableau d''amortissement A'!H23","v":3584.0163288602967},null,null,{"$f":"'Tableau d''amortissement B'!C23","v":"2011-04-01"},{"$f":"'Tableau d''amortissement B'!K23","v":1486.5696796184682},{"$f":"T8+'Tableau d''amortissement B'!H23","v":4303.9752269649625},null,"Amortissement cumulé au 01/01/2020",{"$f":"VLOOKUP(M1,Tableau18[#All],3,1)","v":16370.546731324748},{"$f":"VLOOKUP(M1,Tableau19[#All],3,1)","v":85088.551399378615}]
[null,null,{"$f":"'Tableau d''amortissement A'!C24","v":"2018-05-01"},{"$f":"'Tableau d''amortissement A'!I24","v":165815.68233097743},null,null,null,null,{"$f":"'Tableau d''amortissement B'!C24","v":"2011-05-01"},{"$f":"'Tableau d''amortissement B'!I24","v":194975.55398623741},null,null,{"$f":"'Tableau d''amortissement A'!C24","v":"2018-05-01"},{"$f":"'Tableau d''amortissement A'!K24","v":1668.0835501853103},{"$f":"O9+'Tableau d''amortissement A'!H24","v":4184.3176690225418},null,null,{"$f":"'Tableau d''amortissement B'!C24","v":"2011-05-01"},{"$f":"'Tableau d''amortissement B'!K24","v":1731.189710584762},{"$f":"T9+'Tableau d''amortissement B'!H24","v":5024.4460137625738},null,"Amortissement cumulé sur la fin de l'année 2019",{"$f":"W9-W8","v":6136.2428296219314},{"$f":"X9-X8","v":8158.3215098379587}]
[null,null,{"$f":"'Tableau d''amortissement A'!C25","v":"2018-06-01"},{"$f":"'Tableau d''amortissement A'!I25","v":165214.53056391663},null,null,null,null,{"$f":"'Tableau d''amortissement B'!C25","v":"2011-06-01"},{"$f":"'Tableau d''amortissement B'!I25","v":194254.18261095631},null,null,{"$f":"'Tableau d''amortissement A'!C25","v":"2018-06-01"},{"$f":"'Tableau d''amortissement A'!K25","v":1902.9891001541951},{"$f":"O10+'Tableau d''amortissement A'!H25","v":4785.46943608335},null,null,{"$f":"'Tableau d''amortissement B'!C25","v":"2011-06-01"},{"$f":"'Tableau d''amortissement B'!K25","v":1974.9091530675587},{"$f":"T10+'Tableau d''amortissement B'!H25","v":5745.8173890436819}]
[null,null,{"$f":"'Tableau d''amortissement A'!C26","v":"2018-07-01"},{"$f":"'Tableau d''amortissement A'!I26","v":164612.52716518583},null,null,null,null,{"$f":"'Tableau d''amortissement B'!C26","v":"2011-07-01"},{"$f":"'Tableau d''amortissement B'!I26","v":193531.90952145611},null,null,{"$f":"'Tableau d''amortissement A'!C26","v":"2018-07-01"},{"$f":"'Tableau d''amortissement A'!K26","v":2137.0430184530769},{"$f":"O11+'Tableau d''amortissement A'!H26","v":5387.4728348141616},null,null,{"$f":"'Tableau d''amortissement B'!C26","v":"2011-07-01"},{"$f":"'Tableau d''amortissement B'!K26","v":2217.7268813312539},{"$f":"T11+'Tableau d''amortissement B'!H26","v":6468.0904785438915},null,"Intérêts cumulés au 01/01/2020",{"$f":"VLOOKUP(N1,Tableau18[[#All],[Date du versement]:[Intérêts crédit A cumulés]],2,1)","v":6203.000828476971},{"$f":"VLOOKUP(N1,Tableau19[[#All],[Date du versement]:[Intérêts crédit B cumulés]],2,1)","v":22036.52937241481}]
[null,null,{"$f":"'Tableau d''amortissement A'!C27","v":"2018-08-01"},{"$f":"'Tableau d''amortissement A'!I27","v":164009.67092830682},null,null,null,null,{"$f":"'Tableau d''amortissement B'!C27","v":"2011-08-01"},{"$f":"'Tableau d''amortissement B'!I27","v":192808.73359059403},null,null,{"$f":"'Tableau d''amortissement A'!C27","v":"2018-08-01"},{"$f":"'Tableau d''amortissement A'!K27","v":2370.2440986037568},{"$f":"O12+'Tableau d''amortissement A'!H27","v":5990.3290716931751},null,null,{"$f":"'Tableau d''amortissement B'!C27","v":"2011-08-01"},{"$f":"'Tableau d''amortissement B'!K27","v":2459.6417682330739},{"$f":"T12+'Tableau d''amortissement B'!H27","v":7191.2664094059764},null,"Intérêts cumulés au 01/01/2021",{"$f":"VLOOKUP(O1,Tableau18[[#All],[Date du versement]:[Intérêts crédit A cumulés]],2,1)","v":8756.6057562557125},{"$f":"VLOOKUP(O1,Tableau19[[#All],[Date du versement]:[Intérêts crédit B cumulés]],2,1)","v":23692.148182372592}]
[null,null,{"$f":"'Tableau d''amortissement A'!C28","v":"2018-09-01"},{"$f":"'Tableau d''amortissement A'!I28","v":163405.96064509221},null,null,null,null,{"$f":"'Tableau d''amortissement B'!C28","v":"2011-09-01"},{"$f":"'Tableau d''amortissement B'!I28","v":192084.65368981837},null,null,{"$f":"'Tableau d''amortissement A'!C28","v":"2018-09-01"},{"$f":"'Tableau d''amortissement A'!K28","v":2602.5911324188583},{"$f":"O13+'Tableau d''amortissement A'!H28","v":6594.0393549077671},null,null,{"$f":"'Tableau d''amortissement B'!C28","v":"2011-09-01"},{"$f":"'Tableau d''amortissement B'!K28","v":2700.6526852213165},{"$f":"T13+'Tableau d''amortissement B'!H28","v":7915.3463101816387},null,"Intérêts cumulés sur l'année 2020",{"$f":"W13-W12","v":2553.6049277787415},{"$f":"X13-X12","v":1655.6188099577812}]
[null,null,{"$f":"'Tableau d''amortissement A'!C29","v":"2018-10-01"},{"$f":"'Tableau d''amortissement A'!I29","v":162801.39510564308},null,null,null,null,{"$f":"'Tableau d''amortissement B'!C29","v":"2011-10-01"},{"$f":"'Tableau d''amortissement B'!I29","v":191359.66868916675},null,null,{"$f":"'Tableau d''amortissement A'!C29","v":"2018-10-01"},{"$f":"'Tableau d''amortissement A'!K29","v":2834.0829099994057},{"$f":"O14+'Tableau d''amortissement A'!H29","v":7198.6048943569131},null,null,{"$f":"'Tableau d''amortissement B'!C29","v":"2011-10-01"},{"$f":"'Tableau d''amortissement B'!K29","v":2940.7585023335896},{"$f":"T14+'Tableau d''amortissement B'!H29","v":8640.3313108332713}]
[null,null,{"$f":"'Tableau d''amortissement A'!C30","v":"2018-11-01"},{"$f":"'Tableau d''amortissement A'!I30","v":162195.97309834638},null,null,null,null,{"$f":"'Tableau d''amortissement B'!C30","v":"2011-11-01"},{"$f":"'Tableau d''amortissement B'!I30","v":190633.77745726431},null,null,{"$f":"'Tableau d''amortissement A'!C30","v":"2018-11-01"},{"$f":"'Tableau d''amortissement A'!K30","v":3064.7182197324},{"$f":"O15+'Tableau d''amortissement A'!H30","v":7804.0269016536122},null,null,{"$f":"'Tableau d''amortissement B'!C30","v":"2011-11-01"},{"$f":"'Tableau d''amortissement B'!K30","v":3179.9580881950478},{"$f":"T15+'Tableau d''amortissement B'!H30","v":9366.2225427357189},null,"Amortissement cumulé au 01/01/2020",{"$f":"VLOOKUP(N1,Tableau18[#All],3,1)","v":16370.546731324748},{"$f":"VLOOKUP(N1,Tableau19[#All],3,1)","v":85088.551399378615}]
[null,null,{"$f":"'Tableau d''amortissement A'!C31","v":"2018-12-01"},{"$f":"'Tableau d''amortissement A'!I31","v":161589.69340987268},null,null,null,null,{"$f":"'Tableau d''amortissement B'!C31","v":"2011-12-01"},{"$f":"'Tableau d''amortissement B'!I31","v":189906.97886132199},null,null,{"$f":"'Tableau d''amortissement A'!C31","v":"2018-12-01"},{"$f":"'Tableau d''amortissement A'!K31","v":3294.4958482883908},{"$f":"O16+'Tableau d''amortissement A'!H31","v":8410.3065901273148},null,null,{"$f":"'Tableau d''amortissement B'!C31","v":"2011-12-01"},{"$f":"'Tableau d''amortissement B'!K31","v":3418.2503100166282},{"$f":"T16+'Tableau d''amortissement B'!H31","v":10093.021138678043},null,"Amortissement cumulé au 01/01/2021",{"$f":"VLOOKUP(O1,Tableau18[#All],3,1)","v":23849.629607902323},{"$f":"VLOOKUP(O1,Tableau19[#All],3,1)","v":95014.022402587667}]
[null,null,{"$f":"'Tableau d''amortissement A'!C32","v":"2019-01-01"},{"$f":"'Tableau d''amortissement A'!I32","v":160982.55482517363},null,null,null,null,{"$f":"'Tableau d''amortissement B'!C32","v":"2012-01-01"},{"$f":"'Tableau d''amortissement B'!I32","v":189179.27176713472},null,null,{"$f":"'Tableau d''amortissement A'!C32","v":"2019-01-01"},{"$f":"'Tableau d''amortissement A'!K32","v":3523.4145806190436},{"$f":"O17+'Tableau d''amortissement A'!H32","v":9017.4451748263546},null,null,{"$f":"'Tableau d''amortissement B'!C32","v":"2012-01-01"},{"$f":"'Tableau d''amortissement B'!K32","v":3655.6340335932805},{"$f":"T17+'Tableau d''amortissement B'!H32","v":10820.728232865295},null,"Amortissement cumulé sur l'année 2020",{"$f":"W17-W16","v":7479.082876577575},{"$f":"X17-X16","v":9925.4710032090516}]
[null,null,{"$f":"'Tableau d''amortissement A'!C33","v":"2019-02-01"},{"$f":"'Tableau d''amortissement A'!I33","v":160374.55612747959},null,null,null,null,{"$f":"'Tableau d''amortissement B'!C33","v":"2012-02-01"},{"$f":"'Tableau d''amortissement B'!I33","v":188450.65503907972},null,null,{"$f":"'Tableau d''amortissement A'!C33","v":"2019-02-01"},{"$f":"'Tableau d''amortissement A'!K33","v":3751.4731999547062},{"$f":"O18+'Tableau d''amortissement A'!H33","v":9625.4438725203854},null,null,{"$f":"'Tableau d''amortissement B'!C33","v":"2012-02-01"},{"$f":"'Tableau d''amortissement B'!K33","v":3892.1081233021987},{"$f":"T18+'Tableau d''amortissement B'!H33","v":11549.344960920282}]
[null,null,{"$f":"'Tableau d''amortissement A'!C34","v":"2019-03-01"},{"$f":"'Tableau d''amortissement A'!I34","v":159765.69609829717},null,null,null,null,{"$f":"'Tableau d''amortissement B'!C34","v":"2012-03-01"},{"$f":"'Tableau d''amortissement B'!I34","v":187721.12754011466},null,null,{"$f":"'Tableau d''amortissement A'!C34","v":"2019-03-01"},{"$f":"'Tableau d''amortissement A'!K34","v":3978.6704878019691},{"$f":"O19+'Tableau d''amortissement A'!H34","v":10234.303901702817},null,null,{"$f":"'Tableau d''amortissement B'!C34","v":"2012-03-01"},{"$f":"'Tableau d''amortissement B'!K34","v":4127.6714421010483},{"$f":"T19+'Tableau d''amortissement B'!H34","v":12278.872459885337}]
[null,null,{"$f":"'Tableau d''amortissement A'!C35","v":"2019-04-01"},{"$f":"'Tableau d''amortissement A'!I35","v":159155.97351740673},null,null,null,null,{"$f":"'Tableau d''amortissement B'!C35","v":"2012-04-01"},{"$f":"'Tableau d''amortissement B'!I35","v":186990.68813177588},null,null,{"$f":"'Tableau d''amortissement A'!C35","v":"2019-04-01"},{"$f":"'Tableau d''amortissement A'!K35","v":4205.0052239412234},{"$f":"O20+'Tableau d''amortissement A'!H35","v":10844.026482593255},null,null,{"$f":"'Tableau d''amortissement B'!C35","v":"2012-04-01"},{"$f":"'Tableau d''amortissement B'!K35","v":4362.3228515261917},{"$f":"T20+'Tableau d''amortissement B'!H35","v":13009.311868224098}]
[null,null,{"$f":"'Tableau d''amortissement A'!C36","v":"2019-05-01"},{"$f":"'Tableau d''amortissement A'!I36","v":158545.38716286002},null,null,null,null,{"$f":"'Tableau d''amortissement B'!C36","v":"2012-05-01"},{"$f":"'Tableau d''amortissement B'!I36","v":186259.33567417669},null,null,{"$f":"'Tableau d''amortissement A'!C36","v":"2019-05-01"},{"$f":"'Tableau d''amortissement A'!K36","v":4430.4761864242164},{"$f":"O21+'Tableau d''amortissement A'!H36","v":11454.612837139955},null,null,{"$f":"'Tableau d''amortissement B'!C36","v":"2012-05-01"},{"$f":"'Tableau d''amortissement B'!K36","v":4596.0612116909115},{"$f":"T21+'Tableau d''amortissement B'!H36","v":13740.664325823283}]
[null,null,{"$f":"'Tableau d''amortissement A'!C37","v":"2019-06-01"},{"$f":"'Tableau d''amortissement A'!I37","v":157933.93581097771},null,null,null,null,{"$f":"'Tableau d''amortissement B'!C37","v":"2012-06-01"},{"$f":"'Tableau d''amortissement B'!I37","v":185527.06902600551},null,null,{"$f":"'Tableau d''amortissement A'!C37","v":"2019-06-01"},{"$f":"'Tableau d''amortissement A'!K37","v":4655.0821515716016},{"$f":"O22+'Tableau d''amortissement A'!H37","v":12066.064189022263},null,null,{"$f":"'Tableau d''amortissement B'!C37","v":"2012-06-01"},{"$f":"'Tableau d''amortissement B'!K37","v":4828.8853812836323},{"$f":"T22+'Tableau d''amortissement B'!H37","v":14472.930973994467}]
[null,null,{"$f":"'Tableau d''amortissement A'!C38","v":"2019-07-01"},{"$f":"'Tableau d''amortissement A'!I38","v":157321.6182363469},null,null,null,null,{"$f":"'Tableau d''amortissement B'!C38","v":"2012-07-01"},{"$f":"'Tableau d''amortissement B'!I38","v":184793.8870445241},null,null,{"$f":"'Tableau d''amortissement A'!C38","v":"2019-07-01"},{"$f":"'Tableau d''amortissement A'!K38","v":4878.8218939704866},{"$f":"O23+'Tableau d''amortissement A'!H38","v":12678.381763653071},null,null,{"$f":"'Tableau d''amortissement B'!C38","v":"2012-07-01"},{"$f":"'Tableau d''amortissement B'!K38","v":5060.7942175661392},{"$f":"T23+'Tableau d''amortissement B'!H38","v":15206.112955475866}]
[null,null,{"$f":"'Tableau d''amortissement A'!C39","v":"2019-08-01"},{"$f":"'Tableau d''amortissement A'!I39","v":156708.43321181869},null,null,null,null,{"$f":"'Tableau d''amortissement B'!C39","v":"2012-08-01"},{"$f":"'Tableau d''amortissement B'!I39","v":184059.78858556587},null,null,{"$f":"'Tableau d''amortissement A'!C39","v":"2019-08-01"},{"$f":"'Tableau d''amortissement A'!K39","v":5101.6941864719784},{"$f":"O24+'Tableau d''amortissement A'!H39","v":13291.566788181273},null,null,{"$f":"'Tableau d''amortissement B'!C39","v":"2012-08-01"},{"$f":"'Tableau d''amortissement B'!K39","v":5291.7865763717946},{"$f":"T24+'Tableau d''amortissement B'!H39","v":15940.211414434116}]
[null,null,{"$f":"'Tableau d''amortissement A'!C40","v":"2019-09-01"},{"$f":"'Tableau d''amortissement A'!I40","v":156094.37950850575},null,null,null,null,{"$f":"'Tableau d''amortissement B'!C40","v":"2012-09-01"},{"$f":"'Tableau d''amortissement B'!I40","v":183324.77250353392},null,null,{"$f":"'Tableau d''amortissement A'!C40","v":"2019-09-01"},{"$f":"'Tableau d''amortissement A'!K40","v":5323.6978001887219},{"$f":"O25+'Tableau d''amortissement A'!H40","v":13905.620491494223},null,null,{"$f":"'Tableau d''amortissement B'!C40","v":"2012-09-01"},{"$f":"'Tableau d''amortissement B'!K40","v":5521.8613121037515},{"$f":"T25+'Tableau d''amortissement B'!H40","v":16675.227496466065}]
[null,null,{"$f":"'Tableau d''amortissement A'!C41","v":"2019-10-01"},{"$f":"'Tableau d''amortissement A'!I41","v":155479.45589577977},null,null,null,null,{"$f":"'Tableau d''amortissement B'!C41","v":"2012-10-01"},{"$f":"'Tableau d''amortissement B'!I41","v":182588.83765139943},null,null,{"$f":"'Tableau d''amortissement A'!C41","v":"2019-10-01"},{"$f":"'Tableau d''amortissement A'!K41","v":5544.8315044924384},{"$f":"O26+'Tableau d''amortissement A'!H41","v":14520.5441042202},null,null,{"$f":"'Tableau d''amortissement B'!C41","v":"2012-10-01"},{"$f":"'Tableau d''amortissement B'!K41","v":5751.0172777331691},{"$f":"T26+'Tableau d''amortissement B'!H41","v":17411.162348600552}]
[null,null,{"$f":"'Tableau d''amortissement A'!C42","v":"2019-11-01"},{"$f":"'Tableau d''amortissement A'!I42","v":154863.66114126911},null,null,null,null,{"$f":"'Tableau d''amortissement B'!C42","v":"2012-11-01"},{"$f":"'Tableau d''amortissement B'!I42","v":181851.98288069977},null,null,{"$f":"'Tableau d''amortissement A'!C42","v":"2019-11-01"},{"$f":"'Tableau d''amortissement A'!K42","v":5765.0940670114596},{"$f":"O27+'Tableau d''amortissement A'!H42","v":15136.338858730873},null,null,{"$f":"'Tableau d''amortissement B'!C42","v":"2012-11-01"},{"$f":"'Tableau d''amortissement B'!K42","v":5979.2533247974179},{"$f":"T27+'Tableau d''amortissement B'!H42","v":18148.017119300206}]
[null,null,{"$f":"'Tableau d''amortissement A'!C43","v":"2019-12-01"},{"$f":"'Tableau d''amortissement A'!I43","v":154246.99401085623},null,null,null,null,{"$f":"'Tableau d''amortissement B'!C43","v":"2012-12-01"},{"$f":"'Tableau d''amortissement B'!I43","v":181114.20704153675},null,null,{"$f":"'Tableau d''amortissement A'!C43","v":"2019-12-01"},{"$f":"'Tableau d''amortissement A'!K43","v":5984.4842536282576},{"$f":"O28+'Tableau d''amortissement A'!H43","v":15753.005989143769},null,null,{"$f":"'Tableau d''amortissement B'!C43","v":"2012-12-01"},{"$f":"'Tableau d''amortissement B'!K43","v":6206.5683033982923},{"$f":"T28+'Tableau d''amortissement B'!H43","v":18885.792958463237}]
[null,null,{"$f":"'Tableau d''amortissement A'!C44","v":"2020-01-01"},{"$f":"'Tableau d''amortissement A'!I44","v":153629.45326867525},null,null,null,null,{"$f":"'Tableau d''amortissement B'!C44","v":"2013-01-01"},{"$f":"'Tableau d''amortissement B'!I44","v":180375.50898257477},null,null,{"$f":"'Tableau d''amortissement A'!C44","v":"2020-01-01"},{"$f":"'Tableau d''amortissement A'!K44","v":6203.000828476971},{"$f":"O29+'Tableau d''amortissement A'!H44","v":16370.546731324748},null,null,{"$f":"'Tableau d''amortissement B'!C44","v":"2013-01-01"},{"$f":"'Tableau d''amortissement B'!K44","v":6432.9610622002128},{"$f":"T29+'Tableau d''amortissement B'!H44","v":19624.491017425222}]
[null,null,{"$f":"'Tableau d''amortissement A'!C45","v":"2020-02-01"},{"$f":"'Tableau d''amortissement A'!I45","v":153011.0376771095},null,null,null,null,{"$f":"'Tableau d''amortissement B'!C45","v":"2013-02-01"},{"$f":"'Tableau d''amortissement B'!I45","v":179635.88755103908},null,null,{"$f":"'Tableau d''amortissement A'!C45","v":"2020-02-01"},{"$f":"'Tableau d''amortissement A'!K45","v":6420.6425539409274},{"$f":"O30+'Tableau d''amortissement A'!H45","v":16988.962322890486},null,null,{"$f":"'Tableau d''amortissement B'!C45","v":"2013-02-01"},{"$f":"'Tableau d''amortissement B'!K45","v":6658.4304484284312},{"$f":"T30+'Tableau d''amortissement B'!H45","v":20364.11244896091}]
[null,null,{"$f":"'Tableau d''amortissement A'!C46","v":"2020-03-01"},{"$f":"'Tableau d''amortissement A'!I46","v":152391.74599678905},null,null,null,null,{"$f":"'Tableau d''amortissement B'!C46","v":"2013-03-01"},{"$f":"'Tableau d''amortissement B'!I46","v":178895.34159271399},null,null,{"$f":"'Tableau d''amortissement A'!C46","v":"2020-03-01"},{"$f":"'Tableau d''amortissement A'!K46","v":6637.408190650166},{"$f":"O31+'Tableau d''amortissement A'!H46","v":17608.254003210939},null,null,{"$f":"'Tableau d''amortissement B'!C46","v":"2013-03-01"},{"$f":"'Tableau d''amortissement B'!K46","v":6882.9753078672302},{"$f":"T31+'Tableau d''amortissement B'!H46","v":21104.658407286017}]
[null,null,{"$f":"'Tableau d''amortissement A'!C47","v":"2020-04-01"},{"$f":"'Tableau d''amortissement A'!I47","v":151771.57698658813},null,null,null,null,{"$f":"'Tableau d''amortissement B'!C47","v":"2013-04-01"},{"$f":"'Tableau d''amortissement B'!I47","v":178153.86995194099},null,null,{"$f":"'Tableau d''amortissement A'!C47","v":"2020-04-01"},{"$f":"'Tableau d''amortissement A'!K47","v":6853.2964974789502},{"$f":"O32+'Tableau d''amortissement A'!H47","v":18228.423013411848},null,null,{"$f":"'Tableau d''amortissement B'!C47","v":"2013-04-01"},{"$f":"'Tableau d''amortissement B'!K47","v":7106.594484858123},{"$f":"T32+'Tableau d''amortissement B'!H47","v":21846.130048059029}]
[null,null,{"$f":"'Tableau d''amortissement A'!C48","v":"2020-05-01"},{"$f":"'Tableau d''amortissement A'!I48","v":151150.52940362276},null,null,null,null,{"$f":"'Tableau d''amortissement B'!C48","v":"2013-05-01"},{"$f":"'Tableau d''amortissement B'!I48","v":177411.471471617},null,null,{"$f":"'Tableau d''amortissement A'!C48","v":"2020-05-01"},{"$f":"'Tableau d''amortissement A'!K48","v":7068.3062315432835},{"$f":"O33+'Tableau d''amortissement A'!H48","v":18849.470596377207},null,null,{"$f":"'Tableau d''amortissement B'!C48","v":"2013-05-01"},{"$f":"'Tableau d''amortissement B'!K48","v":7329.2868222980496},{"$f":"T33+'Tableau d''amortissement B'!H48","v":22588.528528383009}]
[null,null,{"$f":"'Tableau d''amortissement A'!C49","v":"2020-06-01"},{"$f":"'Tableau d''amortissement A'!I49","v":150528.6020032482},null,null,null,null,{"$f":"'Tableau d''amortissement B'!C49","v":"2013-06-01"},{"$f":"'Tableau d''amortissement B'!I49","v":176668.1449931926},null,null,{"$f":"'Tableau d''amortissement A'!C49","v":"2020-06-01"},{"$f":"'Tableau d''amortissement A'!K49","v":7282.436148198416},{"$f":"O34+'Tableau d''amortissement A'!H49","v":19471.397996751766},null,null,{"$f":"'Tableau d''amortissement B'!C49","v":"2013-06-01"},{"$f":"'Tableau d''amortissement B'!K49","v":7551.0511616375707},{"$f":"T34+'Tableau d''amortissement B'!H49","v":23331.855006807393}]
[null,null,{"$f":"'Tableau d''amortissement A'!C50","v":"2020-07-01"},{"$f":"'Tableau d''amortissement A'!I50","v":149905.79353905644},null,null,null,null,{"$f":"'Tableau d''amortissement B'!C50","v":"2013-07-01"},{"$f":"'Tableau d''amortissement B'!I50","v":175923.8893566702},null,null,{"$f":"'Tableau d''amortissement A'!C50","v":"2020-07-01"},{"$f":"'Tableau d''amortissement A'!K50","v":7495.6850010363514},{"$f":"O35+'Tableau d''amortissement A'!H50","v":20094.206460943526},null,null,{"$f":"'Tableau d''amortissement B'!C50","v":"2013-07-01"},{"$f":"'Tableau d''amortissement B'!K50","v":7771.886342879061},{"$f":"T35+'Tableau d''amortissement B'!H50","v":24076.110643329808}]
[null,null,{"$f":"'Tableau d''amortissement A'!C51","v":"2020-08-01"},{"$f":"'Tableau d''amortissement A'!I51","v":149282.10276287375},null,null,null,null,{"$f":"'Tableau d''amortissement B'!C51","v":"2013-08-01"},{"$f":"'Tableau d''amortissement B'!I51","v":175178.70340060213},null,null,{"$f":"'Tableau d''amortissement A'!C51","v":"2020-08-01"},{"$f":"'Tableau d''amortissement A'!K51","v":7708.0515418833484},{"$f":"O36+'Tableau d''amortissement A'!H51","v":20717.897237126221},null,null,{"$f":"'Tableau d''amortissement B'!C51","v":"2013-08-01"},{"$f":"'Tableau d''amortissement B'!K51","v":7991.791204574899},{"$f":"T36+'Tableau d''amortissement B'!H51","v":24821.296599397876}]
[null,null,{"$f":"'Tableau d''amortissement A'!C52","v":"2020-09-01"},{"$f":"'Tableau d''amortissement A'!I52","v":148657.52842475811},null,null,null,null,{"$f":"'Tableau d''amortissement B'!C52","v":"2013-09-01"},{"$f":"'Tableau d''amortissement B'!I52","v":174432.58596208898},null,null,{"$f":"'Tableau d''amortissement A'!C52","v":"2020-09-01"},{"$f":"'Tableau d''amortissement A'!K52","v":7919.5345207974196},{"$f":"O37+'Tableau d''amortissement A'!H52","v":21342.471575241841},null,null,{"$f":"'Tableau d''amortissement B'!C52","v":"2013-09-01"},{"$f":"'Tableau d''amortissement B'!K52","v":8210.7645838256522},{"$f":"T37+'Tableau d''amortissement B'!H52","v":25567.414037911029}]
[null,null,{"$f":"'Tableau d''amortissement A'!C53","v":"2020-10-01"},{"$f":"'Tableau d''amortissement A'!I53","v":148032.06927299683},null,null,null,null,{"$f":"'Tableau d''amortissement B'!C53","v":"2013-10-01"},{"$f":"'Tableau d''amortissement B'!I53","v":173685.53587677769},null,null,{"$f":"'Tableau d''amortissement A'!C53","v":"2020-10-01"},{"$f":"'Tableau d''amortissement A'!K53","v":8130.1326860658273},{"$f":"O38+'Tableau d''amortissement A'!H53","v":21967.930727003128},null,null,{"$f":"'Tableau d''amortissement B'!C53","v":"2013-10-01"},{"$f":"'Tableau d''amortissement B'!K53","v":8428.8053162782635},{"$f":"T38+'Tableau d''amortissement B'!H53","v":26314.464123222322}]
[null,null,{"$f":"'Tableau d''amortissement A'!C54","v":"2020-11-01"},{"$f":"'Tableau d''amortissement A'!I54","v":147405.72405410389},null,null,null,null,{"$f":"'Tableau d''amortissement B'!C54","v":"2013-11-01"},{"$f":"'Tableau d''amortissement B'!I54","v":172937.55197885976},null,null,{"$f":"'Tableau d''amortissement A'!C54","v":"2020-11-01"},{"$f":"'Tableau d''amortissement A'!K54","v":8339.8447842025726},{"$f":"O39+'Tableau d''amortissement A'!H54","v":22594.275945896075},null,null,{"$f":"'Tableau d''amortissement B'!C54","v":"2013-11-01"},{"$f":"'Tableau d''amortissement B'!K54","v":8645.9122361242353},{"$f":"T39+'Tableau d''amortissement B'!H54","v":27062.448021140255}]
[null,null,{"$f":"'Tableau d''amortissement A'!C55","v":"2020-12-01"},{"$f":"'Tableau d''amortissement A'!I55","v":146778.49151281751},null,null,null,null,{"$f":"'Tableau d''amortissement B'!C55","v":"2013-12-01"},{"$f":"'Tableau d''amortissement B'!I55","v":172188.63310106943},null,null,{"$f":"'Tableau d''amortissement A'!C55","v":"2020-12-01"},{"$f":"'Tableau d''amortissement A'!K55","v":8548.6695599458872},{"$f":"O40+'Tableau d''amortissement A'!H55","v":23221.508487182455},null,null,{"$f":"'Tableau d''amortissement B'!C55","v":"2013-12-01"},{"$f":"'Tableau d''amortissement B'!K55","v":8862.0841760978092},{"$f":"T40+'Tableau d''amortissement B'!H55","v":27811.366898930584}]
[null,null,{"$f":"'Tableau d''amortissement A'!C56","v":"2021-01-01"},{"$f":"'Tableau d''amortissement A'!I56","v":146150.37039209763},null,null,null,null,{"$f":"'Tableau d''amortissement B'!C56","v":"2014-01-01"},{"$f":"'Tableau d''amortissement B'!I56","v":171438.77807468185},null,null,{"$f":"'Tableau d''amortissement A'!C56","v":"2021-01-01"},{"$f":"'Tableau d''amortissement A'!K56","v":8756.6057562557125},{"$f":"O41+'Tableau d''amortissement A'!H56","v":23849.629607902323},null,null,{"$f":"'Tableau d''amortissement B'!C56","v":"2014-01-01"},{"$f":"'Tableau d''amortissement B'!K56","v":9077.3199674741463},{"$f":"T41+'Tableau d''amortissement B'!H56","v":28561.221925318154}]
[null,null,{"$f":"'Tableau d''amortissement A'!C57","v":"2021-02-01"},{"$f":"'Tableau d''amortissement A'!I57","v":145521.35943312341},null,null,null,null,{"$f":"'Tableau d''amortissement B'!C57","v":"2014-02-01"},{"$f":"'Tableau d''amortissement B'!I57","v":170687.9857295113},null,null,{"$f":"'Tableau d''amortissement A'!C57","v":"2021-02-01"},{"$f":"'Tableau d''amortissement A'!K57","v":8963.6521143111841},{"$f":"O42+'Tableau d''amortissement A'!H57","v":24478.640566876544},null,null,{"$f":"'Tableau d''amortissement B'!C57","v":"2014-02-01"},{"$f":"'Tableau d''amortissement B'!K57","v":9291.6184400674993},{"$f":"T42+'Tableau d''amortissement B'!H57","v":29312.014270488708}]
[null,null,{"$f":"'Tableau d''amortissement A'!C58","v":"2021-03-01"},{"$f":"'Tableau d''amortissement A'!I58","v":144891.45737529063},null,null,null,null,{"$f":"'Tableau d''amortissement B'!C58","v":"2014-03-01"},{"$f":"'Tableau d''amortissement B'!I58","v":169936.2548939093},null,null,{"$f":"'Tableau d''amortissement A'!C58","v":"2021-03-01"},{"$f":"'Tableau d''amortissement A'!K58","v":9169.8073735081089},{"$f":"O43+'Tableau d''amortissement A'!H58","v":25108.542624709313},null,null,{"$f":"'Tableau d''amortissement B'!C58","v":"2014-03-01"},{"$f":"'Tableau d''amortissement B'!K58","v":9504.9784222293893},{"$f":"T43+'Tableau d''amortissement B'!H58","v":30063.745106090722}]
[null,null,{"$f":"'Tableau d''amortissement A'!C59","v":"2021-04-01"},{"$f":"'Tableau d''amortissement A'!I59","v":144260.66295620927},null,null,null,null,{"$f":"'Tableau d''amortissement B'!C59","v":"2014-04-01"},{"$f":"'Tableau d''amortissement B'!I59","v":169183.58439476279},null,null,{"$f":"'Tableau d''amortissement A'!C59","v":"2021-04-01"},{"$f":"'Tableau d''amortissement A'!K59","v":9375.0702714564377},{"$f":"O44+'Tableau d''amortissement A'!H59","v":25739.337043790678},null,null,{"$f":"'Tableau d''amortissement B'!C59","v":"2014-04-01"},{"$f":"'Tableau d''amortissement B'!K59","v":9717.3987408467765},{"$f":"T44+'Tableau d''amortissement B'!H59","v":30816.415605237242}]
[null,null,{"$f":"'Tableau d''amortissement A'!C60","v":"2021-05-01"},{"$f":"'Tableau d''amortissement A'!I60","v":143628.97491170088},null,null,null,null,{"$f":"'Tableau d''amortissement B'!C60","v":"2014-05-01"},{"$f":"'Tableau d''amortissement B'!I60","v":168429.97305749235},null,null,{"$f":"'Tableau d''amortissement A'!C60","v":"2021-05-01"},{"$f":"'Tableau d''amortissement A'!K60","v":9579.4395439777345},{"$f":"O45+'Tableau d''amortissement A'!H60","v":26371.025088299073},null,null,{"$f":"'Tableau d''amortissement B'!C60","v":"2014-05-01"},{"$f":"'Tableau d''amortissement B'!K60","v":9928.8782213402301},{"$f":"T45+'Tableau d''amortissement B'!H60","v":31570.026942507695}]
[null,null,{"$f":"'Tableau d''amortissement A'!C61","v":"2021-06-01"},{"$f":"'Tableau d''amortissement A'!I61","v":142996.39197579608},null,null,null,null,{"$f":"'Tableau d''amortissement B'!C61","v":"2014-06-01"},{"$f":"'Tableau d''amortissement B'!I61","v":167675.41970605031},null,null,{"$f":"'Tableau d''amortissement A'!C61","v":"2021-06-01"},{"$f":"'Tableau d''amortissement A'!K61","v":9782.9139251026445},{"$f":"O46+'Tableau d''amortissement A'!H61","v":27003.608024203855},null,null,{"$f":"'Tableau d''amortissement B'!C61","v":"2014-06-01"},{"$f":"'Tableau d''amortissement B'!K61","v":10139.415687662096},{"$f":"T46+'Tableau d''amortissement B'!H61","v":32324.580293949733}]
[null,null,{"$f":"'Tableau d''amortissement A'!C62","v":"2021-07-01"},{"$f":"'Tableau d''amortissement A'!I62","v":142362.9128807321},null,null,null,null,{"$f":"'Tableau d''amortissement B'!C62","v":"2014-07-01"},{"$f":"'Tableau d''amortissement B'!I62","v":166919.92316291897},null,null,{"$f":"'Tableau d''amortissement A'!C62","v":"2021-07-01"},{"$f":"'Tableau d''amortissement A'!K62","v":9985.4921470683548},{"$f":"O47+'Tableau d''amortissement A'!H62","v":27637.087119267839},null,null,{"$f":"'Tableau d''amortissement B'!C62","v":"2014-07-01"},{"$f":"'Tableau d''amortissement B'!K62","v":10349.00996229466},{"$f":"T47+'Tableau d''amortissement B'!H62","v":33080.076837081077}]
[null,null,{"$f":"'Tableau d''amortissement A'!C63","v":"2021-08-01"},{"$f":"'Tableau d''amortissement A'!I63","v":141728.53635695012},null,null,null,null,{"$f":"'Tableau d''amortissement B'!C63","v":"2014-08-01"},{"$f":"'Tableau d''amortissement B'!I63","v":166163.48224910873},null,null,{"$f":"'Tableau d''amortissement A'!C63","v":"2021-08-01"},{"$f":"'Tableau d''amortissement A'!K63","v":10187.172940316059},{"$f":"O48+'Tableau d''amortissement A'!H63","v":28271.463643049829},null,null,{"$f":"'Tableau d''amortissement B'!C63","v":"2014-08-01"},{"$f":"'Tableau d''amortissement B'!K63","v":10557.659866248308},{"$f":"T48+'Tableau d''amortissement B'!H63","v":33836.517750891333}]
[null,null,{"$f":"'Tableau d''amortissement A'!C64","v":"2021-09-01"},{"$f":"'Tableau d''amortissement A'!I64","v":141093.26113309278},null,null,null,null,{"$f":"'Tableau d''amortissement B'!C64","v":"2014-09-01"},{"$f":"'Tableau d''amortissement B'!I64","v":165406.0957841562},null,null,{"$f":"'Tableau d''amortissement A'!C64","v":"2021-09-01"},{"$f":"'Tableau d''amortissement A'!K64","v":10387.955033488404},{"$f":"O49+'Tableau d''amortissement A'!H64","v":28906.738866907177},null,null,{"$f":"'Tableau d''amortissement B'!C64","v":"2014-09-01"},{"$f":"'Tableau d''amortissement B'!K64","v":10765.364219059695},{"$f":"T49+'Tableau d''amortissement B'!H64","v":34593.904215843853}]
[null,null,{"$f":"'Tableau d''amortissement A'!C65","v":"2021-10-01"},{"$f":"'Tableau d''amortissement A'!I65","v":140457.08593600162},null,null,null,null,{"$f":"'Tableau d''amortissement B'!C65","v":"2014-10-01"},{"$f":"'Tableau d''amortissement B'!I65","v":164647.7625861225},null,null,{"$f":"'Tableau d''amortissement A'!C65","v":"2021-10-01"},{"$f":"'Tableau d''amortissement A'!K65","v":10587.837153426952},{"$f":"O50+'Tableau d''amortissement A'!H65","v":29542.914063998323},null,null,{"$f":"'Tableau d''amortissement B'!C65","v":"2014-10-01"},{"$f":"'Tableau d''amortissement B'!K65","v":10972.12183878989},{"$f":"T50+'Tableau d''amortissement B'!H65","v":35352.237413877563}]
[null,null,{"$f":"'Tableau d''amortissement A'!C66","v":"2021-11-01"},{"$f":"'Tableau d''amortissement A'!I66","v":139820.00949071458},null,null,null,null,{"$f":"'Tableau d''amortissement B'!C66","v":"2014-11-01"},{"$f":"'Tableau d''amortissement B'!I66","v":163888.48147159125},null,null,{"$f":"'Tableau d''amortissement A'!C66","v":"2021-11-01"},{"$f":"'Tableau d''amortissement A'!K66","v":10786.818025169621},{"$f":"O51+'Tableau d''amortissement A'!H66","v":30179.990509285348},null,null,{"$f":"'Tableau d''amortissement B'!C66","v":"2014-11-01"},{"$f":"'Tableau d''amortissement B'!K66","v":11177.931542022543},{"$f":"T51+'Tableau d''amortissement B'!H66","v":36111.518528408815}]
[null,null,{"$f":"'Tableau d''amortissement A'!C67","v":"2021-12-01"},{"$f":"'Tableau d''amortissement A'!I67","v":139182.03052046339},null,null,null,null,{"$f":"'Tableau d''amortissement B'!C67","v":"2014-12-01"},{"$f":"'Tableau d''amortissement B'!I67","v":163128.25125566684},null,null,{"$f":"'Tableau d''amortissement A'!C67","v":"2021-12-01"},{"$f":"'Tableau d''amortissement A'!K67","v":10984.896371948134},{"$f":"O52+'Tableau d''amortissement A'!H67","v":30817.969479536529},null,null,{"$f":"'Tableau d''amortissement B'!C67","v":"2014-12-01"},{"$f":"'Tableau d''amortissement B'!K67","v":11382.792143862032},{"$f":"T52+'Tableau d''amortissement B'!H67","v":36871.748744333228}]
[null,null,{"$f":"'Tableau d''amortissement A'!C68","v":"2022-01-01"},{"$f":"'Tableau d''amortissement A'!I68","v":138543.14774667102},null,null,null,null,{"$f":"'Tableau d''amortissement B'!C68","v":"2015-01-01"},{"$f":"'Tableau d''amortissement B'!I68","v":162367.07075197253},null,null,{"$f":"'Tableau d''amortissement A'!C68","v":"2022-01-01"},{"$f":"'Tableau d''amortissement A'!K68","v":11182.070915185457},{"$f":"O53+'Tableau d''amortissement A'!H68","v":31456.8522533289},null,null,{"$f":"'Tableau d''amortissement B'!C68","v":"2015-01-01"},{"$f":"'Tableau d''amortissement B'!K68","v":11586.702457931617},{"$f":"T53+'Tableau d''amortissement B'!H68","v":37632.929248027547}]
[null,null,{"$f":"'Tableau d''amortissement A'!C69","v":"2022-02-01"},{"$f":"'Tableau d''amortissement A'!I69","v":137903.35988894911},null,null,null,null,{"$f":"'Tableau d''amortissement B'!C69","v":"2015-02-01"},{"$f":"'Tableau d''amortissement B'!I69","v":161604.93877264857},null,null,{"$f":"'Tableau d''amortissement A'!C69","v":"2022-02-01"},{"$f":"'Tableau d''amortissement A'!K69","v":11378.34037449324},{"$f":"O54+'Tableau d''amortissement A'!H69","v":32096.640111050809},null,null,{"$f":"'Tableau d''amortissement B'!C69","v":"2015-02-01"},{"$f":"'Tableau d''amortissement B'!K69","v":11789.661296371582},{"$f":"T54+'Tableau d''amortissement B'!H69","v":38395.061227351485}]
[null,null,{"$f":"'Tableau d''amortissement A'!C70","v":"2022-03-01"},{"$f":"'Tableau d''amortissement A'!I70","v":137262.66566509544},null,null,null,null,{"$f":"'Tableau d''amortissement B'!C70","v":"2015-03-01"},{"$f":"'Tableau d''amortissement B'!I70","v":160841.85412835047},null,null,{"$f":"'Tableau d''amortissement A'!C70","v":"2022-03-01"},{"$f":"'Tableau d''amortissement A'!K70","v":11573.703467669251},{"$f":"O55+'Tableau d''amortissement A'!H70","v":32737.334334904492},null,null,{"$f":"'Tableau d''amortissement B'!C70","v":"2015-03-01"},{"$f":"'Tableau d''amortissement B'!K70","v":11991.667469837392},{"$f":"T55+'Tableau d''amortissement B'!H70","v":39158.145871649576}]
[null,null,{"$f":"'Tableau d''amortissement A'!C71","v":"2022-04-01"},{"$f":"'Tableau d''amortissement A'!I71","v":136621.06379109129},null,null,null,null,{"$f":"'Tableau d''amortissement B'!C71","v":"2015-04-01"},{"$f":"'Tableau d''amortissement B'!I71","v":160077.81562824702},null,null,{"$f":"'Tableau d''amortissement A'!C71","v":"2022-04-01"},{"$f":"'Tableau d''amortissement A'!K71","v":11768.158910694803},{"$f":"O56+'Tableau d''amortissement A'!H71","v":33378.936208908635},null,null,{"$f":"'Tableau d''amortissement B'!C71","v":"2015-04-01"},{"$f":"'Tableau d''amortissement B'!K71","v":12192.71978749783},{"$f":"T56+'Tableau d''amortissement B'!H71","v":39922.184371753043}]
[null,null,{"$f":"'Tableau d''amortissement A'!C72","v":"2022-05-01"},{"$f":"'Tableau d''amortissement A'!I72","v":135978.55298109897},null,null,null,null,{"$f":"'Tableau d''amortissement B'!C72","v":"2015-05-01"},{"$f":"'Tableau d''amortissement B'!I72","v":159312.82208001841},null,null,{"$f":"'Tableau d''amortissement A'!C72","v":"2022-05-01"},{"$f":"'Tableau d''amortissement A'!K72","v":11961.705417732182},{"$f":"O57+'Tableau d''amortissement A'!H72","v":34021.447018900952},null,null,{"$f":"'Tableau d''amortissement B'!C72","v":"2015-05-01"},{"$f":"'Tableau d''amortissement B'!K72","v":12392.817057033139},{"$f":"T57+'Tableau d''amortissement B'!H72","v":40687.177919981637}]
[null,null,{"$f":"'Tableau d''amortissement A'!C73","v":"2022-06-01"},{"$f":"'Tableau d''amortissement A'!I73","v":135335.13194745916},null,null,null,null,{"$f":"'Tableau d''amortissement B'!C73","v":"2015-06-01"},{"$f":"'Tableau d''amortissement B'!I73","v":158546.87228985454},null,null,{"$f":"'Tableau d''amortissement A'!C73","v":"2022-06-01"},{"$f":"'Tableau d''amortissement A'!K73","v":12154.341701122074},{"$f":"O58+'Tableau d''amortissement A'!H73","v":34664.868052540754},null,null,{"$f":"'Tableau d''amortissement B'!C73","v":"2015-06-01"},{"$f":"'Tableau d''amortissement B'!K73","v":12591.958084633161},{"$f":"T58+'Tableau d''amortissement B'!H73","v":41453.12771014552}]
[null,null,{"$f":"'Tableau d''amortissement A'!C74","v":"2022-07-01"},{"$f":"'Tableau d''amortissement A'!I74","v":134690.79940068835},null,null,null,null,{"$f":"'Tableau d''amortissement B'!C74","v":"2015-07-01"},{"$f":"'Tableau d''amortissement B'!I74","v":157779.96506245295},null,null,{"$f":"'Tableau d''amortissement A'!C74","v":"2022-07-01"},{"$f":"'Tableau d''amortissement A'!K74","v":12346.066471380975},{"$f":"O59+'Tableau d''amortissement A'!H74","v":35309.200599311545},null,null,{"$f":"'Tableau d''amortissement B'!C74","v":"2015-07-01"},{"$f":"'Tableau d''amortissement B'!K74","v":12790.141674995479},{"$f":"T59+'Tableau d''amortissement B'!H74","v":42220.034937547105}]
[null,null,{"$f":"'Tableau d''amortissement A'!C75","v":"2022-08-01"},{"$f":"'Tableau d''amortissement A'!I75","v":134045.55404947631},null,null,null,null,{"$f":"'Tableau d''amortissement B'!C75","v":"2015-08-01"},{"$f":"'Tableau d''amortissement B'!I75","v":157012.09920101712},null,null,{"$f":"'Tableau d''amortissement A'!C75","v":"2022-08-01"},{"$f":"'Tableau d''amortissement A'!K75","v":12536.878437198617},{"$f":"O60+'Tableau d''amortissement A'!H75","v":35954.445950523594},null,null,{"$f":"'Tableau d''amortissement B'!C75","v":"2015-08-01"},{"$f":"'Tableau d''amortissement B'!K75","v":12987.366631323544},{"$f":"T60+'Tableau d''amortissement B'!H75","v":42987.900798982941}]
[null,null,{"$f":"'Tableau d''amortissement A'!C76","v":"2022-09-01"},{"$f":"'Tableau d''amortissement A'!I76","v":133399.39460068339},null,null,null,null,{"$f":"'Tableau d''amortissement B'!C76","v":"2015-09-01"},{"$f":"'Tableau d''amortissement B'!I76","v":156243.27350725449},null,null,{"$f":"'Tableau d''amortissement A'!C76","v":"2022-09-01"},{"$f":"'Tableau d''amortissement A'!K76","v":12726.776305435375},{"$f":"O61+'Tableau d''amortissement A'!H76","v":36600.605399316526},null,null,{"$f":"'Tableau d''amortissement B'!C76","v":"2015-09-01"},{"$f":"'Tableau d''amortissement B'!K76","v":13183.631755324815},{"$f":"T61+'Tableau d''amortissement B'!H76","v":43756.726492745576}]
[null,null,{"$f":"'Tableau d''amortissement A'!C77","v":"2022-10-01"},{"$f":"'Tableau d''amortissement A'!I77","v":132752.31975933799},null,null,null,null,{"$f":"'Tableau d''amortissement B'!C77","v":"2015-10-01"},{"$f":"'Tableau d''amortissement B'!I77","v":155473.48678137464},null,null,{"$f":"'Tableau d''amortissement A'!C77","v":"2022-10-01"},{"$f":"'Tableau d''amortissement A'!K77","v":12915.758781119675},{"$f":"O62+'Tableau d''amortissement A'!H77","v":37247.680240661917},null,null,{"$f":"'Tableau d''amortissement B'!C77","v":"2015-10-01"},{"$f":"'Tableau d''amortissement B'!K77","v":13378.935847208884},{"$f":"T62+'Tableau d''amortissement B'!H77","v":44526.513218625412}]
[null,null,{"$f":"'Tableau d''amortissement A'!C78","v":"2022-11-01"},{"$f":"'Tableau d''amortissement A'!I78","v":132104.32822863403},null,null,null,null,{"$f":"'Tableau d''amortissement B'!C78","v":"2015-11-01"},{"$f":"'Tableau d''amortissement B'!I78","v":154702.73782208745},null,null,{"$f":"'Tableau d''amortissement A'!C78","v":"2022-11-01"},{"$f":"'Tableau d''amortissement A'!K78","v":13103.824567445405},{"$f":"O63+'Tableau d''amortissement A'!H78","v":37895.67177136588},null,null,{"$f":"'Tableau d''amortissement B'!C78","v":"2015-11-01"},{"$f":"'Tableau d''amortissement B'!K78","v":13573.277705685603},{"$f":"T63+'Tableau d''amortissement B'!H78","v":45297.262177912598}]
[null,null,{"$f":"'Tableau d''amortissement A'!C79","v":"2022-12-01"},{"$f":"'Tableau d''amortissement A'!I79","v":131455.41870992823},null,null,null,null,{"$f":"'Tableau d''amortissement B'!C79","v":"2015-12-01"},{"$f":"'Tableau d''amortissement B'!I79","v":153931.02542660115},null,null,{"$f":"'Tableau d''amortissement A'!C79","v":"2022-12-01"},{"$f":"'Tableau d''amortissement A'!K79","v":13290.972365769303},{"$f":"O64+'Tableau d''amortissement A'!H79","v":38544.581290071677},null,null,{"$f":"'Tableau d''amortissement B'!C79","v":"2015-12-01"},{"$f":"'Tableau d''amortissement B'!K79","v":13766.656127963211},{"$f":"T64+'Tableau d''amortissement B'!H79","v":46068.974573398897}]
[null,null,{"$f":"'Tableau d''amortissement A'!C80","v":"2023-01-01"},{"$f":"'Tableau d''amortissement A'!I80","v":130805.5899027376},null,null,null,null,{"$f":"'Tableau d''amortissement B'!C80","v":"2016-01-01"},{"$f":"'Tableau d''amortissement B'!I80","v":153158.34839062049},null,null,{"$f":"'Tableau d''amortissement A'!C80","v":"2023-01-01"},{"$f":"'Tableau d''amortissement A'!K80","v":13477.200875608369},{"$f":"O65+'Tableau d''amortissement A'!H80","v":39194.410097262305},null,null,{"$f":"'Tableau d''amortissement B'!C80","v":"2016-01-01"},{"$f":"'Tableau d''amortissement B'!K80","v":13959.069909746462},{"$f":"T65+'Tableau d''amortissement B'!H80","v":46841.651609379551}]
[null,null,{"$f":"'Tableau d''amortissement A'!C81","v":"2023-02-01"},{"$f":"'Tableau d''amortissement A'!I81","v":130154.84050473679},null,null,null,null,{"$f":"'Tableau d''amortissement B'!C81","v":"2016-02-01"},{"$f":"'Tableau d''amortissement B'!I81","v":152384.70550834486},null,null,{"$f":"'Tableau d''amortissement A'!C81","v":"2023-02-01"},{"$f":"'Tableau d''amortissement A'!K81","v":13662.508794637248},{"$f":"O66+'Tableau d''amortissement A'!H81","v":39845.15949526312},null,null,{"$f":"'Tableau d''amortissement B'!C81","v":"2016-02-01"},{"$f":"'Tableau d''amortissement B'!K81","v":14150.517845234737},{"$f":"T66+'Tableau d''amortissement B'!H81","v":47615.294491655179}]
[null,null,{"$f":"'Tableau d''amortissement A'!C82","v":"2023-03-01"},{"$f":"'Tableau d''amortissement A'!I82","v":129503.16921175546},null,null,null,null,{"$f":"'Tableau d''amortissement B'!C82","v":"2016-03-01"},{"$f":"'Tableau d''amortissement B'!I82","v":151610.09557246638},null,null,{"$f":"'Tableau d''amortissement A'!C82","v":"2023-03-01"},{"$f":"'Tableau d''amortissement A'!K82","v":13846.894818685625},{"$f":"O67+'Tableau d''amortissement A'!H82","v":40496.830788244435},null,null,{"$f":"'Tableau d''amortissement B'!C82","v":"2016-03-01"},{"$f":"'Tableau d''amortissement B'!K82","v":14340.998727120168},{"$f":"T67+'Tableau d''amortissement B'!H82","v":48389.904427533649}]
[null,null,{"$f":"'Tableau d''amortissement A'!C83","v":"2023-04-01"},{"$f":"'Tableau d''amortissement A'!I83","v":128850.57471777576},null,null,null,null,{"$f":"'Tableau d''amortissement B'!C83","v":"2016-04-01"},{"$f":"'Tableau d''amortissement B'!I83","v":150834.51737416806},null,null,{"$f":"'Tableau d''amortissement A'!C83","v":"2023-04-01"},{"$f":"'Tableau d''amortissement A'!K83","v":14030.357641735613},{"$f":"O68+'Tableau d''amortissement A'!H83","v":41149.42528222414},null,null,{"$f":"'Tableau d''amortissement B'!C83","v":"2016-04-01"},{"$f":"'Tableau d''amortissement B'!K83","v":14530.51134658575},{"$f":"T68+'Tableau d''amortissement B'!H83","v":49165.482625831974}]
[null,null,{"$f":"'Tableau d''amortissement A'!C84","v":"2023-05-01"},{"$f":"'Tableau d''amortissement A'!I84","v":128197.05571492958},null,null,null,null,{"$f":"'Tableau d''amortissement B'!C84","v":"2016-05-01"},{"$f":"'Tableau d''amortissement B'!I84","v":150057.96970312187},null,null,{"$f":"'Tableau d''amortissement A'!C84","v":"2023-05-01"},{"$f":"'Tableau d''amortissement A'!K84","v":14212.895955919128},{"$f":"O69+'Tableau d''amortissement A'!H84","v":41802.94428507032},null,null,{"$f":"'Tableau d''amortissement B'!C84","v":"2016-05-01"},{"$f":"'Tableau d''amortissement B'!K84","v":14719.05449330346},{"$f":"T69+'Tableau d''amortissement B'!H84","v":49942.030296878169}]
[null,null,{"$f":"'Tableau d''amortissement A'!C85","v":"2023-06-01"},{"$f":"'Tableau d''amortissement A'!I85","v":127542.61089349604},null,null,null,null,{"$f":"'Tableau d''amortissement B'!C85","v":"2016-06-01"},{"$f":"'Tableau d''amortissement B'!I85","v":149280.45134748687},null,null,{"$f":"'Tableau d''amortissement A'!C85","v":"2023-06-01"},{"$f":"'Tableau d''amortissement A'!K85","v":14394.508451515278},{"$f":"O70+'Tableau d''amortissement A'!H85","v":42457.389106503862},null,null,{"$f":"'Tableau d''amortissement B'!C85","v":"2016-06-01"},{"$f":"'Tableau d''amortissement B'!K85","v":14906.626955432363},{"$f":"T70+'Tableau d''amortissement B'!H85","v":50719.548652513171}]
[null,null,{"$f":"'Tableau d''amortissement A'!C86","v":"2023-07-01"},{"$f":"'Tableau d''amortissement A'!I86","v":126887.2389418988},null,null,null,null,{"$f":"'Tableau d''amortissement B'!C86","v":"2016-07-01"},{"$f":"'Tableau d''amortissement B'!I86","v":148501.96109390733},null,null,{"$f":"'Tableau d''amortissement A'!C86","v":"2023-07-01"},{"$f":"'Tableau d''amortissement A'!K86","v":14575.193816947731},{"$f":"O71+'Tableau d''amortissement A'!H86","v":43112.761058101103},null,null,{"$f":"'Tableau d''amortissement B'!C86","v":"2016-07-01"},{"$f":"'Tableau d''amortissement B'!K86","v":15093.227519616721},{"$f":"T71+'Tableau d''amortissement B'!H86","v":51498.038906092719}]
[null,null,{"$f":"'Tableau d''amortissement A'!C87","v":"2023-08-01"},{"$f":"'Tableau d''amortissement A'!I87","v":126230.93854670346},null,null,null,null,{"$f":"'Tableau d''amortissement B'!C87","v":"2016-08-01"},{"$f":"'Tableau d''amortissement B'!I87","v":147722.49772751081},null,null,{"$f":"'Tableau d''amortissement A'!C87","v":"2023-08-01"},{"$f":"'Tableau d''amortissement A'!K87","v":14754.950738782087},{"$f":"O72+'Tableau d''amortissement A'!H87","v":43769.061453296439},null,null,{"$f":"'Tableau d''amortissement B'!C87","v":"2016-08-01"},{"$f":"'Tableau d''amortissement B'!K87","v":15278.854970984105},{"$f":"T72+'Tableau d''amortissement B'!H87","v":52277.502272489241}]
[null,null,{"$f":"'Tableau d''amortissement A'!C88","v":"2023-09-01"},{"$f":"'Tableau d''amortissement A'!I88","v":125573.70839261494},null,null,null,null,{"$f":"'Tableau d''amortissement B'!C88","v":"2016-09-01"},{"$f":"'Tableau d''amortissement B'!I88","v":146942.06003190629},null,null,{"$f":"'Tableau d''amortissement A'!C88","v":"2023-09-01"},{"$f":"'Tableau d''amortissement A'!K88","v":14933.77790172325},{"$f":"O73+'Tableau d''amortissement A'!H88","v":44426.29160738497},null,null,{"$f":"'Tableau d''amortissement B'!C88","v":"2016-09-01"},{"$f":"'Tableau d''amortissement B'!K88","v":15463.508093143493},{"$f":"T73+'Tableau d''amortissement B'!H88","v":53057.939968093757}]
[null,null,{"$f":"'Tableau d''amortissement A'!C89","v":"2023-10-01"},{"$f":"'Tableau d''amortissement A'!I89","v":124915.54716247477},null,null,null,null,{"$f":"'Tableau d''amortissement B'!C89","v":"2016-10-01"},{"$f":"'Tableau d''amortissement B'!I89","v":146160.64678918227},null,null,{"$f":"'Tableau d''amortissement A'!C89","v":"2023-10-01"},{"$f":"'Tableau d''amortissement A'!K89","v":15111.673988612787},{"$f":"O74+'Tableau d''amortissement A'!H89","v":45084.452837525125},null,null,{"$f":"'Tableau d''amortissement B'!C89","v":"2016-10-01"},{"$f":"'Tableau d''amortissement B'!K89","v":15647.185668183376},{"$f":"T74+'Tableau d''amortissement B'!H89","v":53839.353210817782}]
[null,null,{"$f":"'Tableau d''amortissement A'!C90","v":"2023-11-01"},{"$f":"'Tableau d''amortissement A'!I90","v":124256.45353725858},null,null,null,null,{"$f":"'Tableau d''amortissement B'!C90","v":"2016-11-01"},{"$f":"'Tableau d''amortissement B'!I90","v":145378.25677990486},null,null,{"$f":"'Tableau d''amortissement A'!C90","v":"2023-11-01"},{"$f":"'Tableau d''amortissement A'!K90","v":15288.637680426293},{"$f":"O75+'Tableau d''amortissement A'!H90","v":45743.546462741309},null,null,{"$f":"'Tableau d''amortissement B'!C90","v":"2016-11-01"},{"$f":"'Tableau d''amortissement B'!K90","v":15829.886476669853},{"$f":"T75+'Tableau d''amortissement B'!H90","v":54621.74322009521}]
[null,null,{"$f":"'Tableau d''amortissement A'!C91","v":"2023-12-01"},{"$f":"'Tableau d''amortissement A'!I91","v":123596.42619607334},null,null,null,null,{"$f":"'Tableau d''amortissement B'!C91","v":"2016-12-01"},{"$f":"'Tableau d''amortissement B'!I91","v":144594.88878311584},null,null,{"$f":"'Tableau d''amortissement A'!C91","v":"2023-12-01"},{"$f":"'Tableau d''amortissement A'!K91","v":15464.667656270742},{"$f":"O76+'Tableau d''amortissement A'!H91","v":46403.573803926556},null,null,{"$f":"'Tableau d''amortissement B'!C91","v":"2016-12-01"},{"$f":"'Tableau d''amortissement B'!K91","v":16011.609297644734},{"$f":"T76+'Tableau d''amortissement B'!H91","v":55405.111216884237}]
[null,null,{"$f":"'Tableau d''amortissement A'!C92","v":"2024-01-01"},{"$f":"'Tableau d''amortissement A'!I92","v":122935.46381615475},null,null,null,null,{"$f":"'Tableau d''amortissement B'!C92","v":"2017-01-01"},{"$f":"'Tableau d''amortissement B'!I92","v":143810.54157633081},null,null,{"$f":"'Tableau d''amortissement A'!C92","v":"2024-01-01"},{"$f":"'Tableau d''amortissement A'!K92","v":15639.762593381845},{"$f":"O77+'Tableau d''amortissement A'!H92","v":47064.536183845143},null,null,{"$f":"'Tableau d''amortissement B'!C92","v":"2017-01-01"},{"$f":"'Tableau d''amortissement B'!K92","v":16192.352908623629},{"$f":"T77+'Tableau d''amortissement B'!H92","v":56189.458423669246}]
[null,null,{"$f":"'Tableau d''amortissement A'!C93","v":"2024-02-01"},{"$f":"'Tableau d''amortissement A'!I93","v":122273.56507286461},null,null,null,null,{"$f":"'Tableau d''amortissement B'!C93","v":"2017-02-01"},{"$f":"'Tableau d''amortissement B'!I93","v":143025.21393553732},null,null,{"$f":"'Tableau d''amortissement A'!C93","v":"2024-02-01"},{"$f":"'Tableau d''amortissement A'!K93","v":15813.921167121398},{"$f":"O78+'Tableau d''amortissement A'!H93","v":47726.434927135284},null,null,{"$f":"'Tableau d''amortissement B'!C93","v":"2017-02-01"},{"$f":"'Tableau d''amortissement B'!K93","v":16372.116085594042},{"$f":"T78+'Tableau d''amortissement B'!H93","v":56974.786064462736}]
[null,null,{"$f":"'Tableau d''amortissement A'!C94","v":"2024-03-01"},{"$f":"'Tableau d''amortissement A'!I94","v":121610.72863968814},null,null,null,null,{"$f":"'Tableau d''amortissement B'!C94","v":"2017-03-01"},{"$f":"'Tableau d''amortissement B'!I94","v":142238.90463519283},null,null,{"$f":"'Tableau d''amortissement A'!C94","v":"2024-03-01"},{"$f":"'Tableau d''amortissement A'!K94","v":15987.142050974622},{"$f":"O79+'Tableau d''amortissement A'!H94","v":48389.271360311752},null,null,{"$f":"'Tableau d''amortissement B'!C94","v":"2017-03-01"},{"$f":"'Tableau d''amortissement B'!K94","v":16550.897603013462},{"$f":"T79+'Tableau d''amortissement B'!H94","v":57761.095364807217}]
[null,null,{"$f":"'Tableau d''amortissement A'!C95","v":"2024-04-01"},{"$f":"'Tableau d''amortissement A'!I95","v":120946.95318823133},null,null,null,null,{"$f":"'Tableau d''amortissement B'!C95","v":"2017-04-01"},{"$f":"'Tableau d''amortissement B'!I95","v":141451.61244822291},null,null,{"$f":"'Tableau d''amortissement A'!C95","v":"2024-04-01"},{"$f":"'Tableau d''amortissement A'!K95","v":16159.423916547514},{"$f":"O80+'Tableau d''amortissement A'!H95","v":49053.046811768552},null,null,{"$f":"'Tableau d''amortissement B'!C95","v":"2017-04-01"},{"$f":"'Tableau d''amortissement B'!K95","v":16728.696233807452},{"$f":"T80+'Tableau d''amortissement B'!H95","v":58548.38755177713}]
[null,null,{"$f":"'Tableau d''amortissement A'!C96","v":"2024-05-01"},{"$f":"'Tableau d''amortissement A'!I96","v":120282.2373882183},null,null,null,null,{"$f":"'Tableau d''amortissement B'!C96","v":"2017-05-01"},{"$f":"'Tableau d''amortissement B'!I96","v":140663.33614601928},null,null,{"$f":"'Tableau d''amortissement A'!C96","v":"2024-05-01"},{"$f":"'Tableau d''amortissement A'!K96","v":16330.765433564175},{"$f":"O81+'Tableau d''amortissement A'!H96","v":49717.762611781582},null,null,{"$f":"'Tableau d''amortissement B'!C96","v":"2017-05-01"},{"$f":"'Tableau d''amortissement B'!K96","v":16905.510749367731},{"$f":"T81+'Tableau d''amortissement B'!H96","v":59336.663853980754}]
[null,null,{"$f":"'Tableau d''amortissement A'!C97","v":"2024-06-01"},{"$f":"'Tableau d''amortissement A'!I97","v":119616.57990748859},null,null,null,null,{"$f":"'Tableau d''amortissement B'!C97","v":"2017-06-01"},{"$f":"'Tableau d''amortissement B'!I97","v":139874.0744984379},null,null,{"$f":"'Tableau d''amortissement A'!C97","v":"2024-06-01"},{"$f":"'Tableau d''amortissement A'!K97","v":16501.165269864152},{"$f":"O82+'Tableau d''amortissement A'!H97","v":50383.420092511296},null,null,{"$f":"'Tableau d''amortissement B'!C97","v":"2017-06-01"},{"$f":"'Tableau d''amortissement B'!K97","v":17081.339919550257},{"$f":"T82+'Tableau d''amortissement B'!H97","v":60125.925501562131}]
[null,null,{"$f":"'Tableau d''amortissement A'!C98","v":"2024-07-01"},{"$f":"'Tableau d''amortissement A'!I98","v":118949.9794119945},null,null,null,null,{"$f":"'Tableau d''amortissement B'!C98","v":"2017-07-01"},{"$f":"'Tableau d''amortissement B'!I98","v":139083.82627379705},null,null,{"$f":"'Tableau d''amortissement A'!C98","v":"2024-07-01"},{"$f":"'Tableau d''amortissement A'!K98","v":16670.62209139976},{"$f":"O83+'Tableau d''amortissement A'!H98","v":51050.020588005384},null,null,{"$f":"'Tableau d''amortissement B'!C98","v":"2017-07-01"},{"$f":"'Tableau d''amortissement B'!K98","v":17256.182512673306},{"$f":"T83+'Tableau d''amortissement B'!H98","v":60916.173726202986}]
[null,null,{"$f":"'Tableau d''amortissement A'!C99","v":"2024-08-01"},{"$f":"'Tableau d''amortissement A'!I99","v":118282.43456579847},null,null,null,null,{"$f":"'Tableau d''amortissement B'!C99","v":"2017-08-01"},{"$f":"'Tableau d''amortissement B'!I99","v":138292.59023887539},null,null,{"$f":"'Tableau d''amortissement A'!C99","v":"2024-08-01"},{"$f":"'Tableau d''amortissement A'!K99","v":16839.134562233419},{"$f":"O84+'Tableau d''amortissement A'!H99","v":51717.565434201417},null,null,{"$f":"'Tableau d''amortissement B'!C99","v":"2017-08-01"},{"$f":"'Tableau d''amortissement B'!K99","v":17430.037295515551},{"$f":"T84+'Tableau d''amortissement B'!H99","v":61707.409761124647}]
[null,null,{"$f":"'Tableau d''amortissement A'!C100","v":"2024-09-01"},{"$f":"'Tableau d''amortissement A'!I100","v":117613.94403107032},null,null,null,null,{"$f":"'Tableau d''amortissement B'!C100","v":"2017-09-01"},{"$f":"'Tableau d''amortissement B'!I100","v":137500.36515891008},null,null,{"$f":"'Tableau d''amortissement A'!C100","v":"2024-09-01"},{"$f":"'Tableau d''amortissement A'!K100","v":17006.701344534966},{"$f":"O85+'Tableau d''amortissement A'!H100","v":52386.055968929562},null,null,{"$f":"'Tableau d''amortissement B'!C100","v":"2017-09-01"},{"$f":"'Tableau d''amortissement B'!K100","v":17602.903033314145},{"$f":"T85+'Tableau d''amortissement B'!H100","v":62499.634841089959}]
[null,null,{"$f":"'Tableau d''amortissement A'!C101","v":"2024-10-01"},{"$f":"'Tableau d''amortissement A'!I101","v":116944.50646808464},null,null,null,null,{"$f":"'Tableau d''amortissement B'!C101","v":"2017-10-01"},{"$f":"'Tableau d''amortissement B'!I101","v":136707.14979759482},null,null,{"$f":"'Tableau d''amortissement A'!C101","v":"2024-10-01"},{"$f":"'Tableau d''amortissement A'!K101","v":17173.321098578981},{"$f":"O86+'Tableau d''amortissement A'!H101","v":53055.493531915243},null,null,{"$f":"'Tableau d''amortissement B'!C101","v":"2017-10-01"},{"$f":"'Tableau d''amortissement B'!K101","v":17774.778489762783},{"$f":"T86+'Tableau d''amortissement B'!H101","v":63292.850202405229}]
[null,null,{"$f":"'Tableau d''amortissement A'!C102","v":"2024-11-01"},{"$f":"'Tableau d''amortissement A'!I102","v":116274.12053521807},null,null,null,null,{"$f":"'Tableau d''amortissement B'!C102","v":"2017-11-01"},{"$f":"'Tableau d''amortissement B'!I102","v":135912.94291707789},null,null,{"$f":"'Tableau d''amortissement A'!C102","v":"2024-11-01"},{"$f":"'Tableau d''amortissement A'!K102","v":17338.992482742102},{"$f":"O87+'Tableau d''amortissement A'!H102","v":53725.879464781814},null,null,{"$f":"'Tableau d''amortissement B'!C102","v":"2017-11-01"},{"$f":"'Tableau d''amortissement B'!K102","v":17945.662427009775},{"$f":"T87+'Tableau d''amortissement B'!H102","v":64087.05708292214}]
[null,null,{"$f":"'Tableau d''amortissement A'!C103","v":"2024-12-01"},{"$f":"'Tableau d''amortissement A'!I103","v":115602.7848889466},null,null,null,null,{"$f":"'Tableau d''amortissement B'!C103","v":"2017-12-01"},{"$f":"'Tableau d''amortissement B'!I103","v":135117.74327796034},null,null,{"$f":"'Tableau d''amortissement A'!C103","v":"2024-12-01"},{"$f":"'Tableau d''amortissement A'!K103","v":17503.714153500328},{"$f":"O88+'Tableau d''amortissement A'!H103","v":54397.21511105328},null,null,{"$f":"'Tableau d''amortissement B'!C103","v":"2017-12-01"},{"$f":"'Tableau d''amortissement B'!K103","v":18115.553605656121},{"$f":"T88+'Tableau d''amortissement B'!H103","v":64882.256722039696}]
[null,null,{"$f":"'Tableau d''amortissement A'!C104","v":"2025-01-01"},{"$f":"'Tableau d''amortissement A'!I104","v":114930.49818384291},null,null,null,null,{"$f":"'Tableau d''amortissement B'!C104","v":"2018-01-01"},{"$f":"'Tableau d''amortissement B'!I104","v":134321.54963929389},null,null,{"$f":"'Tableau d''amortissement A'!C104","v":"2025-01-01"},{"$f":"'Tableau d''amortissement A'!K104","v":17667.484765426336},{"$f":"O89+'Tableau d''amortissement A'!H104","v":55069.501816156968},null,null,{"$f":"'Tableau d''amortissement B'!C104","v":"2018-01-01"},{"$f":"'Tableau d''amortissement B'!K104","v":18284.450784753571},{"$f":"T89+'Tableau d''amortissement B'!H104","v":65678.450360706149}]
[null,null,{"$f":"'Tableau d''amortissement A'!C105","v":"2025-02-01"},{"$f":"'Tableau d''amortissement A'!I105","v":114257.25907257367},null,null,null,null,{"$f":"'Tableau d''amortissement B'!C105","v":"2018-02-01"},{"$f":"'Tableau d''amortissement B'!I105","v":133524.3607585791},null,null,{"$f":"'Tableau d''amortissement A'!C105","v":"2025-02-01"},{"$f":"'Tableau d''amortissement A'!K105","v":17830.302971186778},{"$f":"O90+'Tableau d''amortissement A'!H105","v":55742.740927426217},null,null,{"$f":"'Tableau d''amortissement B'!C105","v":"2018-02-01"},{"$f":"'Tableau d''amortissement B'!K105","v":18452.35272180269},{"$f":"T90+'Tableau d''amortissement B'!H105","v":66475.63924142094}]
[null,null,{"$f":"'Tableau d''amortissement A'!C106","v":"2025-03-01"},{"$f":"'Tableau d''amortissement A'!I106","v":113583.06620589679},null,null,null,null,{"$f":"'Tableau d''amortissement B'!C106","v":"2018-03-01"},{"$f":"'Tableau d''amortissement B'!I106","v":132726.17539176342},null,null,{"$f":"'Tableau d''amortissement A'!C106","v":"2025-03-01"},{"$f":"'Tableau d''amortissement A'!K106","v":17992.167421539591},{"$f":"O91+'Tableau d''amortissement A'!H106","v":56416.933794103097},null,null,{"$f":"'Tableau d''amortissement B'!C106","v":"2018-03-01"},{"$f":"'Tableau d''amortissement B'!K106","v":18619.258172750913},{"$f":"T91+'Tableau d''amortissement B'!H106","v":67273.824608236624}]
[null,null,{"$f":"'Tableau d''amortissement A'!C107","v":"2025-04-01"},{"$f":"'Tableau d''amortissement A'!I107","v":112907.91823265878},null,null,null,null,{"$f":"'Tableau d''amortissement B'!C107","v":"2018-04-01"},{"$f":"'Tableau d''amortissement B'!I107","v":131926.99229323922},null,null,{"$f":"'Tableau d''amortissement A'!C107","v":"2025-04-01"},{"$f":"'Tableau d''amortissement A'!K107","v":18153.076765331276},{"$f":"O92+'Tableau d''amortissement A'!H107","v":57092.0817673411},null,null,{"$f":"'Tableau d''amortissement B'!C107","v":"2018-04-01"},{"$f":"'Tableau d''amortissement B'!K107","v":18785.165891990619},{"$f":"T92+'Tableau d''amortissement B'!H107","v":68073.007706760822}]
[null,null,{"$f":"'Tableau d''amortissement A'!C108","v":"2025-05-01"},{"$f":"'Tableau d''amortissement A'!I108","v":112231.81379979201},null,null,null,null,{"$f":"'Tableau d''amortissement B'!C108","v":"2018-05-01"},{"$f":"'Tableau d''amortissement B'!I108","v":131126.81021584186},null,null,{"$f":"'Tableau d''amortissement A'!C108","v":"2025-05-01"},{"$f":"'Tableau d''amortissement A'!K108","v":18313.029649494209},{"$f":"O93+'Tableau d''amortissement A'!H108","v":57768.186200207863},null,null,{"$f":"'Tableau d''amortissement B'!C108","v":"2018-05-01"},{"$f":"'Tableau d''amortissement B'!K108","v":18950.074632357169},{"$f":"T93+'Tableau d''amortissement B'!H108","v":68873.189784158181}]
[null,null,{"$f":"'Tableau d''amortissement A'!C109","v":"2025-06-01"},{"$f":"'Tableau d''amortissement A'!I109","v":111554.75155231202},null,null,null,null,{"$f":"'Tableau d''amortissement B'!C109","v":"2018-06-01"},{"$f":"'Tableau d''amortissement B'!I109","v":130325.62791084776},null,null,{"$f":"'Tableau d''amortissement A'!C109","v":"2025-06-01"},{"$f":"'Tableau d''amortissement A'!K109","v":18472.024719043915},{"$f":"O94+'Tableau d''amortissement A'!H109","v":58445.248447687853},null,null,{"$f":"'Tableau d''amortissement B'!C109","v":"2018-06-01"},{"$f":"'Tableau d''amortissement B'!K109","v":19113.983145126971},{"$f":"T94+'Tableau d''amortissement B'!H109","v":69674.372089152283}]
[null,null,{"$f":"'Tableau d''amortissement A'!C110","v":"2025-07-01"},{"$f":"'Tableau d''amortissement A'!I110","v":110876.73013331478},null,null,null,null,{"$f":"'Tableau d''amortissement B'!C110","v":"2018-07-01"},{"$f":"'Tableau d''amortissement B'!I110","v":129523.44412797241},null,null,{"$f":"'Tableau d''amortissement A'!C110","v":"2025-07-01"},{"$f":"'Tableau d''amortissement A'!K110","v":18630.060617076357},{"$f":"O95+'Tableau d''amortissement A'!H110","v":59123.269866685107},null,null,{"$f":"'Tableau d''amortissement B'!C110","v":"2018-07-01"},{"$f":"'Tableau d''amortissement B'!K110","v":19276.890180015529},{"$f":"T95+'Tableau d''amortissement B'!H110","v":70476.555872027631}]
[null,null,{"$f":"'Tableau d''amortissement A'!C111","v":"2025-08-01"},{"$f":"'Tableau d''amortissement A'!I111","v":110197.74818397395},null,null,null,null,{"$f":"'Tableau d''amortissement B'!C111","v":"2018-08-01"},{"$f":"'Tableau d''amortissement B'!I111","v":128720.25761536848},null,null,{"$f":"'Tableau d''amortissement A'!C111","v":"2025-08-01"},{"$f":"'Tableau d''amortissement A'!K111","v":18787.13598476522},{"$f":"O96+'Tableau d''amortissement A'!H111","v":59802.251816025935},null,null,{"$f":"'Tableau d''amortissement B'!C111","v":"2018-08-01"},{"$f":"'Tableau d''amortissement B'!K111","v":19438.794485175495},{"$f":"T96+'Tableau d''amortissement B'!H111","v":71279.742384631565}]
[null,null,{"$f":"'Tableau d''amortissement A'!C112","v":"2025-09-01"},{"$f":"'Tableau d''amortissement A'!I112","v":109517.80434353821},null,null,null,null,{"$f":"'Tableau d''amortissement B'!C112","v":"2018-09-01"},{"$f":"'Tableau d''amortissement B'!I112","v":127916.06711962378},null,null,{"$f":"'Tableau d''amortissement A'!C112","v":"2025-09-01"},{"$f":"'Tableau d''amortissement A'!K112","v":18943.249461359184},{"$f":"O97+'Tableau d''amortissement A'!H112","v":60482.195656461663},null,null,{"$f":"'Tableau d''amortissement B'!C112","v":"2018-09-01"},{"$f":"'Tableau d''amortissement B'!K112","v":19599.694807194704},{"$f":"T97+'Tableau d''amortissement B'!H112","v":72083.932880376262}]
[null,null,{"$f":"'Tableau d''amortissement A'!C113","v":"2025-10-01"},{"$f":"'Tableau d''amortissement A'!I113","v":108836.89724932853},null,null,null,null,{"$f":"'Tableau d''amortissement B'!C113","v":"2018-10-01"},{"$f":"'Tableau d''amortissement B'!I113","v":127110.87138575941},null,null,{"$f":"'Tableau d''amortissement A'!C113","v":"2025-10-01"},{"$f":"'Tableau d''amortissement A'!K113","v":19098.399684179196},{"$f":"O98+'Tableau d''amortissement A'!H113","v":61163.102750671344},null,null,{"$f":"'Tableau d''amortissement B'!C113","v":"2018-10-01"},{"$f":"'Tableau d''amortissement B'!K113","v":19759.589891094234},{"$f":"T98+'Tableau d''amortissement B'!H113","v":72889.128614240632}]
[null,null,{"$f":"'Tableau d''amortissement A'!C114","v":"2025-11-01"},{"$f":"'Tableau d''amortissement A'!I114","v":108155.02553673538},null,null,null,null,{"$f":"'Tableau d''amortissement B'!C114","v":"2018-11-01"},{"$f":"'Tableau d''amortissement B'!I114","v":126304.6691572277},null,null,{"$f":"'Tableau d''amortissement A'!C114","v":"2025-11-01"},{"$f":"'Tableau d''amortissement A'!K114","v":19252.585288615745},{"$f":"O99+'Tableau d''amortissement A'!H114","v":61844.974463264487},null,null,{"$f":"'Tableau d''amortissement B'!C114","v":"2018-11-01"},{"$f":"'Tableau d''amortissement B'!K114","v":19918.478480326434},{"$f":"T99+'Tableau d''amortissement B'!H114","v":73695.330842772339}]
[null,null,{"$f":"'Tableau d''amortissement A'!C115","v":"2025-12-01"},{"$f":"'Tableau d''amortissement A'!I115","v":107472.18783921606},null,null,null,null,{"$f":"'Tableau d''amortissement B'!C115","v":"2018-12-01"},{"$f":"'Tableau d''amortissement B'!I115","v":125497.45917591034},null,null,{"$f":"'Tableau d''amortissement A'!C115","v":"2025-12-01"},{"$f":"'Tableau d''amortissement A'!K115","v":19405.80490812612},{"$f":"O100+'Tableau d''amortissement A'!H115","v":62527.812160783804},null,null,{"$f":"'Tableau d''amortissement B'!C115","v":"2018-12-01"},{"$f":"'Tableau d''amortissement B'!K115","v":20076.359316772967},{"$f":"T100+'Tableau d''amortissement B'!H115","v":74502.540824089709}]
[null,null,{"$f":"'Tableau d''amortissement A'!C116","v":"2026-01-01"},{"$f":"'Tableau d''amortissement A'!I116","v":106788.38278829191},null,null,null,null,{"$f":"'Tableau d''amortissement B'!C116","v":"2019-01-01"},{"$f":"'Tableau d''amortissement B'!I116","v":124689.24018211632},null,null,{"$f":"'Tableau d''amortissement A'!C116","v":"2026-01-01"},{"$f":"'Tableau d''amortissement A'!K116","v":19558.057174231675},{"$f":"O101+'Tableau d''amortissement A'!H116","v":63211.61721170794},null,null,{"$f":"'Tableau d''amortissement B'!C116","v":"2019-01-01"},{"$f":"'Tableau d''amortissement B'!K116","v":20233.231140742853},{"$f":"T101+'Tableau d''amortissement B'!H116","v":75310.759817883722}]
[null,null,{"$f":"'Tableau d''amortissement A'!C117","v":"2026-02-01"},{"$f":"'Tableau d''amortissement A'!I117","v":106103.60901354563},null,null,null,null,{"$f":"'Tableau d''amortissement B'!C117","v":"2019-02-01"},{"$f":"'Tableau d''amortissement B'!I117","v":123880.01091458007},null,null,{"$f":"'Tableau d''amortissement A'!C117","v":"2026-02-01"},{"$f":"'Tableau d''amortissement A'!K117","v":19709.340716515089},{"$f":"O102+'Tableau d''amortissement A'!H117","v":63896.390986454222},null,null,{"$f":"'Tableau d''amortissement B'!C117","v":"2019-02-01"},{"$f":"'Tableau d''amortissement B'!K117","v":20389.092690970498},{"$f":"T102+'Tableau d''amortissement B'!H117","v":76119.989085419977}]
[null,null,{"$f":"'Tableau d''amortissement A'!C118","v":"2026-03-01"},{"$f":"'Tableau d''amortissement A'!I118","v":105417.86514261847},null,null,null,null,{"$f":"'Tableau d''amortissement B'!C118","v":"2019-03-01"},{"$f":"'Tableau d''amortissement B'!I118","v":123069.77011045939},null,null,{"$f":"'Tableau d''amortissement A'!C118","v":"2026-03-01"},{"$f":"'Tableau d''amortissement A'!K118","v":19859.654162617611},{"$f":"O103+'Tableau d''amortissement A'!H118","v":64582.134857381396},null,null,{"$f":"'Tableau d''amortissement B'!C118","v":"2019-03-01"},{"$f":"'Tableau d''amortissement B'!K118","v":20543.942704613724},{"$f":"T103+'Tableau d''amortissement B'!H118","v":76930.229889540657}]
[null,null,{"$f":"'Tableau d''amortissement A'!C119","v":"2026-04-01"},{"$f":"'Tableau d''amortissement A'!I119","v":104731.14980120749},null,null,null,null,{"$f":"'Tableau d''amortissement B'!C119","v":"2019-04-01"},{"$f":"'Tableau d''amortissement B'!I119","v":122258.51650533355},null,null,{"$f":"'Tableau d''amortissement A'!C119","v":"2026-04-01"},{"$f":"'Tableau d''amortissement A'!K119","v":20008.996138236322},{"$f":"O104+'Tableau d''amortissement A'!H119","v":65268.850198792381},null,null,{"$f":"'Tableau d''amortissement B'!C119","v":"2019-04-01"},{"$f":"'Tableau d''amortissement B'!K119","v":20697.779917251799},{"$f":"T104+'Tableau d''amortissement B'!H119","v":77741.483494666492}]
[null,null,{"$f":"'Tableau d''amortissement A'!C120","v":"2026-05-01"},{"$f":"'Tableau d''amortissement A'!I120","v":104043.46161306284},null,null,null,null,{"$f":"'Tableau d''amortissement B'!C120","v":"2019-05-01"},{"$f":"'Tableau d''amortissement B'!I120","v":121446.24883320132},null,null,{"$f":"'Tableau d''amortissement A'!C120","v":"2026-05-01"},{"$f":"'Tableau d''amortissement A'!K120","v":20157.365267121364},{"$f":"O105+'Tableau d''amortissement A'!H120","v":65956.538386937027},null,null,{"$f":"'Tableau d''amortissement B'!C120","v":"2019-05-01"},{"$f":"'Tableau d''amortissement B'!K120","v":20850.603062883467},{"$f":"T105+'Tableau d''amortissement B'!H120","v":78553.751166798727}]
[null,null,{"$f":"'Tableau d''amortissement A'!C121","v":"2026-06-01"},{"$f":"'Tableau d''amortissement A'!I121","v":103354.79919998499},null,null,null,null,{"$f":"'Tableau d''amortissement B'!C121","v":"2019-06-01"},{"$f":"'Tableau d''amortissement B'!I121","v":120632.96582647892},null,null,{"$f":"'Tableau d''amortissement A'!C121","v":"2026-06-01"},{"$f":"'Tableau d''amortissement A'!K121","v":20304.760171073201},{"$f":"O106+'Tableau d''amortissement A'!H121","v":66645.200800014878},null,null,{"$f":"'Tableau d''amortissement B'!C121","v":"2019-06-01"},{"$f":"'Tableau d''amortissement B'!K121","v":21002.410873924968},{"$f":"T106+'Tableau d''amortissement B'!H121","v":79367.034173521126}]
[null,null,{"$f":"'Tableau d''amortissement A'!C122","v":"2026-07-01"},{"$f":"'Tableau d''amortissement A'!I122","v":102665.16118182194},null,null,null,null,{"$f":"'Tableau d''amortissement B'!C122","v":"2019-07-01"},{"$f":"'Tableau d''amortissement B'!I122","v":119818.66621599811},null,null,{"$f":"'Tableau d''amortissement A'!C122","v":"2026-07-01"},{"$f":"'Tableau d''amortissement A'!K122","v":20451.179469939845},{"$f":"O107+'Tableau d''amortissement A'!H122","v":67334.83881817793},null,null,{"$f":"'Tableau d''amortissement B'!C122","v":"2019-07-01"},{"$f":"'Tableau d''amortissement B'!K122","v":21153.202081208066},{"$f":"T107+'Tableau d''amortissement B'!H122","v":80181.333784001938}]
[null,null,{"$f":"'Tableau d''amortissement A'!C123","v":"2026-08-01"},{"$f":"'Tableau d''amortissement A'!I123","v":101974.54617646649},null,null,null,null,{"$f":"'Tableau d''amortissement B'!C123","v":"2019-08-01"},{"$f":"'Tableau d''amortissement B'!I123","v":119003.3487310042},null,null,{"$f":"'Tableau d''amortissement A'!C123","v":"2026-08-01"},{"$f":"'Tableau d''amortissement A'!K123","v":20596.621781614092},{"$f":"O108+'Tableau d''amortissement A'!H123","v":68025.453823533375},null,null,{"$f":"'Tableau d''amortissement B'!C123","v":"2019-08-01"},{"$f":"'Tableau d''amortissement B'!K123","v":21302.975413978063},{"$f":"T108+'Tableau d''amortissement B'!H123","v":80996.651268995847}]
[null,null,{"$f":"'Tableau d''amortissement A'!C124","v":"2026-09-01"},{"$f":"'Tableau d''amortissement A'!I124","v":101282.95279985346},null,null,null,null,{"$f":"'Tableau d''amortissement B'!C124","v":"2019-09-01"},{"$f":"'Tableau d''amortissement B'!I124","v":118187.01209915405},null,null,{"$f":"'Tableau d''amortissement A'!C124","v":"2026-09-01"},{"$f":"'Tableau d''amortissement A'!K124","v":20741.085722030752},{"$f":"O109+'Tableau d''amortissement A'!H124","v":68717.047200146408},null,null,{"$f":"'Tableau d''amortissement B'!C124","v":"2019-09-01"},{"$f":"'Tableau d''amortissement B'!K124","v":21451.72959989182},{"$f":"T109+'Tableau d''amortissement B'!H124","v":81812.987900845998}]
[null,null,{"$f":"'Tableau d''amortissement A'!C125","v":"2026-10-01"},{"$f":"'Tableau d''amortissement A'!I125","v":100590.37966595689},null,null,null,null,{"$f":"'Tableau d''amortissement B'!C125","v":"2019-10-01"},{"$f":"'Tableau d''amortissement B'!I125","v":117369.65504651409},null,null,{"$f":"'Tableau d''amortissement A'!C125","v":"2026-10-01"},{"$f":"'Tableau d''amortissement A'!K125","v":20884.569905163877},{"$f":"O110+'Tableau d''amortissement A'!H125","v":69409.620334042978},null,null,{"$f":"'Tableau d''amortissement B'!C125","v":"2019-10-01"},{"$f":"'Tableau d''amortissement B'!K125","v":21599.463365015763},{"$f":"T110+'Tableau d''amortissement B'!H125","v":82630.344953485954}]
[null,null,{"$f":"'Tableau d''amortissement A'!C126","v":"2026-11-01"},{"$f":"'Tableau d''amortissement A'!I126","v":99896.825386787299},null,null,null,null,{"$f":"'Tableau d''amortissement B'!C126","v":"2019-11-01"},{"$f":"'Tableau d''amortissement B'!I126","v":116551.27629755833},null,null,{"$f":"'Tableau d''amortissement A'!C126","v":"2026-11-01"},{"$f":"'Tableau d''amortissement A'!K126","v":21027.072943023981},{"$f":"O111+'Tableau d''amortissement A'!H126","v":70103.17461321257},null,null,{"$f":"'Tableau d''amortissement B'!C126","v":"2019-11-01"},{"$f":"'Tableau d''amortissement B'!K126","v":21746.175433823904},{"$f":"T111+'Tableau d''amortissement B'!H126","v":83448.723702441712}]
[null,null,{"$f":"'Tableau d''amortissement A'!C127","v":"2026-12-01"},{"$f":"'Tableau d''amortissement A'!I127","v":99202.28857238889},null,null,null,null,{"$f":"'Tableau d''amortissement B'!C127","v":"2019-12-01"},{"$f":"'Tableau d''amortissement B'!I127","v":115731.87457516638},null,null,{"$f":"'Tableau d''amortissement A'!C127","v":"2026-12-01"},{"$f":"'Tableau d''amortissement A'!K127","v":21168.593445655264},{"$f":"O112+'Tableau d''amortissement A'!H127","v":70797.711427610979},null,null,{"$f":"'Tableau d''amortissement B'!C127","v":"2019-12-01"},{"$f":"'Tableau d''amortissement B'!K127","v":21891.864529195853},{"$f":"T112+'Tableau d''amortissement B'!H127","v":84268.125424833663}]
[null,null,{"$f":"'Tableau d''amortissement A'!C128","v":"2027-01-01"},{"$f":"'Tableau d''amortissement A'!I128","v":98506.767830836747},null,null,null,null,{"$f":"'Tableau d''amortissement B'!C128","v":"2020-01-01"},{"$f":"'Tableau d''amortissement B'!I128","v":114911.44860062143},null,null,{"$f":"'Tableau d''amortissement A'!C128","v":"2027-01-01"},{"$f":"'Tableau d''amortissement A'!K128","v":21309.130021132816},{"$f":"O113+'Tableau d''amortissement A'!H128","v":71493.232169163122},null,null,{"$f":"'Tableau d''amortissement B'!C128","v":"2020-01-01"},{"$f":"'Tableau d''amortissement B'!K128","v":22036.52937241481},{"$f":"T113+'Tableau d''amortissement B'!H128","v":85088.551399378615}]
[null,null,{"$f":"'Tableau d''amortissement A'!C129","v":"2027-02-01"},{"$f":"'Tableau d''amortissement A'!I129","v":97810.261768234079},null,null,null,null,{"$f":"'Tableau d''amortissement B'!C129","v":"2020-02-01"},{"$f":"'Tableau d''amortissement B'!I129","v":114089.9970936083},null,null,{"$f":"'Tableau d''amortissement A'!C129","v":"2027-02-01"},{"$f":"'Tableau d''amortissement A'!K129","v":21448.681275559837},{"$f":"O114+'Tableau d''amortissement A'!H129","v":72189.73823176579},null,null,{"$f":"'Tableau d''amortissement B'!C129","v":"2020-02-01"},{"$f":"'Tableau d''amortissement B'!K129","v":22180.168683165586},{"$f":"T114+'Tableau d''amortissement B'!H129","v":85910.002906391746}]
[null,null,{"$f":"'Tableau d''amortissement A'!C130","v":"2027-03-01"},{"$f":"'Tableau d''amortissement A'!I130","v":97112.768988709387},null,null,null,null,{"$f":"'Tableau d''amortissement B'!C130","v":"2020-03-01"},{"$f":"'Tableau d''amortissement B'!I130","v":113267.51877221141},null,null,{"$f":"'Tableau d''amortissement A'!C130","v":"2027-03-01"},{"$f":"'Tableau d''amortissement A'!K130","v":21587.245813064834},{"$f":"O115+'Tableau d''amortissement A'!H130","v":72887.231011290482},null,null,{"$f":"'Tableau d''amortissement B'!C130","v":"2020-03-01"},{"$f":"'Tableau d''amortissement B'!K130","v":22322.781179532598},{"$f":"T115+'Tableau d''amortissement B'!H130","v":86732.481227788638}]
[null,null,{"$f":"'Tableau d''amortissement A'!C131","v":"2027-04-01"},{"$f":"'Tableau d''amortissement A'!I131","v":96414.2880944137},null,null,null,null,{"$f":"'Tableau d''amortissement B'!C131","v":"2020-04-01"},{"$f":"'Tableau d''amortissement B'!I131","v":112444.01235291276},null,null,{"$f":"'Tableau d''amortissement A'!C131","v":"2027-04-01"},{"$f":"'Tableau d''amortissement A'!K131","v":21724.822235798838},{"$f":"O116+'Tableau d''amortissement A'!H131","v":73585.711905586169},null,null,{"$f":"'Tableau d''amortissement B'!C131","v":"2020-04-01"},{"$f":"'Tableau d''amortissement B'!K131","v":22464.365577997862},{"$f":"T116+'Tableau d''amortissement B'!H131","v":87555.987647087284}]
[null,null,{"$f":"'Tableau d''amortissement A'!C132","v":"2027-05-01"},{"$f":"'Tableau d''amortissement A'!I132","v":95714.817685517759},null,null,null,null,{"$f":"'Tableau d''amortissement B'!C132","v":"2020-05-01"},{"$f":"'Tableau d''amortissement B'!I132","v":111619.47655059},null,null,{"$f":"'Tableau d''amortissement A'!C132","v":"2027-05-01"},{"$f":"'Tableau d''amortissement A'!K132","v":21861.409143932589},{"$f":"O117+'Tableau d''amortissement A'!H132","v":74285.18231448211},null,null,{"$f":"'Tableau d''amortissement B'!C132","v":"2020-05-01"},{"$f":"'Tableau d''amortissement B'!K132","v":22604.920593439001},{"$f":"T117+'Tableau d''amortissement B'!H132","v":88380.523449410044}]
[null,null,{"$f":"'Tableau d''amortissement A'!C133","v":"2027-06-01"},{"$f":"'Tableau d''amortissement A'!I133","v":95014.356360209218},null,null,null,null,{"$f":"'Tableau d''amortissement B'!C133","v":"2020-06-01"},{"$f":"'Tableau d''amortissement B'!I133","v":110793.91007851434},null,null,{"$f":"'Tableau d''amortissement A'!C133","v":"2027-06-01"},{"$f":"'Tableau d''amortissement A'!K133","v":21997.005135653741},{"$f":"O118+'Tableau d''amortissement A'!H133","v":74985.643639790651},null,null,{"$f":"'Tableau d''amortissement B'!C133","v":"2020-06-01"},{"$f":"'Tableau d''amortissement B'!K133","v":22744.444939127239},{"$f":"T118+'Tableau d''amortissement B'!H133","v":89206.089921485705}]
[null,null,{"$f":"'Tableau d''amortissement A'!C134","v":"2027-07-01"},{"$f":"'Tableau d''amortissement A'!I134","v":94312.902714689815},null,null,null,null,{"$f":"'Tableau d''amortissement B'!C134","v":"2020-07-01"},{"$f":"'Tableau d''amortissement B'!I134","v":109967.31164834858},null,null,{"$f":"'Tableau d''amortissement A'!C134","v":"2027-07-01"},{"$f":"'Tableau d''amortissement A'!K134","v":22131.608807164037},{"$f":"O119+'Tableau d''amortissement A'!H134","v":75687.097285310054},null,null,{"$f":"'Tableau d''amortissement B'!C134","v":"2020-07-01"},{"$f":"'Tableau d''amortissement B'!K134","v":22882.937326725383},{"$f":"T119+'Tableau d''amortissement B'!H134","v":90032.688351651464}]
[null,null,{"$f":"'Tableau d''amortissement A'!C135","v":"2027-08-01"},{"$f":"'Tableau d''amortissement A'!I135","v":93610.455343172594},null,null,null,null,{"$f":"'Tableau d''amortissement B'!C135","v":"2020-08-01"},{"$f":"'Tableau d''amortissement B'!I135","v":109139.67997014511},null,null,{"$f":"'Tableau d''amortissement A'!C135","v":"2027-08-01"},{"$f":"'Tableau d''amortissement A'!K135","v":22265.218752676516},{"$f":"O120+'Tableau d''amortissement A'!H135","v":76389.544656827275},null,null,{"$f":"'Tableau d''amortissement B'!C135","v":"2020-08-01"},{"$f":"'Tableau d''amortissement B'!K135","v":23020.39646628582},{"$f":"T120+'Tableau d''amortissement B'!H135","v":90860.320029854935}]
[null,null,{"$f":"'Tableau d''amortissement A'!C136","v":"2027-09-01"},{"$f":"'Tableau d''amortissement A'!I136","v":92907.012837879069},null,null,null,null,{"$f":"'Tableau d''amortissement B'!C136","v":"2020-09-01"},{"$f":"'Tableau d''amortissement B'!I136","v":108311.01375234389},null,null,{"$f":"'Tableau d''amortissement A'!C136","v":"2027-09-01"},{"$f":"'Tableau d''amortissement A'!K136","v":22397.833564412678},{"$f":"O121+'Tableau d''amortissement A'!H136","v":77092.9871621208},null,null,{"$f":"'Tableau d''amortissement B'!C136","v":"2020-09-01"},{"$f":"'Tableau d''amortissement B'!K136","v":23156.8210662485},{"$f":"T121+'Tableau d''amortissement B'!H136","v":91688.986247656154}]
[null,null,{"$f":"'Tableau d''amortissement A'!C137","v":"2027-10-01"},{"$f":"'Tableau d''amortissement A'!I137","v":92202.573789036367},null,null,null,null,{"$f":"'Tableau d''amortissement B'!C137","v":"2020-10-01"},{"$f":"'Tableau d''amortissement B'!I137","v":107481.31170177042},null,null,{"$f":"'Tableau d''amortissement A'!C137","v":"2027-10-01"},{"$f":"'Tableau d''amortissement A'!K137","v":22529.451832599672},{"$f":"O122+'Tableau d''amortissement A'!H137","v":77797.426210963502},null,null,{"$f":"'Tableau d''amortissement B'!C137","v":"2020-10-01"},{"$f":"'Tableau d''amortissement B'!K137","v":23292.20983343893},{"$f":"T122+'Tableau d''amortissement B'!H137","v":92518.688298229623}]
[null,null,{"$f":"'Tableau d''amortissement A'!C138","v":"2027-11-01"},{"$f":"'Tableau d''amortissement A'!I138","v":91497.13678487447},null,null,null,null,{"$f":"'Tableau d''amortissement B'!C138","v":"2020-11-01"},{"$f":"'Tableau d''amortissement B'!I138","v":106650.57252363373},null,null,{"$f":"'Tableau d''amortissement A'!C138","v":"2027-11-01"},{"$f":"'Tableau d''amortissement A'!K138","v":22660.072145467475},{"$f":"O123+'Tableau d''amortissement A'!H138","v":78502.863215125399},null,null,{"$f":"'Tableau d''amortissement B'!C138","v":"2020-11-01"},{"$f":"'Tableau d''amortissement B'!K138","v":23426.561473066144},{"$f":"T123+'Tableau d''amortissement B'!H138","v":93349.427476366312}]
[null,null,{"$f":"'Tableau d''amortissement A'!C139","v":"2027-12-01"},{"$f":"'Tableau d''amortissement A'!I139","v":90790.700411623344},null,null,null,null,{"$f":"'Tableau d''amortissement B'!C139","v":"2020-12-01"},{"$f":"'Tableau d''amortissement B'!I139","v":105818.79492152437},null,null,{"$f":"'Tableau d''amortissement A'!C139","v":"2027-12-01"},{"$f":"'Tableau d''amortissement A'!K139","v":22789.693089246048},{"$f":"O124+'Tableau d''amortissement A'!H139","v":79209.299588376525},null,null,{"$f":"'Tableau d''amortissement B'!C139","v":"2020-12-01"},{"$f":"'Tableau d''amortissement B'!K139","v":23559.874688720687},{"$f":"T124+'Tableau d''amortissement B'!H139","v":94181.205078475672}]
[null,null,{"$f":"'Tableau d''amortissement A'!C140","v":"2028-01-01"},{"$f":"'Tableau d''amortissement A'!I140","v":90083.263253510115},null,null,null,null,{"$f":"'Tableau d''amortissement B'!C140","v":"2021-01-01"},{"$f":"'Tableau d''amortissement B'!I140","v":104985.97759741238},null,null,{"$f":"'Tableau d''amortissement A'!C140","v":"2028-01-01"},{"$f":"'Tableau d''amortissement A'!K140","v":22918.313248162514},{"$f":"O125+'Tableau d''amortissement A'!H140","v":79916.736746489754},null,null,{"$f":"'Tableau d''amortissement B'!C140","v":"2021-01-01"},{"$f":"'Tableau d''amortissement B'!K140","v":23692.148182372592},{"$f":"T125+'Tableau d''amortissement B'!H140","v":95014.022402587667}]
[null,null,{"$f":"'Tableau d''amortissement A'!C141","v":"2028-02-01"},{"$f":"'Tableau d''amortissement A'!I141","v":89374.823892756234},null,null,null,null,{"$f":"'Tableau d''amortissement B'!C141","v":"2021-02-01"},{"$f":"'Tableau d''amortissement B'!I141","v":104152.11925164524},null,null,{"$f":"'Tableau d''amortissement A'!C141","v":"2028-02-01"},{"$f":"'Tableau d''amortissement A'!K141","v":23045.931204438319},{"$f":"O126+'Tableau d''amortissement A'!H141","v":80625.176107243635},null,null,{"$f":"'Tableau d''amortissement B'!C141","v":"2021-02-01"},{"$f":"'Tableau d''amortissement B'!K141","v":23823.380654369357},{"$f":"T126+'Tableau d''amortissement B'!H141","v":95847.880748354801}]
[null,null,{"$f":"'Tableau d''amortissement A'!C142","v":"2028-03-01"},{"$f":"'Tableau d''amortissement A'!I142","v":88665.380909574611},null,null,null,null,{"$f":"'Tableau d''amortissement B'!C142","v":"2021-03-01"},{"$f":"'Tableau d''amortissement B'!I142","v":103317.21858294589},null,null,{"$f":"'Tableau d''amortissement A'!C142","v":"2028-03-01"},{"$f":"'Tableau d''amortissement A'!K142","v":23172.545538286391},{"$f":"O127+'Tableau d''amortissement A'!H142","v":81334.619090425258},null,null,{"$f":"'Tableau d''amortissement B'!C142","v":"2021-03-01"},{"$f":"'Tableau d''amortissement B'!K142","v":23953.570803433915},{"$f":"T127+'Tableau d''amortissement B'!H142","v":96682.781417054153}]
[null,null,{"$f":"'Tableau d''amortissement A'!C143","v":"2028-04-01"},{"$f":"'Tableau d''amortissement A'!I143","v":87954.932882166817},null,null,null,null,{"$f":"'Tableau d''amortissement B'!C143","v":"2021-04-01"},{"$f":"'Tableau d''amortissement B'!I143","v":102481.27428841067},null,null,{"$f":"'Tableau d''amortissement A'!C143","v":"2028-04-01"},{"$f":"'Tableau d''amortissement A'!K143","v":23298.154827908289},{"$f":"O128+'Tableau d''amortissement A'!H143","v":82045.067117833052},null,null,{"$f":"'Tableau d''amortissement B'!C143","v":"2021-04-01"},{"$f":"'Tableau d''amortissement B'!K143","v":24082.717326662598},{"$f":"T128+'Tableau d''amortissement B'!H143","v":97518.725711589374}]
[null,null,{"$f":"'Tableau d''amortissement A'!C144","v":"2028-05-01"},{"$f":"'Tableau d''amortissement A'!I144","v":87243.478386720191},null,null,null,null,{"$f":"'Tableau d''amortissement B'!C144","v":"2021-05-01"},{"$f":"'Tableau d''amortissement B'!I144","v":101644.28506350728},null,null,{"$f":"'Tableau d''amortissement A'!C144","v":"2028-05-01"},{"$f":"'Tableau d''amortissement A'!K144","v":23422.757649491359},{"$f":"O129+'Tableau d''amortissement A'!H144","v":82756.521613279678},null,null,{"$f":"'Tableau d''amortissement B'!C144","v":"2021-05-01"},{"$f":"'Tableau d''amortissement B'!K144","v":24210.81891952311},{"$f":"T129+'Tableau d''amortissement B'!H144","v":98355.714936492761}]
[null,null,{"$f":"'Tableau d''amortissement A'!C145","v":"2028-06-01"},{"$f":"'Tableau d''amortissement A'!I145","v":86531.015997405018},null,null,null,null,{"$f":"'Tableau d''amortissement B'!C145","v":"2021-06-01"},{"$f":"'Tableau d''amortissement B'!I145","v":100806.24960207276},null,null,{"$f":"'Tableau d''amortissement A'!C145","v":"2028-06-01"},{"$f":"'Tableau d''amortissement A'!K145","v":23546.352577205878},{"$f":"O130+'Tableau d''amortissement A'!H145","v":83468.984002594851},null,null,{"$f":"'Tableau d''amortissement B'!C145","v":"2021-06-01"},{"$f":"'Tableau d''amortissement B'!K145","v":24337.874275852493},{"$f":"T130+'Tableau d''amortissement B'!H145","v":99193.750397927288}]
[null,null,{"$f":"'Tableau d''amortissement A'!C146","v":"2028-07-01"},{"$f":"'Tableau d''amortissement A'!I146","v":85817.544286371645},null,null,null,null,{"$f":"'Tableau d''amortissement B'!C146","v":"2021-07-01"},{"$f":"'Tableau d''amortissement B'!I146","v":99967.166596311436},null,null,{"$f":"'Tableau d''amortissement A'!C146","v":"2028-07-01"},{"$f":"'Tableau d''amortissement A'!K146","v":23668.938183202201},{"$f":"O131+'Tableau d''amortissement A'!H146","v":84182.455713628224},null,null,{"$f":"'Tableau d''amortissement B'!C146","v":"2021-07-01"},{"$f":"'Tableau d''amortissement B'!K146","v":24463.882087855083},{"$f":"T131+'Tableau d''amortissement B'!H146","v":100032.83340368861}]
[null,null,{"$f":"'Tableau d''amortissement A'!C147","v":"2028-08-01"},{"$f":"'Tableau d''amortissement A'!I147","v":85103.061823747645},null,null,null,null,{"$f":"'Tableau d''amortissement B'!C147","v":"2021-08-01"},{"$f":"'Tableau d''amortissement B'!I147","v":99127.034736792921},null,null,{"$f":"'Tableau d''amortissement A'!C147","v":"2028-08-01"},{"$f":"'Tableau d''amortissement A'!K147","v":23790.513037607892},{"$f":"O132+'Tableau d''amortissement A'!H147","v":84896.938176252224},null,null,{"$f":"'Tableau d''amortissement B'!C147","v":"2021-08-01"},{"$f":"'Tableau d''amortissement B'!K147","v":24588.841046100471},{"$f":"T132+'Tableau d''amortissement B'!H147","v":100872.96526320712}]
[null,null,{"$f":"'Tableau d''amortissement A'!C148","v":"2028-09-01"},{"$f":"'Tableau d''amortissement A'!I148","v":84387.567177634934},null,null,null,null,{"$f":"'Tableau d''amortissement B'!C148","v":"2021-09-01"},{"$f":"'Tableau d''amortissement B'!I148","v":98285.852712450011},null,null,{"$f":"'Tableau d''amortissement A'!C148","v":"2028-09-01"},{"$f":"'Tableau d''amortissement A'!K148","v":23911.07570852487},{"$f":"O133+'Tableau d''amortissement A'!H148","v":85612.432822364935},null,null,{"$f":"'Tableau d''amortissement B'!C148","v":"2021-09-01"},{"$f":"'Tableau d''amortissement B'!K148","v":24712.749839521464},{"$f":"T133+'Tableau d''amortissement B'!H148","v":101714.14728755003}]
[null,null,{"$f":"'Tableau d''amortissement A'!C149","v":"2028-10-01"},{"$f":"'Tableau d''amortissement A'!I149","v":83671.058914106892},null,null,null,null,{"$f":"'Tableau d''amortissement B'!C149","v":"2021-10-01"},{"$f":"'Tableau d''amortissement B'!I149","v":97443.619210576668},null,null,{"$f":"'Tableau d''amortissement A'!C149","v":"2028-10-01"},{"$f":"'Tableau d''amortissement A'!K149","v":24030.62476202652},{"$f":"O134+'Tableau d''amortissement A'!H149","v":86328.941085892977},null,null,{"$f":"'Tableau d''amortissement B'!C149","v":"2021-10-01"},{"$f":"'Tableau d''amortissement B'!K149","v":24835.607155412028},{"$f":"T134+'Tableau d''amortissement B'!H149","v":102556.38078942338}]
[null,null,{"$f":"'Tableau d''amortissement A'!C150","v":"2028-11-01"},{"$f":"'Tableau d''amortissement A'!I150","v":82953.535597205511},null,null,null,null,{"$f":"'Tableau d''amortissement B'!C150","v":"2021-11-01"},{"$f":"'Tableau d''amortissement B'!I150","v":96600.332916825981},null,null,{"$f":"'Tableau d''amortissement A'!C150","v":"2028-11-01"},{"$f":"'Tableau d''amortissement A'!K150","v":24149.158762154839},{"$f":"O135+'Tableau d''amortissement A'!H150","v":87046.464402794358},null,null,{"$f":"'Tableau d''amortissement B'!C150","v":"2021-11-01"},{"$f":"'Tableau d''amortissement B'!K150","v":24957.411679425248},{"$f":"T135+'Tableau d''amortissement B'!H150","v":103399.66708317406}]
[null,null,{"$f":"'Tableau d''amortissement A'!C151","v":"2028-12-01"},{"$f":"'Tableau d''amortissement A'!I151","v":82234.995788938526},null,null,null,null,{"$f":"'Tableau d''amortissement B'!C151","v":"2021-12-01"},{"$f":"'Tableau d''amortissement B'!I151","v":95755.992515208112},null,null,{"$f":"'Tableau d''amortissement A'!C151","v":"2028-12-01"},{"$f":"'Tableau d''amortissement A'!K151","v":24266.676270917545},{"$f":"O136+'Tableau d''amortissement A'!H151","v":87765.004211061343},null,null,{"$f":"'Tableau d''amortissement B'!C151","v":"2021-12-01"},{"$f":"'Tableau d''amortissement B'!K151","v":25078.162095571279},{"$f":"T136+'Tableau d''amortissement B'!H151","v":104244.00748479193}]
[null,null,{"$f":"'Tableau d''amortissement A'!C152","v":"2029-01-01"},{"$f":"'Tableau d''amortissement A'!I152","v":81515.43804927649},null,null,null,null,{"$f":"'Tableau d''amortissement B'!C152","v":"2022-01-01"},{"$f":"'Tableau d''amortissement B'!I152","v":94910.596688088219},null,null,{"$f":"'Tableau d''amortissement A'!C152","v":"2029-01-01"},{"$f":"'Tableau d''amortissement A'!K152","v":24383.175848285209},{"$f":"O137+'Tableau d''amortissement A'!H152","v":88484.561950723379},null,null,{"$f":"'Tableau d''amortissement B'!C152","v":"2022-01-01"},{"$f":"'Tableau d''amortissement B'!K152","v":25197.857086215288},{"$f":"T137+'Tableau d''amortissement B'!H152","v":105089.40331191182}]
[null,null,{"$f":"'Tableau d''amortissement A'!C153","v":"2029-02-01"},{"$f":"'Tableau d''amortissement A'!I153","v":80794.86093614994},null,null,null,null,{"$f":"'Tableau d''amortissement B'!C153","v":"2022-02-01"},{"$f":"'Tableau d''amortissement B'!I153","v":94064.144116184427},null,null,{"$f":"'Tableau d''amortissement A'!C153","v":"2029-02-01"},{"$f":"'Tableau d''amortissement A'!K153","v":24498.656052188351},{"$f":"O138+'Tableau d''amortissement A'!H153","v":89205.139063849929},null,null,{"$f":"'Tableau d''amortissement B'!C153","v":"2022-02-01"},{"$f":"'Tableau d''amortissement B'!K153","v":25316.495332075399},{"$f":"T138+'Tableau d''amortissement B'!H153","v":105935.85588381562}]
[null,null,{"$f":"'Tableau d''amortissement A'!C154","v":"2029-03-01"},{"$f":"'Tableau d''amortissement A'!I154","v":80073.263005446453},null,null,null,null,{"$f":"'Tableau d''amortissement B'!C154","v":"2022-03-01"},{"$f":"'Tableau d''amortissement B'!I154","v":93216.633478565753},null,null,{"$f":"'Tableau d''amortissement A'!C154","v":"2029-03-01"},{"$f":"'Tableau d''amortissement A'!K154","v":24613.115438514564},{"$f":"O139+'Tableau d''amortissement A'!H154","v":89926.736994553416},null,null,{"$f":"'Tableau d''amortissement B'!C154","v":"2022-03-01"},{"$f":"'Tableau d''amortissement B'!K154","v":25434.075512220628},{"$f":"T139+'Tableau d''amortissement B'!H154","v":106783.36652143429}]
[null,null,{"$f":"'Tableau d''amortissement A'!C155","v":"2029-04-01"},{"$f":"'Tableau d''amortissement A'!I155","v":79350.642811007812},null,null,null,null,{"$f":"'Tableau d''amortissement B'!C155","v":"2022-04-01"},{"$f":"'Tableau d''amortissement B'!I155","v":92368.063452650051},null,null,{"$f":"'Tableau d''amortissement A'!C155","v":"2029-04-01"},{"$f":"'Tableau d''amortissement A'!K155","v":24726.552561105615},{"$f":"O140+'Tableau d''amortissement A'!H155","v":90649.357188992057},null,null,{"$f":"'Tableau d''amortissement B'!C155","v":"2022-04-01"},{"$f":"'Tableau d''amortissement B'!K155","v":25550.596304068837},{"$f":"T140+'Tableau d''amortissement B'!H155","v":107631.93654734999}]
[null,null,{"$f":"'Tableau d''amortissement A'!C156","v":"2029-05-01"},{"$f":"'Tableau d''amortissement A'!I156","v":78626.998904627049},null,null,null,null,{"$f":"'Tableau d''amortissement B'!C156","v":"2022-05-01"},{"$f":"'Tableau d''amortissement B'!I156","v":91518.432714201961},null,null,{"$f":"'Tableau d''amortissement A'!C156","v":"2029-05-01"},{"$f":"'Tableau d''amortissement A'!K156","v":24838.965971754544},{"$f":"O141+'Tableau d''amortissement A'!H156","v":91373.00109537282},null,null,{"$f":"'Tableau d''amortissement B'!C156","v":"2022-05-01"},{"$f":"'Tableau d''amortissement B'!K156","v":25666.05638338465},{"$f":"T141+'Tableau d''amortissement B'!H156","v":108481.56728579808}]
[null,null,{"$f":"'Tableau d''amortissement A'!C157","v":"2029-06-01"},{"$f":"'Tableau d''amortissement A'!I157","v":77902.329836045581},null,null,null,null,{"$f":"'Tableau d''amortissement B'!C157","v":"2022-06-01"},{"$f":"'Tableau d''amortissement B'!I157","v":90667.739937330814},null,null,{"$f":"'Tableau d''amortissement A'!C157","v":"2029-06-01"},{"$f":"'Tableau d''amortissement A'!K157","v":24950.354220202764},{"$f":"O142+'Tableau d''amortissement A'!H157","v":92097.670163954288},null,null,{"$f":"'Tableau d''amortissement B'!C157","v":"2022-06-01"},{"$f":"'Tableau d''amortissement B'!K157","v":25780.454424277403},{"$f":"T142+'Tableau d''amortissement B'!H157","v":109332.26006266923}]
[null,null,{"$f":"'Tableau d''amortissement A'!C158","v":"2029-07-01"},{"$f":"'Tableau d''amortissement A'!I158","v":77176.634152950282},null,null,null,null,{"$f":"'Tableau d''amortissement B'!C158","v":"2022-07-01"},{"$f":"'Tableau d''amortissement B'!I158","v":89815.983794488566},null,null,{"$f":"'Tableau d''amortissement A'!C158","v":"2029-07-01"},{"$f":"'Tableau d''amortissement A'!K158","v":25060.715854137161},{"$f":"O143+'Tableau d''amortissement A'!H158","v":92823.365847049587},null,null,{"$f":"'Tableau d''amortissement B'!C158","v":"2022-07-01"},{"$f":"'Tableau d''amortissement B'!K158","v":25893.789099199068},{"$f":"T143+'Tableau d''amortissement B'!H158","v":110184.01620551148}]
[null,null,{"$f":"'Tableau d''amortissement A'!C159","v":"2029-08-01"},{"$f":"'Tableau d''amortissement A'!I159","v":76449.910400970606},null,null,null,null,{"$f":"'Tableau d''amortissement B'!C159","v":"2022-08-01"},{"$f":"'Tableau d''amortissement B'!I159","v":88963.162956467771},null,null,{"$f":"'Tableau d''amortissement A'!C159","v":"2029-08-01"},{"$f":"'Tableau d''amortissement A'!K159","v":25170.049419187173},{"$f":"O144+'Tableau d''amortissement A'!H159","v":93550.089599029263},null,null,{"$f":"'Tableau d''amortissement B'!C159","v":"2022-08-01"},{"$f":"'Tableau d''amortissement B'!K159","v":26006.05907894218},{"$f":"T144+'Tableau d''amortissement B'!H159","v":111036.83704353227}]
[null,null,{"$f":"'Tableau d''amortissement A'!C160","v":"2029-09-01"},{"$f":"'Tableau d''amortissement A'!I160","v":75722.157123675628},null,null,null,null,{"$f":"'Tableau d''amortissement B'!C160","v":"2022-09-01"},{"$f":"'Tableau d''amortissement B'!I160","v":88109.27609239945},null,null,{"$f":"'Tableau d''amortissement A'!C160","v":"2029-09-01"},{"$f":"'Tableau d''amortissement A'!K160","v":25278.35345892188},{"$f":"O145+'Tableau d''amortissement A'!H160","v":94277.842876324241},null,null,{"$f":"'Tableau d''amortissement B'!C160","v":"2022-09-01"},{"$f":"'Tableau d''amortissement B'!K160","v":26117.263032637766},{"$f":"T145+'Tableau d''amortissement B'!H160","v":111890.72390760059}]
[null,null,{"$f":"'Tableau d''amortissement A'!C161","v":"2029-10-01"},{"$f":"'Tableau d''amortissement A'!I161","v":74993.372862571137},null,null,null,null,{"$f":"'Tableau d''amortissement B'!C161","v":"2022-10-01"},{"$f":"'Tableau d''amortissement B'!I161","v":87254.321869751046},null,null,{"$f":"'Tableau d''amortissement A'!C161","v":"2029-10-01"},{"$f":"'Tableau d''amortissement A'!K161","v":25385.626514847088},{"$f":"O146+'Tableau d''amortissement A'!H161","v":95006.627137428732},null,null,{"$f":"'Tableau d''amortissement B'!C161","v":"2022-10-01"},{"$f":"'Tableau d''amortissement B'!K161","v":26227.399627753264},{"$f":"T146+'Tableau d''amortissement B'!H161","v":112745.678130249}]
[null,null,{"$f":"'Tableau d''amortissement A'!C162","v":"2029-11-01"},{"$f":"'Tableau d''amortissement A'!I162","v":74263.556157096755},null,null,null,null,{"$f":"'Tableau d''amortissement B'!C162","v":"2022-11-01"},{"$f":"'Tableau d''amortissement B'!I162","v":86398.298954324331},null,null,{"$f":"'Tableau d''amortissement A'!C162","v":"2029-11-01"},{"$f":"'Tableau d''amortissement A'!K162","v":25491.867126402398},{"$f":"O147+'Tableau d''amortissement A'!H162","v":95736.443842903114},null,null,{"$f":"'Tableau d''amortissement B'!C162","v":"2022-11-01"},{"$f":"'Tableau d''amortissement B'!K162","v":26336.467530090453},{"$f":"T147+'Tableau d''amortissement B'!H162","v":113601.70104567571}]
[null,null,{"$f":"'Tableau d''amortissement A'!C163","v":"2029-12-01"},{"$f":"'Tableau d''amortissement A'!I163","v":73532.70554462295},null,null,null,null,{"$f":"'Tableau d''amortissement B'!C163","v":"2022-12-01"},{"$f":"'Tableau d''amortissement B'!I163","v":85541.206010253329},null,null,{"$f":"'Tableau d''amortissement A'!C163","v":"2029-12-01"},{"$f":"'Tableau d''amortissement A'!K163","v":25597.073830958285},{"$f":"O148+'Tableau d''amortissement A'!H163","v":96467.294455376919},null,null,{"$f":"'Tableau d''amortissement B'!C163","v":"2022-12-01"},{"$f":"'Tableau d''amortissement B'!K163","v":26444.465403783357},{"$f":"T148+'Tableau d''amortissement B'!H163","v":114458.79398974671}]
[null,null,{"$f":"'Tableau d''amortissement A'!C164","v":"2030-01-01"},{"$f":"'Tableau d''amortissement A'!I164","v":72800.819560448144},null,null,null,null,{"$f":"'Tableau d''amortissement B'!C164","v":"2023-01-01"},{"$f":"'Tableau d''amortissement B'!I164","v":84683.041700002243},null,null,{"$f":"'Tableau d''amortissement A'!C164","v":"2030-01-01"},{"$f":"'Tableau d''amortissement A'!K164","v":25701.245163813168},{"$f":"O149+'Tableau d''amortissement A'!H164","v":97199.180439551725},null,null,{"$f":"'Tableau d''amortissement B'!C164","v":"2023-01-01"},{"$f":"'Tableau d''amortissement B'!K164","v":26551.391911296174},{"$f":"T149+'Tableau d''amortissement B'!H164","v":115316.9582999978}]
[null,null,{"$f":"'Tableau d''amortissement A'!C165","v":"2030-02-01"},{"$f":"'Tableau d''amortissement A'!I165","v":72067.89673779576},null,null,null,null,{"$f":"'Tableau d''amortissement B'!C165","v":"2023-02-01"},{"$f":"'Tableau d''amortissement B'!I165","v":83823.804684363335},null,null,{"$f":"'Tableau d''amortissement A'!C165","v":"2030-02-01"},{"$f":"'Tableau d''amortissement A'!K165","v":25804.379658190468},{"$f":"O150+'Tableau d''amortissement A'!H165","v":97932.103262204109},null,null,{"$f":"'Tableau d''amortissement B'!C165","v":"2023-02-01"},{"$f":"'Tableau d''amortissement B'!K165","v":26657.245713421176},{"$f":"T150+'Tableau d''amortissement B'!H165","v":116176.19531563671}]
[null,null,{"$f":"'Tableau d''amortissement A'!C166","v":"2030-03-01"},{"$f":"'Tableau d''amortissement A'!I166","v":71333.935607811276},null,null,null,null,{"$f":"'Tableau d''amortissement B'!C166","v":"2023-03-01"},{"$f":"'Tableau d''amortissement B'!I166","v":82963.493622454887},null,null,{"$f":"'Tableau d''amortissement A'!C166","v":"2030-03-01"},{"$f":"'Tableau d''amortissement A'!K166","v":25906.47584523568},{"$f":"O151+'Tableau d''amortissement A'!H166","v":98666.064392188593},null,null,{"$f":"'Tableau d''amortissement B'!C166","v":"2023-03-01"},{"$f":"'Tableau d''amortissement B'!K166","v":26762.025469276632},{"$f":"T151+'Tableau d''amortissement B'!H166","v":117036.50637754516}]
[null,null,{"$f":"'Tableau d''amortissement A'!C167","v":"2030-04-01"},{"$f":"'Tableau d''amortissement A'!I167","v":70598.934699559322},null,null,null,null,{"$f":"'Tableau d''amortissement B'!C167","v":"2023-04-01"},{"$f":"'Tableau d''amortissement B'!I167","v":82102.10717171905},null,null,{"$f":"'Tableau d''amortissement A'!C167","v":"2030-04-01"},{"$f":"'Tableau d''amortissement A'!K167","v":26007.532254013411},{"$f":"O152+'Tableau d''amortissement A'!H167","v":99401.065300440547},null,null,{"$f":"'Tableau d''amortissement B'!C167","v":"2023-04-01"},{"$f":"'Tableau d''amortissement B'!K167","v":26865.729836304701},{"$f":"T152+'Tableau d''amortissement B'!H167","v":117897.89282828099}]
[null,null,{"$f":"'Tableau d''amortissement A'!C168","v":"2030-05-01"},{"$f":"'Tableau d''amortissement A'!I168","v":69862.892540020664},null,null,null,null,{"$f":"'Tableau d''amortissement B'!C168","v":"2023-05-01"},{"$f":"'Tableau d''amortissement B'!I168","v":81239.643987919801},null,null,{"$f":"'Tableau d''amortissement A'!C168","v":"2030-05-01"},{"$f":"'Tableau d''amortissement A'!K168","v":26107.547411504453},{"$f":"O153+'Tableau d''amortissement A'!H168","v":100137.1074599792},null,null,{"$f":"'Tableau d''amortissement B'!C168","v":"2023-05-01"},{"$f":"'Tableau d''amortissement B'!K168","v":26968.357470269351},{"$f":"T153+'Tableau d''amortissement B'!H168","v":118760.35601208024}]
[null,null,{"$f":"'Tableau d''amortissement A'!C169","v":"2030-06-01"},{"$f":"'Tableau d''amortissement A'!I169","v":69125.807654089338},null,null,null,null,{"$f":"'Tableau d''amortissement B'!C169","v":"2023-06-01"},{"$f":"'Tableau d''amortissement B'!I169","v":80376.102725140794},null,null,{"$f":"'Tableau d''amortissement A'!C169","v":"2030-06-01"},{"$f":"'Tableau d''amortissement A'!K169","v":26206.519842602815},{"$f":"O154+'Tableau d''amortissement A'!H169","v":100874.19234591053},null,null,{"$f":"'Tableau d''amortissement B'!C169","v":"2023-06-01"},{"$f":"'Tableau d''amortissement B'!K169","v":27069.907025254251},{"$f":"T154+'Tableau d''amortissement B'!H169","v":119623.89727485925}]
[null,null,{"$f":"'Tableau d''amortissement A'!C170","v":"2030-07-01"},{"$f":"'Tableau d''amortissement A'!I170","v":68387.678564569607},null,null,null,null,{"$f":"'Tableau d''amortissement B'!C170","v":"2023-07-01"},{"$f":"'Tableau d''amortissement B'!I170","v":79511.482035783309},null,null,{"$f":"'Tableau d''amortissement A'!C170","v":"2030-07-01"},{"$f":"'Tableau d''amortissement A'!K170","v":26304.448070112776},{"$f":"O155+'Tableau d''amortissement A'!H170","v":101612.32143543026},null,null,{"$f":"'Tableau d''amortissement B'!C170","v":"2023-07-01"},{"$f":"'Tableau d''amortissement B'!K170","v":27170.377153660676},{"$f":"T155+'Tableau d''amortissement B'!H170","v":120488.51796421673}]
[null,null,{"$f":"'Tableau d''amortissement A'!C171","v":"2030-08-01"},{"$f":"'Tableau d''amortissement A'!I171","v":67648.503792173055},null,null,null,null,{"$f":"'Tableau d''amortissement B'!C171","v":"2023-08-01"},{"$f":"'Tableau d''amortissement B'!I171","v":78645.780570564137},null,null,{"$f":"'Tableau d''amortissement A'!C171","v":"2030-08-01"},{"$f":"'Tableau d''amortissement A'!K171","v":26401.330614745915},{"$f":"O156+'Tableau d''amortissement A'!H171","v":102351.49620782681},null,null,{"$f":"'Tableau d''amortissement B'!C171","v":"2023-08-01"},{"$f":"'Tableau d''amortissement B'!K171","v":27269.766506205404},{"$f":"T156+'Tableau d''amortissement B'!H171","v":121354.21942943591}]
[null,null,{"$f":"'Tableau d''amortissement A'!C172","v":"2030-09-01"},{"$f":"'Tableau d''amortissement A'!I172","v":66908.281855515612},null,null,null,null,{"$f":"'Tableau d''amortissement B'!C172","v":"2023-09-01"},{"$f":"'Tableau d''amortissement B'!I172","v":77778.996978513431},null,null,{"$f":"'Tableau d''amortissement A'!C172","v":"2030-09-01"},{"$f":"'Tableau d''amortissement A'!K172","v":26497.165995118161},{"$f":"O157+'Tableau d''amortissement A'!H172","v":103091.71814448426},null,null,{"$f":"'Tableau d''amortissement B'!C172","v":"2023-09-01"},{"$f":"'Tableau d''amortissement B'!K172","v":27368.073731918608},{"$f":"T157+'Tableau d''amortissement B'!H172","v":122221.00302148661}]
[null,null,{"$f":"'Tableau d''amortissement A'!C173","v":"2030-10-01"},{"$f":"'Tableau d''amortissement A'!I173","v":66167.011271114563},null,null,null,null,{"$f":"'Tableau d''amortissement B'!C173","v":"2023-10-01"},{"$f":"'Tableau d''amortissement B'!I173","v":76911.129906972667},null,null,{"$f":"'Tableau d''amortissement A'!C173","v":"2030-10-01"},{"$f":"'Tableau d''amortissement A'!K173","v":26591.952727746808},{"$f":"O158+'Tableau d''amortissement A'!H173","v":103832.98872888531},null,null,{"$f":"'Tableau d''amortissement B'!C173","v":"2023-10-01"},{"$f":"'Tableau d''amortissement B'!K173","v":27465.297478141751},{"$f":"T158+'Tableau d''amortissement B'!H173","v":123088.87009302738}]
[null,null,{"$f":"'Tableau d''amortissement A'!C174","v":"2030-11-01"},{"$f":"'Tableau d''amortissement A'!I174","v":65424.690553385619},null,null,null,null,{"$f":"'Tableau d''amortissement B'!C174","v":"2023-11-01"},{"$f":"'Tableau d''amortissement B'!I174","v":76042.178001592474},null,null,{"$f":"'Tableau d''amortissement A'!C174","v":"2030-11-01"},{"$f":"'Tableau d''amortissement A'!K174","v":26685.689327047552},{"$f":"O159+'Tableau d''amortissement A'!H174","v":104575.30944661425},null,null,{"$f":"'Tableau d''amortissement B'!C174","v":"2023-11-01"},{"$f":"'Tableau d''amortissement B'!K174","v":27561.436390525465},{"$f":"T159+'Tableau d''amortissement B'!H174","v":123957.82199840757}]
[null,null,{"$f":"'Tableau d''amortissement A'!C175","v":"2030-12-01"},{"$f":"'Tableau d''amortissement A'!I175","v":64681.31821463989},null,null,null,null,{"$f":"'Tableau d''amortissement B'!C175","v":"2023-12-01"},{"$f":"'Tableau d''amortissement B'!I175","v":75172.139906330558},null,null,{"$f":"'Tableau d''amortissement A'!C175","v":"2030-12-01"},{"$f":"'Tableau d''amortissement A'!K175","v":26778.374305331516},{"$f":"O160+'Tableau d''amortissement A'!H175","v":105318.68178535998},null,null,{"$f":"'Tableau d''amortissement B'!C175","v":"2023-12-01"},{"$f":"'Tableau d''amortissement B'!K175","v":27656.489113027455},{"$f":"T160+'Tableau d''amortissement B'!H175","v":124827.86009366949}]
[null,null,{"$f":"'Tableau d''amortissement A'!C176","v":"2031-01-01"},{"$f":"'Tableau d''amortissement A'!I176","v":63936.892765080935},null,null,null,null,{"$f":"'Tableau d''amortissement B'!C176","v":"2024-01-01"},{"$f":"'Tableau d''amortissement B'!I176","v":74301.014263449571},null,null,{"$f":"'Tableau d''amortissement A'!C176","v":"2031-01-01"},{"$f":"'Tableau d''amortissement A'!K176","v":26870.006172802256},{"$f":"O161+'Tableau d''amortissement A'!H176","v":106063.10723491893},null,null,{"$f":"'Tableau d''amortissement B'!C176","v":"2024-01-01"},{"$f":"'Tableau d''amortissement B'!K176","v":27750.454287910368},{"$f":"T161+'Tableau d''amortissement B'!H176","v":125698.98573655047}]
[null,null,{"$f":"'Tableau d''amortissement A'!C177","v":"2031-02-01"},{"$f":"'Tableau d''amortissement A'!I177","v":63191.412712801772},null,null,null,null,{"$f":"'Tableau d''amortissement B'!C177","v":"2024-02-01"},{"$f":"'Tableau d''amortissement B'!I177","v":73428.799713514978},null,null,{"$f":"'Tableau d''amortissement A'!C177","v":"2031-02-01"},{"$f":"'Tableau d''amortissement A'!K177","v":26960.583437552788},{"$f":"O162+'Tableau d''amortissement A'!H177","v":106808.5872871981},null,null,{"$f":"'Tableau d''amortissement B'!C177","v":"2024-02-01"},{"$f":"'Tableau d''amortissement B'!K177","v":27843.330555739682},{"$f":"T162+'Tableau d''amortissement B'!H177","v":126571.20028648507}]
[null,null,{"$f":"'Tableau d''amortissement A'!C178","v":"2031-03-01"},{"$f":"'Tableau d''amortissement A'!I178","v":62444.87656378188},null,null,null,null,{"$f":"'Tableau d''amortissement B'!C178","v":"2024-03-01"},{"$f":"'Tableau d''amortissement B'!I178","v":72555.494895392971},null,null,{"$f":"'Tableau d''amortissement A'!C178","v":"2031-03-01"},{"$f":"'Tableau d''amortissement A'!K178","v":27050.104605562592},{"$f":"O163+'Tableau d''amortissement A'!H178","v":107555.12343621798},null,null,{"$f":"'Tableau d''amortissement B'!C178","v":"2024-03-01"},{"$f":"'Tableau d''amortissement B'!K178","v":27935.116555381574},{"$f":"T163+'Tableau d''amortissement B'!H178","v":127444.50510460707}]
[null,null,{"$f":"'Tableau d''amortissement A'!C179","v":"2031-04-01"},{"$f":"'Tableau d''amortissement A'!I179","v":61697.282821884211},null,null,null,null,{"$f":"'Tableau d''amortissement B'!C179","v":"2024-04-01"},{"$f":"'Tableau d''amortissement B'!I179","v":71681.098446248303},null,null,{"$f":"'Tableau d''amortissement A'!C179","v":"2031-04-01"},{"$f":"'Tableau d''amortissement A'!K179","v":27138.568180694616},{"$f":"O164+'Tableau d''amortissement A'!H179","v":108302.71717811565},null,null,{"$f":"'Tableau d''amortissement B'!C179","v":"2024-04-01"},{"$f":"'Tableau d''amortissement B'!K179","v":28025.810924000816},{"$f":"T164+'Tableau d''amortissement B'!H179","v":128318.90155375174}]
[null,null,{"$f":"'Tableau d''amortissement A'!C180","v":"2031-05-01"},{"$f":"'Tableau d''amortissement A'!I180","v":60948.62998885219},null,null,null,null,{"$f":"'Tableau d''amortissement B'!C180","v":"2024-05-01"},{"$f":"'Tableau d''amortissement B'!I180","v":70805.609001542209},null,null,{"$f":"'Tableau d''amortissement A'!C180","v":"2031-05-01"},{"$f":"'Tableau d''amortissement A'!K180","v":27225.972664692286},{"$f":"O165+'Tableau d''amortissement A'!H180","v":109051.37001114768},null,null,{"$f":"'Tableau d''amortissement B'!C180","v":"2024-05-01"},{"$f":"'Tableau d''amortissement B'!K180","v":28115.412297058625},{"$f":"T165+'Tableau d''amortissement B'!H180","v":129194.39099845783}]
[null,null,{"$f":"'Tableau d''amortissement A'!C181","v":"2031-06-01"},{"$f":"'Tableau d''amortissement A'!I181","v":60198.916564306703},null,null,null,null,{"$f":"'Tableau d''amortissement B'!C181","v":"2024-06-01"},{"$f":"'Tableau d''amortissement B'!I181","v":69929.025195030234},null,null,{"$f":"'Tableau d''amortissement A'!C181","v":"2031-06-01"},{"$f":"'Tableau d''amortissement A'!K181","v":27312.316557176495},{"$f":"O166+'Tableau d''amortissement A'!H181","v":109801.08343569316},null,null,{"$f":"'Tableau d''amortissement B'!C181","v":"2024-06-01"},{"$f":"'Tableau d''amortissement B'!K181","v":28203.919308310553},{"$f":"T166+'Tableau d''amortissement B'!H181","v":130070.97480496981}]
[null,null,{"$f":"'Tableau d''amortissement A'!C182","v":"2031-07-01"},{"$f":"'Tableau d''amortissement A'!I182","v":59448.141045743112},null,null,null,null,{"$f":"'Tableau d''amortissement B'!C182","v":"2024-07-01"},{"$f":"'Tableau d''amortissement B'!I182","v":69051.34565876011},null,null,{"$f":"'Tableau d''amortissement A'!C182","v":"2031-07-01"},{"$f":"'Tableau d''amortissement A'!K182","v":27397.598355642596},{"$f":"O167+'Tableau d''amortissement A'!H182","v":110551.85895425675},null,null,{"$f":"'Tableau d''amortissement B'!C182","v":"2024-07-01"},{"$f":"'Tableau d''amortissement B'!K182","v":28291.33058980434},{"$f":"T167+'Tableau d''amortissement B'!H182","v":130948.65434123993}]
[null,null,{"$f":"'Tableau d''amortissement A'!C183","v":"2031-08-01"},{"$f":"'Tableau d''amortissement A'!I183","v":58696.301928528221},null,null,null,null,{"$f":"'Tableau d''amortissement B'!C183","v":"2024-08-01"},{"$f":"'Tableau d''amortissement B'!I183","v":68172.569023069649},null,null,{"$f":"'Tableau d''amortissement A'!C183","v":"2031-08-01"},{"$f":"'Tableau d''amortissement A'!K183","v":27481.816555457401},{"$f":"O168+'Tableau d''amortissement A'!H183","v":111303.69807147163},null,null,{"$f":"'Tableau d''amortissement B'!C183","v":"2024-08-01"},{"$f":"'Tableau d''amortissement B'!K183","v":28377.644771877789},{"$f":"T168+'Tableau d''amortissement B'!H183","v":131827.43097693039}]
[null,null,{"$f":"'Tableau d''amortissement A'!C184","v":"2031-09-01"},{"$f":"'Tableau d''amortissement A'!I184","v":57943.397705897274},null,null,null,null,{"$f":"'Tableau d''amortissement B'!C184","v":"2024-09-01"},{"$f":"'Tableau d''amortissement B'!I184","v":67292.693916584583},null,null,{"$f":"'Tableau d''amortissement A'!C184","v":"2031-09-01"},{"$f":"'Tableau d''amortissement A'!K184","v":27564.96964985615},{"$f":"O169+'Tableau d''amortissement A'!H184","v":112056.60229410257},null,null,{"$f":"'Tableau d''amortissement B'!C184","v":"2024-09-01"},{"$f":"'Tableau d''amortissement B'!K184","v":28462.860483156626},{"$f":"T169+'Tableau d''amortissement B'!H184","v":132707.30608341546}]
[null,null,{"$f":"'Tableau d''amortissement A'!C185","v":"2031-10-01"},{"$f":"'Tableau d''amortissement A'!I185","v":57189.426868950934},null,null,null,null,{"$f":"'Tableau d''amortissement B'!C185","v":"2024-10-01"},{"$f":"'Tableau d''amortissement B'!I185","v":66411.718966216402},null,null,{"$f":"'Tableau d''amortissement A'!C185","v":"2031-10-01"},{"$f":"'Tableau d''amortissement A'!K185","v":27647.056129939505},{"$f":"O170+'Tableau d''amortissement A'!H185","v":112810.57313104891},null,null,{"$f":"'Tableau d''amortissement B'!C185","v":"2024-10-01"},{"$f":"'Tableau d''amortissement B'!K185","v":28546.976350552359},{"$f":"T170+'Tableau d''amortissement B'!H185","v":133588.28103378363}]
[null,null,{"$f":"'Tableau d''amortissement A'!C186","v":"2031-11-01"},{"$f":"'Tableau d''amortissement A'!I186","v":56434.387906652257},null,null,null,null,{"$f":"'Tableau d''amortissement B'!C186","v":"2024-11-01"},{"$f":"'Tableau d''amortissement B'!I186","v":65529.642797160268},null,null,{"$f":"'Tableau d''amortissement A'!C186","v":"2031-11-01"},{"$f":"'Tableau d''amortissement A'!K186","v":27728.07448467052},{"$f":"O171+'Tableau d''amortissement A'!H186","v":113565.61209334759},null,null,{"$f":"'Tableau d''amortissement B'!C186","v":"2024-11-01"},{"$f":"'Tableau d''amortissement B'!K186","v":28629.990999260128},{"$f":"T171+'Tableau d''amortissement B'!H186","v":134470.35720283978}]
[null,null,{"$f":"'Tableau d''amortissement A'!C187","v":"2031-12-01"},{"$f":"'Tableau d''amortissement A'!I187","v":55678.279305823657},null,null,null,null,{"$f":"'Tableau d''amortissement B'!C187","v":"2024-12-01"},{"$f":"'Tableau d''amortissement B'!I187","v":64646.464032892814},null,null,{"$f":"'Tableau d''amortissement A'!C187","v":"2031-12-01"},{"$f":"'Tableau d''amortissement A'!K187","v":27808.023200871612},{"$f":"O172+'Tableau d''amortissement A'!H187","v":114321.7206941762},null,null,{"$f":"'Tableau d''amortissement B'!C187","v":"2024-12-01"},{"$f":"'Tableau d''amortissement B'!K187","v":28711.903052756577},{"$f":"T172+'Tableau d''amortissement B'!H187","v":135353.53596710722}]
[null,null,{"$f":"'Tableau d''amortissement A'!C188","v":"2032-01-01"},{"$f":"'Tableau d''amortissement A'!I188","v":54921.099551143881},null,null,null,null,{"$f":"'Tableau d''amortissement B'!C188","v":"2025-01-01"},{"$f":"'Tableau d''amortissement B'!I188","v":63762.181295170027},null,null,{"$f":"'Tableau d''amortissement A'!C188","v":"2032-01-01"},{"$f":"'Tableau d''amortissement A'!K188","v":27886.900763221529},{"$f":"O173+'Tableau d''amortissement A'!H188","v":115078.90044885597},null,null,{"$f":"'Tableau d''amortissement B'!C188","v":"2025-01-01"},{"$f":"'Tableau d''amortissement B'!K188","v":28792.711132797693},{"$f":"T173+'Tableau d''amortissement B'!H188","v":136237.81870483002}]
[null,null,{"$f":"'Tableau d''amortissement A'!C189","v":"2032-02-01"},{"$f":"'Tableau d''amortissement A'!I189","v":54162.847125144974},null,null,null,null,{"$f":"'Tableau d''amortissement B'!C189","v":"2025-02-01"},{"$f":"'Tableau d''amortissement B'!I189","v":62876.793204025082},null,null,{"$f":"'Tableau d''amortissement A'!C189","v":"2032-02-01"},{"$f":"'Tableau d''amortissement A'!K189","v":27964.705654252317},{"$f":"O174+'Tableau d''amortissement A'!H189","v":115837.15287485487},null,null,{"$f":"'Tableau d''amortissement B'!C189","v":"2025-02-01"},{"$f":"'Tableau d''amortissement B'!K189","v":28872.413859416654},{"$f":"T174+'Tableau d''amortissement B'!H189","v":137123.20679597495}]
[null,null,{"$f":"'Tableau d''amortissement A'!C190","v":"2032-03-01"},{"$f":"'Tableau d''amortissement A'!I190","v":53403.520508209236},null,null,null,null,{"$f":"'Tableau d''amortissement B'!C190","v":"2025-03-01"},{"$f":"'Tableau d''amortissement B'!I190","v":61990.298377766208},null,null,{"$f":"'Tableau d''amortissement A'!C190","v":"2032-03-01"},{"$f":"'Tableau d''amortissement A'!K190","v":28041.436354346271},{"$f":"O175+'Tableau d''amortissement A'!H190","v":116596.47949179061},null,null,{"$f":"'Tableau d''amortissement B'!C190","v":"2025-03-01"},{"$f":"'Tableau d''amortissement B'!K190","v":28951.009850921684},{"$f":"T175+'Tableau d''amortissement B'!H190","v":138009.70162223384}]
[null,null,{"$f":"'Tableau d''amortissement A'!C191","v":"2032-04-01"},{"$f":"'Tableau d''amortissement A'!I191","v":52643.118178566176},null,null,null,null,{"$f":"'Tableau d''amortissement B'!C191","v":"2025-04-01"},{"$f":"'Tableau d''amortissement B'!I191","v":61102.695432974513},null,null,{"$f":"'Tableau d''amortissement A'!C191","v":"2032-04-01"},{"$f":"'Tableau d''amortissement A'!K191","v":28117.091341732903},{"$f":"O176+'Tableau d''amortissement A'!H191","v":117356.88182143368},null,null,{"$f":"'Tableau d''amortissement B'!C191","v":"2025-04-01"},{"$f":"'Tableau d''amortissement B'!K191","v":29028.497723893892},{"$f":"T176+'Tableau d''amortissement B'!H191","v":138897.30456702554}]
[null,null,{"$f":"'Tableau d''amortissement A'!C192","v":"2032-05-01"},{"$f":"'Tableau d''amortissement A'!I192","v":51881.638612289455},null,null,null,null,{"$f":"'Tableau d''amortissement B'!C192","v":"2025-05-01"},{"$f":"'Tableau d''amortissement B'!I192","v":60213.982984501825},null,null,{"$f":"'Tableau d''amortissement A'!C192","v":"2032-05-01"},{"$f":"'Tableau d''amortissement A'!K192","v":28191.66909248587},{"$f":"O177+'Tableau d''amortissement A'!H192","v":118118.36138771041},null,null,{"$f":"'Tableau d''amortissement B'!C192","v":"2025-05-01"},{"$f":"'Tableau d''amortissement B'!K192","v":29104.87609318511},{"$f":"T177+'Tableau d''amortissement B'!H192","v":139786.01701549822}]
[null,null,{"$f":"'Tableau d''amortissement A'!C193","v":"2032-06-01"},{"$f":"'Tableau d''amortissement A'!I193","v":51119.080283293835},null,null,null,null,{"$f":"'Tableau d''amortissement B'!C193","v":"2025-06-01"},{"$f":"'Tableau d''amortissement B'!I193","v":59324.15964546855},null,null,{"$f":"'Tableau d''amortissement A'!C193","v":"2032-06-01"},{"$f":"'Tableau d''amortissement A'!K193","v":28265.168080519947},{"$f":"O178+'Tableau d''amortissement A'!H193","v":118880.91971670602},null,null,{"$f":"'Tableau d''amortissement B'!C193","v":"2025-06-01"},{"$f":"'Tableau d''amortissement B'!K193","v":29180.143571915738},{"$f":"T178+'Tableau d''amortissement B'!H193","v":140675.84035453151}]
[null,null,{"$f":"'Tableau d''amortissement A'!C194","v":"2032-07-01"},{"$f":"'Tableau d''amortissement A'!I194","v":50355.441663332138},null,null,null,null,{"$f":"'Tableau d''amortissement B'!C194","v":"2025-07-01"},{"$f":"'Tableau d''amortissement B'!I194","v":58433.22402726148},null,null,{"$f":"'Tableau d''amortissement A'!C194","v":"2032-07-01"},{"$f":"'Tableau d''amortissement A'!K194","v":28337.586777587945},{"$f":"O179+'Tableau d''amortissement A'!H194","v":119644.55833666772},null,null,{"$f":"'Tableau d''amortissement B'!C194","v":"2025-07-01"},{"$f":"'Tableau d''amortissement B'!K194","v":29254.298771472575},{"$f":"T179+'Tableau d''amortissement B'!H194","v":141566.77597273857}]
[null,null,{"$f":"'Tableau d''amortissement A'!C195","v":"2032-08-01"},{"$f":"'Tableau d''amortissement A'!I195","v":49590.721221992164},null,null,null,null,{"$f":"'Tableau d''amortissement B'!C195","v":"2025-08-01"},{"$f":"'Tableau d''amortissement B'!I195","v":57541.174739531649},null,null,{"$f":"'Tableau d''amortissement A'!C195","v":"2032-08-01"},{"$f":"'Tableau d''amortissement A'!K195","v":28408.923653277667},{"$f":"O180+'Tableau d''amortissement A'!H195","v":120409.27877800769},null,null,{"$f":"'Tableau d''amortissement B'!C195","v":"2025-08-01"},{"$f":"'Tableau d''amortissement B'!K195","v":29327.340301506651},{"$f":"T180+'Tableau d''amortissement B'!H195","v":142458.82526046841}]
[null,null,{"$f":"'Tableau d''amortissement A'!C196","v":"2032-09-01"},{"$f":"'Tableau d''amortissement A'!I196","v":48824.917426693624},null,null,null,null,{"$f":"'Tableau d''amortissement B'!C196","v":"2025-09-01"},{"$f":"'Tableau d''amortissement B'!I196","v":56648.010390192161},null,null,{"$f":"'Tableau d''amortissement A'!C196","v":"2032-09-01"},{"$f":"'Tableau d''amortissement A'!K196","v":28479.177175008823},{"$f":"O181+'Tableau d''amortissement A'!H196","v":121175.08257330622},null,null,{"$f":"'Tableau d''amortissement B'!C196","v":"2025-09-01"},{"$f":"'Tableau d''amortissement B'!K196","v":29399.266769931066},{"$f":"T181+'Tableau d''amortissement B'!H196","v":143351.9896098079}]
[null,null,{"$f":"'Tableau d''amortissement A'!C197","v":"2032-10-01"},{"$f":"'Tableau d''amortissement A'!I197","v":48058.028742685077},null,null,null,null,{"$f":"'Tableau d''amortissement B'!C197","v":"2025-10-01"},{"$f":"'Tableau d''amortissement B'!I197","v":55753.729585415997},null,null,{"$f":"'Tableau d''amortissement A'!C197","v":"2032-10-01"},{"$f":"'Tableau d''amortissement A'!K197","v":28548.345808029972},{"$f":"O182+'Tableau d''amortissement A'!H197","v":121941.97125731477},null,null,{"$f":"'Tableau d''amortissement B'!C197","v":"2025-10-01"},{"$f":"'Tableau d''amortissement B'!K197","v":29470.076782918804},{"$f":"T182+'Tableau d''amortissement B'!H197","v":144246.27041458408}]
[null,null,{"$f":"'Tableau d''amortissement A'!C198","v":"2032-11-01"},{"$f":"'Tableau d''amortissement A'!I198","v":47290.053633040858},null,null,null,null,{"$f":"'Tableau d''amortissement B'!C198","v":"2025-11-01"},{"$f":"'Tableau d''amortissement B'!I198","v":54858.330929633863},null,null,{"$f":"'Tableau d''amortissement A'!C198","v":"2032-11-01"},{"$f":"'Tableau d''amortissement A'!K198","v":28616.42801541544},{"$f":"O183+'Tableau d''amortissement A'!H198","v":122709.94636695899},null,null,{"$f":"'Tableau d''amortissement B'!C198","v":"2025-11-01"},{"$f":"'Tableau d''amortissement B'!K198","v":29539.768944900574},{"$f":"T183+'Tableau d''amortissement B'!H198","v":145141.66907036622}]
[null,null,{"$f":"'Tableau d''amortissement A'!C199","v":"2032-12-01"},{"$f":"'Tableau d''amortissement A'!I199","v":46520.99055865797},null,null,null,null,{"$f":"'Tableau d''amortissement B'!C199","v":"2025-12-01"},{"$f":"'Tableau d''amortissement B'!I199","v":53961.813025531999},null,null,{"$f":"'Tableau d''amortissement A'!C199","v":"2032-12-01"},{"$f":"'Tableau d''amortissement A'!K199","v":28683.422258062248},{"$f":"O184+'Tableau d''amortissement A'!H199","v":123479.00944134187},null,null,{"$f":"'Tableau d''amortissement B'!C199","v":"2025-12-01"},{"$f":"'Tableau d''amortissement B'!K199","v":29608.341858562617},{"$f":"T184+'Tableau d''amortissement B'!H199","v":146038.18697446809}]
[null,null,{"$f":"'Tableau d''amortissement A'!C200","v":"2033-01-01"},{"$f":"'Tableau d''amortissement A'!I200","v":45750.837978253039},null,null,null,null,{"$f":"'Tableau d''amortissement B'!C200","v":"2026-01-01"},{"$f":"'Tableau d''amortissement B'!I200","v":53064.174474050007},null,null,{"$f":"'Tableau d''amortissement A'!C200","v":"2033-01-01"},{"$f":"'Tableau d''amortissement A'!K200","v":28749.326994687013},{"$f":"O185+'Tableau d''amortissement A'!H200","v":124249.1620217468},null,null,{"$f":"'Tableau d''amortissement B'!C200","v":"2026-01-01"},{"$f":"'Tableau d''amortissement B'!K200","v":29675.794124844531},{"$f":"T185+'Tableau d''amortissement B'!H200","v":146935.82552595009}]
[null,null,{"$f":"'Tableau d''amortissement A'!C201","v":"2033-02-01"},{"$f":"'Tableau d''amortissement A'!I201","v":44979.594348359205},null,null,null,null,{"$f":"'Tableau d''amortissement B'!C201","v":"2026-02-01"},{"$f":"'Tableau d''amortissement B'!I201","v":52165.413874378668},null,null,{"$f":"'Tableau d''amortissement A'!C201","v":"2033-02-01"},{"$f":"'Tableau d''amortissement A'!K201","v":28814.140681822872},{"$f":"O186+'Tableau d''amortissement A'!H201","v":125020.40565164064},null,null,{"$f":"'Tableau d''amortissement B'!C201","v":"2026-02-01"},{"$f":"'Tableau d''amortissement B'!K201","v":29742.124342937095},{"$f":"T186+'Tableau d''amortissement B'!H201","v":147834.58612562143}]
[null,null,{"$f":"'Tableau d''amortissement A'!C202","v":"2033-03-01"},{"$f":"'Tableau d''amortissement A'!I202","v":44207.258123323023},null,null,null,null,{"$f":"'Tableau d''amortissement B'!C202","v":"2026-03-01"},{"$f":"'Tableau d''amortissement B'!I202","v":51265.529823957739},null,null,{"$f":"'Tableau d''amortissement A'!C202","v":"2033-03-01"},{"$f":"'Tableau d''amortissement A'!K202","v":28877.861773816381},{"$f":"O187+'Tableau d''amortissement A'!H202","v":125792.74187667682},null,null,{"$f":"'Tableau d''amortissement B'!C202","v":"2026-03-01"},{"$f":"'Tableau d''amortissement B'!K202","v":29807.331110280069},{"$f":"T187+'Tableau d''amortissement B'!H202","v":148734.47017604235}]
[null,null,{"$f":"'Tableau d''amortissement A'!C203","v":"2033-04-01"},{"$f":"'Tableau d''amortissement A'!I203","v":43433.827755301369},null,null,null,null,{"$f":"'Tableau d''amortissement B'!C203","v":"2026-04-01"},{"$f":"'Tableau d''amortissement B'!I203","v":50364.520918473783},null,null,{"$f":"'Tableau d''amortissement A'!C203","v":"2033-04-01"},{"$f":"'Tableau d''amortissement A'!K203","v":28940.488722824422},{"$f":"O188+'Tableau d''amortissement A'!H203","v":126566.17224469848},null,null,{"$f":"'Tableau d''amortissement B'!C203","v":"2026-04-01"},{"$f":"'Tableau d''amortissement B'!K203","v":29871.413022560017},{"$f":"T188+'Tableau d''amortissement B'!H203","v":149635.47908152631}]
[null,null,{"$f":"'Tableau d''amortissement A'!C204","v":"2033-05-01"},{"$f":"'Tableau d''amortissement A'!I204","v":42659.301694258349},null,null,null,null,{"$f":"'Tableau d''amortissement B'!C204","v":"2026-05-01"},{"$f":"'Tableau d''amortissement B'!I204","v":49462.385751857968},null,null,{"$f":"'Tableau d''amortissement A'!C204","v":"2033-05-01"},{"$f":"'Tableau d''amortissement A'!K204","v":29002.019978811099},{"$f":"O189+'Tableau d''amortissement A'!H204","v":127340.69830574149},null,null,{"$f":"'Tableau d''amortissement B'!C204","v":"2026-05-01"},{"$f":"'Tableau d''amortissement B'!K204","v":29934.368673708108},{"$f":"T189+'Tableau d''amortissement B'!H204","v":150537.61424814211}]
[null,null,{"$f":"'Tableau d''amortissement A'!C205","v":"2033-06-01"},{"$f":"'Tableau d''amortissement A'!I205","v":41883.678387962187},null,null,null,null,{"$f":"'Tableau d''amortissement B'!C205","v":"2026-06-01"},{"$f":"'Tableau d''amortissement B'!I205","v":48559.122916283886},null,null,{"$f":"'Tableau d''amortissement A'!C205","v":"2033-06-01"},{"$f":"'Tableau d''amortissement A'!K205","v":29062.453989544632},{"$f":"O190+'Tableau d''amortissement A'!H205","v":128116.32161203765},null,null,{"$f":"'Tableau d''amortissement B'!C205","v":"2026-06-01"},{"$f":"'Tableau d''amortissement B'!K205","v":29996.196655897929},{"$f":"T190+'Tableau d''amortissement B'!H205","v":151440.87708371619}]
[null,null,{"$f":"'Tableau d''amortissement A'!C206","v":"2033-07-01"},{"$f":"'Tableau d''amortissement A'!I206","v":41106.956281982108},null,null,null,null,{"$f":"'Tableau d''amortissement B'!C206","v":"2026-07-01"},{"$f":"'Tableau d''amortissement B'!I206","v":47654.731002165339},null,null,{"$f":"'Tableau d''amortissement A'!C206","v":"2033-07-01"},{"$f":"'Tableau d''amortissement A'!K206","v":29121.789200594245},{"$f":"O191+'Tableau d''amortissement A'!H206","v":128893.04371801773},null,null,{"$f":"'Tableau d''amortissement B'!C206","v":"2026-07-01"},{"$f":"'Tableau d''amortissement B'!K206","v":30056.895559543285},{"$f":"T191+'Tableau d''amortissement B'!H206","v":152345.26899783473}]
[null,null,{"$f":"'Tableau d''amortissement A'!C207","v":"2033-08-01"},{"$f":"'Tableau d''amortissement A'!I207","v":40329.133819685223},null,null,null,null,{"$f":"'Tableau d''amortissement B'!C207","v":"2026-08-01"},{"$f":"'Tableau d''amortissement B'!I207","v":46749.208598154139},null,null,{"$f":"'Tableau d''amortissement A'!C207","v":"2033-08-01"},{"$f":"'Tableau d''amortissement A'!K207","v":29180.024055327052},{"$f":"O192+'Tableau d''amortissement A'!H207","v":129670.86618031461},null,null,{"$f":"'Tableau d''amortissement B'!C207","v":"2026-08-01"},{"$f":"'Tableau d''amortissement B'!K207","v":30116.463973295991},{"$f":"T192+'Tableau d''amortissement B'!H207","v":153250.79140184593}]
[null,null,{"$f":"'Tableau d''amortissement A'!C208","v":"2033-09-01"},{"$f":"'Tableau d''amortissement A'!I208","v":39550.209442233419},null,null,null,null,{"$f":"'Tableau d''amortissement B'!C208","v":"2026-09-01"},{"$f":"'Tableau d''amortissement B'!I208","v":45842.554291137923},null,null,{"$f":"'Tableau d''amortissement A'!C208","v":"2033-09-01"},{"$f":"'Tableau d''amortissement A'!K208","v":29237.156994904941},{"$f":"O193+'Tableau d''amortissement A'!H208","v":130449.79055776642},null,null,{"$f":"'Tableau d''amortissement B'!C208","v":"2026-09-01"},{"$f":"'Tableau d''amortissement B'!K208","v":30174.900484043683},{"$f":"T193+'Tableau d''amortissement B'!H208","v":154157.44570886213}]
[null,null,{"$f":"'Tableau d''amortissement A'!C209","v":"2033-10-01"},{"$f":"'Tableau d''amortissement A'!I209","v":38770.181588580221},null,null,null,null,{"$f":"'Tableau d''amortissement B'!C209","v":"2026-10-01"},{"$f":"'Tableau d''amortissement B'!I209","v":44934.766666237942},null,null,{"$f":"'Tableau d''amortissement A'!C209","v":"2033-10-01"},{"$f":"'Tableau d''amortissement A'!K209","v":29293.186458281438},{"$f":"O194+'Tableau d''amortissement A'!H209","v":131229.8184114196},null,null,{"$f":"'Tableau d''amortissement B'!C209","v":"2026-10-01"},{"$f":"'Tableau d''amortissement B'!K209","v":30232.203676907604},{"$f":"T194+'Tableau d''amortissement B'!H209","v":155065.23333376212}]
[null,null,{"$f":"'Tableau d''amortissement A'!C210","v":"2033-11-01"},{"$f":"'Tableau d''amortissement A'!I210","v":37989.048695467682},null,null,null,null,{"$f":"'Tableau d''amortissement B'!C210","v":"2026-11-01"},{"$f":"'Tableau d''amortissement B'!I210","v":44025.844306806837},null,null,{"$f":"'Tableau d''amortissement A'!C210","v":"2033-11-01"},{"$f":"'Tableau d''amortissement A'!K210","v":29348.110882198594},{"$f":"O195+'Tableau d''amortissement A'!H210","v":132010.95130453215},null,null,{"$f":"'Tableau d''amortissement B'!C210","v":"2026-11-01"},{"$f":"'Tableau d''amortissement B'!K210","v":30288.372135240403},{"$f":"T195+'Tableau d''amortissement B'!H210","v":155974.15569319323}]
[null,null,{"$f":"'Tableau d''amortissement A'!C211","v":"2033-12-01"},{"$f":"'Tableau d''amortissement A'!I211","v":37206.809197423237},null,null,null,null,{"$f":"'Tableau d''amortissement B'!C211","v":"2026-12-01"},{"$f":"'Tableau d''amortissement B'!I211","v":43115.78579442644},null,null,{"$f":"'Tableau d''amortissement A'!C211","v":"2033-12-01"},{"$f":"'Tableau d''amortissement A'!K211","v":29401.928701183839},{"$f":"O196+'Tableau d''amortissement A'!H211","v":132793.1908025766},null,null,{"$f":"'Tableau d''amortissement B'!C211","v":"2026-12-01"},{"$f":"'Tableau d''amortissement B'!K211","v":30343.404440623912},{"$f":"T196+'Tableau d''amortissement B'!H211","v":156884.21420557363}]
[null,null,{"$f":"'Tableau d''amortissement A'!C212","v":"2034-01-01"},{"$f":"'Tableau d''amortissement A'!I212","v":36423.46152675656},null,null,null,null,{"$f":"'Tableau d''amortissement B'!C212","v":"2027-01-01"},{"$f":"'Tableau d''amortissement B'!I212","v":42204.589708905565},null,null,{"$f":"'Tableau d''amortissement A'!C212","v":"2034-01-01"},{"$f":"'Tableau d''amortissement A'!K212","v":29454.638347546854},{"$f":"O197+'Tableau d''amortissement A'!H212","v":133576.53847324327},null,null,{"$f":"'Tableau d''amortissement B'!C212","v":"2027-01-01"},{"$f":"'Tableau d''amortissement B'!K212","v":30397.299172866944},{"$f":"T197+'Tableau d''amortissement B'!H212","v":157795.41029109451}]
[null,null,{"$f":"'Tableau d''amortissement A'!C213","v":"2034-02-01"},{"$f":"'Tableau d''amortissement A'!I213","v":35639.004113556439},null,null,null,null,{"$f":"'Tableau d''amortissement B'!C213","v":"2027-02-01"},{"$f":"'Tableau d''amortissement B'!I213","v":41292.254628277791},null,null,{"$f":"'Tableau d''amortissement A'!C213","v":"2034-02-01"},{"$f":"'Tableau d''amortissement A'!K213","v":29506.238251376424},{"$f":"O198+'Tableau d''amortissement A'!H213","v":134360.99588644339},null,null,{"$f":"'Tableau d''amortissement B'!C213","v":"2027-02-01"},{"$f":"'Tableau d''amortissement B'!K213","v":30450.054910003077},{"$f":"T198+'Tableau d''amortissement B'!H213","v":158707.74537172227}]
[null,null,{"$f":"'Tableau d''amortissement A'!C214","v":"2034-03-01"},{"$f":"'Tableau d''amortissement A'!I214","v":34853.435385687619},null,null,null,null,{"$f":"'Tableau d''amortissement B'!C214","v":"2027-03-01"},{"$f":"'Tableau d''amortissement B'!I214","v":40378.779128799237},null,null,{"$f":"'Tableau d''amortissement A'!C214","v":"2034-03-01"},{"$f":"'Tableau d''amortissement A'!K214","v":29556.726840537296},{"$f":"O199+'Tableau d''amortissement A'!H214","v":135146.5646143122},null,null,{"$f":"'Tableau d''amortissement B'!C214","v":"2027-03-01"},{"$f":"'Tableau d''amortissement B'!K214","v":30501.670228288425},{"$f":"T199+'Tableau d''amortissement B'!H214","v":159621.22087120081}]
[null,null,{"$f":"'Tableau d''amortissement A'!C215","v":"2034-04-01"},{"$f":"'Tableau d''amortissement A'!I215","v":34066.753768787647},null,null,null,null,{"$f":"'Tableau d''amortissement B'!C215","v":"2027-04-01"},{"$f":"'Tableau d''amortissement B'!I215","v":39464.161784946329},null,null,{"$f":"'Tableau d''amortissement A'!C215","v":"2034-04-01"},{"$f":"'Tableau d''amortissement A'!K215","v":29606.10254066702},{"$f":"O200+'Tableau d''amortissement A'!H215","v":135933.24623121216},null,null,{"$f":"'Tableau d''amortissement B'!C215","v":"2027-04-01"},{"$f":"'Tableau d''amortissement B'!K215","v":30552.143702199424},{"$f":"T200+'Tableau d''amortissement B'!H215","v":160535.83821505372}]
[null,null,{"$f":"'Tableau d''amortissement A'!C216","v":"2034-05-01"},{"$f":"'Tableau d''amortissement A'!I216","v":33278.957686263733},null,null,null,null,{"$f":"'Tableau d''amortissement B'!C216","v":"2027-05-01"},{"$f":"'Tableau d''amortissement B'!I216","v":38548.401169413606},null,null,{"$f":"'Tableau d''amortissement A'!C216","v":"2034-05-01"},{"$f":"'Tableau d''amortissement A'!K216","v":29654.363775172802},{"$f":"O201+'Tableau d''amortissement A'!H216","v":136721.04231373608},null,null,{"$f":"'Tableau d''amortissement B'!C216","v":"2027-05-01"},{"$f":"'Tableau d''amortissement B'!K216","v":30601.473904430608},{"$f":"T201+'Tableau d''amortissement B'!H216","v":161451.59883058644}]
[null,null,{"$f":"'Tableau d''amortissement A'!C217","v":"2034-06-01"},{"$f":"'Tableau d''amortissement A'!I217","v":32490.045559289581},null,null,null,null,{"$f":"'Tableau d''amortissement B'!C217","v":"2027-06-01"},{"$f":"'Tableau d''amortissement B'!I217","v":37631.495853111468},null,null,{"$f":"'Tableau d''amortissement A'!C217","v":"2034-06-01"},{"$f":"'Tableau d''amortissement A'!K217","v":29701.508965228342},{"$f":"O202+'Tableau d''amortissement A'!H217","v":137509.95444071022},null,null,{"$f":"'Tableau d''amortissement B'!C217","v":"2027-06-01"},{"$f":"'Tableau d''amortissement B'!K217","v":30649.659405892377},{"$f":"T202+'Tableau d''amortissement B'!H217","v":162368.50414688859}]
[null,null,{"$f":"'Tableau d''amortissement A'!C218","v":"2034-07-01"},{"$f":"'Tableau d''amortissement A'!I218","v":31700.015806802214},null,null,null,null,{"$f":"'Tableau d''amortissement B'!C218","v":"2027-07-01"},{"$f":"'Tableau d''amortissement B'!I218","v":36713.444405163951},null,null,{"$f":"'Tableau d''amortissement A'!C218","v":"2034-07-01"},{"$f":"'Tableau d''amortissement A'!K218","v":29747.53652977067},{"$f":"O203+'Tableau d''amortissement A'!H218","v":138299.9841931976},null,null,{"$f":"'Tableau d''amortissement B'!C218","v":"2027-07-01"},{"$f":"'Tableau d''amortissement B'!K218","v":30696.698775708766},{"$f":"T203+'Tableau d''amortissement B'!H218","v":163286.5555948361}]
[null,null,{"$f":"'Tableau d''amortissement A'!C219","v":"2034-08-01"},{"$f":"'Tableau d''amortissement A'!I219","v":30908.866845498822},null,null,null,null,{"$f":"'Tableau d''amortissement B'!C219","v":"2027-08-01"},{"$f":"'Tableau d''amortissement B'!I219","v":35794.245392906501},null,null,{"$f":"'Tableau d''amortissement A'!C219","v":"2034-08-01"},{"$f":"'Tableau d''amortissement A'!K219","v":29792.444885496974},{"$f":"O204+'Tableau d''amortissement A'!H219","v":139091.13315450097},null,null,{"$f":"'Tableau d''amortissement B'!C219","v":"2027-08-01"},{"$f":"'Tableau d''amortissement B'!K219","v":30742.59058121522},{"$f":"T204+'Tableau d''amortissement B'!H219","v":164205.75460709355}]
[null,null,{"$f":"'Tableau d''amortissement A'!C220","v":"2034-09-01"},{"$f":"'Tableau d''amortissement A'!I220","v":30116.597089833587},null,null,null,null,{"$f":"'Tableau d''amortissement B'!C220","v":"2027-09-01"},{"$f":"'Tableau d''amortissement B'!I220","v":34873.897381883726},null,null,{"$f":"'Tableau d''amortissement A'!C220","v":"2034-09-01"},{"$f":"'Tableau d''amortissement A'!K220","v":29836.232446861432},{"$f":"O205+'Tableau d''amortissement A'!H220","v":139883.40291016622},null,null,{"$f":"'Tableau d''amortissement B'!C220","v":"2027-09-01"},{"$f":"'Tableau d''amortissement B'!K220","v":30787.333387956354},{"$f":"T205+'Tableau d''amortissement B'!H220","v":165126.10261811633}]
[null,null,{"$f":"'Tableau d''amortissement A'!C221","v":"2034-10-01"},{"$f":"'Tableau d''amortissement A'!I221","v":29323.20495201449},null,null,null,null,{"$f":"'Tableau d''amortissement B'!C221","v":"2027-10-01"},{"$f":"'Tableau d''amortissement B'!I221","v":33952.398935847174},null,null,{"$f":"'Tableau d''amortissement A'!C221","v":"2034-10-01"},{"$f":"'Tableau d''amortissement A'!K221","v":29878.89762607203},{"$f":"O206+'Tableau d''amortissement A'!H221","v":140676.7950479853},null,null,{"$f":"'Tableau d''amortissement B'!C221","v":"2027-10-01"},{"$f":"'Tableau d''amortissement B'!K221","v":30830.925759683709},{"$f":"T206+'Tableau d''amortissement B'!H221","v":166047.60106415287}]
[null,null,{"$f":"'Tableau d''amortissement A'!C222","v":"2034-11-01"},{"$f":"'Tableau d''amortissement A'!I222","v":28528.688842000152},null,null,null,null,{"$f":"'Tableau d''amortissement B'!C222","v":"2027-11-01"},{"$f":"'Tableau d''amortissement B'!I222","v":33029.748616753081},null,null,{"$f":"'Tableau d''amortissement A'!C222","v":"2034-11-01"},{"$f":"'Tableau d''amortissement A'!K222","v":29920.438833087384},{"$f":"O207+'Tableau d''amortissement A'!H222","v":141471.31115799965},null,null,{"$f":"'Tableau d''amortissement B'!C222","v":"2027-11-01"},{"$f":"'Tableau d''amortissement B'!K222","v":30873.366258353519},{"$f":"T207+'Tableau d''amortissement B'!H222","v":166970.25138324697}]
[null,null,{"$f":"'Tableau d''amortissement A'!C223","v":"2034-12-01"},{"$f":"'Tableau d''amortissement A'!I223","v":27733.047167496625},null,null,null,null,{"$f":"'Tableau d''amortissement B'!C223","v":"2027-12-01"},{"$f":"'Tableau d''amortissement B'!I223","v":32105.944984760117},null,null,{"$f":"'Tableau d''amortissement A'!C223","v":"2034-12-01"},{"$f":"'Tableau d''amortissement A'!K223","v":29960.854475613552},{"$f":"O208+'Tableau d''amortissement A'!H223","v":142266.95283250319},null,null,{"$f":"'Tableau d''amortissement B'!C223","v":"2027-12-01"},{"$f":"'Tableau d''amortissement B'!K223","v":30914.653444124458},{"$f":"T208+'Tableau d''amortissement B'!H223","v":167894.05501523992}]
[null,null,{"$f":"'Tableau d''amortissement A'!C224","v":"2035-01-01"},{"$f":"'Tableau d''amortissement A'!I224","v":26936.278333954218},null,null,null,null,{"$f":"'Tableau d''amortissement B'!C224","v":"2028-01-01"},{"$f":"'Tableau d''amortissement B'!I224","v":31180.986598227162},null,null,{"$f":"'Tableau d''amortissement A'!C224","v":"2035-01-01"},{"$f":"'Tableau d''amortissement A'!K224","v":30000.142959100838},{"$f":"O209+'Tableau d''amortissement A'!H224","v":143063.7216660456},null,null,{"$f":"'Tableau d''amortissement B'!C224","v":"2028-01-01"},{"$f":"'Tableau d''amortissement B'!K224","v":30954.78587535541},{"$f":"T209+'Tableau d''amortissement B'!H224","v":168819.01340177289}]
[null,null,{"$f":"'Tableau d''amortissement A'!C225","v":"2035-02-01"},{"$f":"'Tableau d''amortissement A'!I225","v":26138.380744564292},null,null,null,null,{"$f":"'Tableau d''amortissement B'!C225","v":"2028-02-01"},{"$f":"'Tableau d''amortissement B'!I225","v":30254.872013711039},null,null,{"$f":"'Tableau d''amortissement A'!C225","v":"2035-02-01"},{"$f":"'Tableau d''amortissement A'!K225","v":30038.302686740608},{"$f":"O210+'Tableau d''amortissement A'!H225","v":143861.61925543554},null,null,{"$f":"'Tableau d''amortissement B'!C225","v":"2028-02-01"},{"$f":"'Tableau d''amortissement B'!K225","v":30993.762108603194},{"$f":"T210+'Tableau d''amortissement B'!H225","v":169745.12798628901}]
[null,null,{"$f":"'Tableau d''amortissement A'!C226","v":"2035-03-01"},{"$f":"'Tableau d''amortissement A'!I226","v":25339.352800256067},null,null,null,null,{"$f":"'Tableau d''amortissement B'!C226","v":"2028-03-01"},{"$f":"'Tableau d''amortissement B'!I226","v":29327.599785964274},null,null,{"$f":"'Tableau d''amortissement A'!C226","v":"2035-03-01"},{"$f":"'Tableau d''amortissement A'!K226","v":30075.332059462075},{"$f":"O211+'Tableau d''amortissement A'!H226","v":144660.64719974378},null,null,{"$f":"'Tableau d''amortissement B'!C226","v":"2028-03-01"},{"$f":"'Tableau d''amortissement B'!K226","v":31031.580698620332},{"$f":"T211+'Tableau d''amortissement B'!H226","v":170672.40021403576}]
[null,null,{"$f":"'Tableau d''amortissement A'!C227","v":"2035-04-01"},{"$f":"'Tableau d''amortissement A'!I227","v":24539.192899693404},null,null,null,null,{"$f":"'Tableau d''amortissement B'!C227","v":"2028-04-01"},{"$f":"'Tableau d''amortissement B'!I227","v":28399.168467932825},null,null,{"$f":"'Tableau d''amortissement A'!C227","v":"2035-04-01"},{"$f":"'Tableau d''amortissement A'!K227","v":30111.229475929104},{"$f":"O212+'Tableau d''amortissement A'!H227","v":145460.80710030644},null,null,{"$f":"'Tableau d''amortissement B'!C227","v":"2028-04-01"},{"$f":"'Tableau d''amortissement B'!K227","v":31068.240198352785},{"$f":"T212+'Tableau d''amortissement B'!H227","v":171600.83153206721}]
[null,null,{"$f":"'Tableau d''amortissement A'!C228","v":"2035-05-01"},{"$f":"'Tableau d''amortissement A'!I228","v":23737.899439271609},null,null,null,null,{"$f":"'Tableau d''amortissement B'!C228","v":"2028-05-01"},{"$f":"'Tableau d''amortissement B'!I228","v":27469.576610753837},null,null,{"$f":"'Tableau d''amortissement A'!C228","v":"2035-05-01"},{"$f":"'Tableau d''amortissement A'!K228","v":30145.993332537004},{"$f":"O213+'Tableau d''amortissement A'!H228","v":146262.10056072823},null,null,{"$f":"'Tableau d''amortissement B'!C228","v":"2028-05-01"},{"$f":"'Tableau d''amortissement B'!K228","v":31103.7391589377},{"$f":"T213+'Tableau d''amortissement B'!H228","v":172530.42338924619}]
[null,null,{"$f":"'Tableau d''amortissement A'!C229","v":"2035-06-01"},{"$f":"'Tableau d''amortissement A'!I229","v":22935.470813114218},null,null,null,null,{"$f":"'Tableau d''amortissement B'!C229","v":"2028-06-01"},{"$f":"'Tableau d''amortissement B'!I229","v":26538.822763753375},null,null,{"$f":"'Tableau d''amortissement A'!C229","v":"2035-06-01"},{"$f":"'Tableau d''amortissement A'!K229","v":30179.622023409305},{"$f":"O214+'Tableau d''amortissement A'!H229","v":147064.52918688563},null,null,{"$f":"'Tableau d''amortissement B'!C229","v":"2028-06-01"},{"$f":"'Tableau d''amortissement B'!K229","v":31138.076129701141},{"$f":"T214+'Tableau d''amortissement B'!H229","v":173461.17723624664}]
[null,null,{"$f":"'Tableau d''amortissement A'!C230","v":"2035-07-01"},{"$f":"'Tableau d''amortissement A'!I230","v":22131.90541306977},null,null,null,null,{"$f":"'Tableau d''amortissement B'!C230","v":"2028-07-01"},{"$f":"'Tableau d''amortissement B'!I230","v":25606.90547444416},null,null,{"$f":"'Tableau d''amortissement A'!C230","v":"2035-07-01"},{"$f":"'Tableau d''amortissement A'!K230","v":30212.113940394549},{"$f":"O215+'Tableau d''amortissement A'!H230","v":147868.09458693006},null,null,{"$f":"'Tableau d''amortissement B'!C230","v":"2028-07-01"},{"$f":"'Tableau d''amortissement B'!K230","v":31171.249658155833},{"$f":"T215+'Tableau d''amortissement B'!H230","v":174393.09452555585}]
[null,null,{"$f":"'Tableau d''amortissement A'!C231","v":"2035-08-01"},{"$f":"'Tableau d''amortissement A'!I231","v":21327.201628708593},null,null,null,null,{"$f":"'Tableau d''amortissement B'!C231","v":"2028-08-01"},{"$f":"'Tableau d''amortissement B'!I231","v":24673.823288523312},null,null,{"$f":"'Tableau d''amortissement A'!C231","v":"2035-08-01"},{"$f":"'Tableau d''amortissement A'!K231","v":30243.467473063065},{"$f":"O216+'Tableau d''amortissement A'!H231","v":148672.79837129125},null,null,{"$f":"'Tableau d''amortissement B'!C231","v":"2028-08-01"},{"$f":"'Tableau d''amortissement B'!K231","v":31203.258289998888},{"$f":"T216+'Tableau d''amortissement B'!H231","v":175326.1767114767}]
[null,null,{"$f":"'Tableau d''amortissement A'!C232","v":"2035-09-01"},{"$f":"'Tableau d''amortissement A'!I232","v":20521.35784731957},null,null,null,null,{"$f":"'Tableau d''amortissement B'!C232","v":"2028-09-01"},{"$f":"'Tableau d''amortissement B'!I232","v":23739.574749870062},null,null,{"$f":"'Tableau d''amortissement A'!C232","v":"2035-09-01"},{"$f":"'Tableau d''amortissement A'!K232","v":30273.681008703734},{"$f":"O217+'Tableau d''amortissement A'!H232","v":149478.64215268029},null,null,{"$f":"'Tableau d''amortissement B'!C232","v":"2028-09-01"},{"$f":"'Tableau d''amortissement B'!K232","v":31234.100569109542},{"$f":"T217+'Tableau d''amortissement B'!H232","v":176260.42525012995}]
[null,null,{"$f":"'Tableau d''amortissement A'!C233","v":"2035-10-01"},{"$f":"'Tableau d''amortissement A'!I233","v":19714.372453906912},null,null,null,null,{"$f":"'Tableau d''amortissement B'!C233","v":"2028-10-01"},{"$f":"'Tableau d''amortissement B'!I233","v":22804.158400543496},null,null,{"$f":"'Tableau d''amortissement A'!C233","v":"2035-10-01"},{"$f":"'Tableau d''amortissement A'!K233","v":30302.752932320771},{"$f":"O218+'Tableau d''amortissement A'!H233","v":150285.62754609293},null,null,{"$f":"'Tableau d''amortissement B'!C233","v":"2028-10-01"},{"$f":"'Tableau d''amortissement B'!K233","v":31263.775037546879},{"$f":"T218+'Tableau d''amortissement B'!H233","v":177195.84159945653}]
[null,null,{"$f":"'Tableau d''amortissement A'!C234","v":"2035-11-01"},{"$f":"'Tableau d''amortissement A'!I234","v":18906.243831186919},null,null,null,null,{"$f":"'Tableau d''amortissement B'!C234","v":"2028-11-01"},{"$f":"'Tableau d''amortissement B'!I234","v":21867.572780780269},null,null,{"$f":"'Tableau d''amortissement A'!C234","v":"2035-11-01"},{"$f":"'Tableau d''amortissement A'!K234","v":30330.681626630474},{"$f":"O219+'Tableau d''amortissement A'!H234","v":151093.75616881292},null,null,{"$f":"'Tableau d''amortissement B'!C234","v":"2028-11-01"},{"$f":"'Tableau d''amortissement B'!K234","v":31292.280235547558},{"$f":"T219+'Tableau d''amortissement B'!H234","v":178132.42721921977}]
[null,null,{"$f":"'Tableau d''amortissement A'!C235","v":"2035-12-01"},{"$f":"'Tableau d''amortissement A'!I235","v":18096.970359584742},null,null,null,null,{"$f":"'Tableau d''amortissement B'!C235","v":"2028-12-01"},{"$f":"'Tableau d''amortissement B'!I235","v":20929.816428992341},null,null,{"$f":"'Tableau d''amortissement A'!C235","v":"2035-12-01"},{"$f":"'Tableau d''amortissement A'!K235","v":30357.465472057989},{"$f":"O220+'Tableau d''amortissement A'!H235","v":151903.0296404151},null,null,{"$f":"'Tableau d''amortissement B'!C235","v":"2028-12-01"},{"$f":"'Tableau d''amortissement B'!K235","v":31319.614701523533},{"$f":"T220+'Tableau d''amortissement B'!H235","v":179070.18357100768}]
[null,null,{"$f":"'Tableau d''amortissement A'!C236","v":"2036-01-01"},{"$f":"'Tableau d''amortissement A'!I236","v":17286.550417231127},null,null,null,null,{"$f":"'Tableau d''amortissement B'!C236","v":"2029-01-01"},{"$f":"'Tableau d''amortissement B'!I236","v":19990.887881764676},null,null,{"$f":"'Tableau d''amortissement A'!C236","v":"2036-01-01"},{"$f":"'Tableau d''amortissement A'!K236","v":30383.102846734069},{"$f":"O221+'Tableau d''amortissement A'!H236","v":152713.44958276872},null,null,{"$f":"'Tableau d''amortissement B'!C236","v":"2029-01-01"},{"$f":"'Tableau d''amortissement B'!K236","v":31345.776972059772},{"$f":"T221+'Tableau d''amortissement B'!H236","v":180009.11211823535}]
[null,null,{"$f":"'Tableau d''amortissement A'!C237","v":"2036-02-01"},{"$f":"'Tableau d''amortissement A'!I237","v":16474.982379959176},null,null,null,null,{"$f":"'Tableau d''amortissement B'!C237","v":"2029-02-01"},{"$f":"'Tableau d''amortissement B'!I237","v":19050.785673852977},null,null,{"$f":"'Tableau d''amortissement A'!C237","v":"2036-02-01"},{"$f":"'Tableau d''amortissement A'!K237","v":30407.592126491814},{"$f":"O222+'Tableau d''amortissement A'!H237","v":153525.01762004066},null,null,{"$f":"'Tableau d''amortissement B'!C237","v":"2029-02-01"},{"$f":"'Tableau d''amortissement B'!K237","v":31370.765581911979},{"$f":"T222+'Tableau d''amortissement B'!H237","v":180949.21432614705}]
[null,null,{"$f":"'Tableau d''amortissement A'!C238","v":"2036-03-01"},{"$f":"'Tableau d''amortissement A'!I238","v":15662.264621301092},null,null,null,null,{"$f":"'Tableau d''amortissement B'!C238","v":"2029-03-01"},{"$f":"'Tableau d''amortissement B'!I238","v":18109.508338181389},null,null,{"$f":"'Tableau d''amortissement A'!C238","v":"2036-03-01"},{"$f":"'Tableau d''amortissement A'!K238","v":30430.931684863423},{"$f":"O223+'Tableau d''amortissement A'!H238","v":154337.73537869874},null,null,{"$f":"'Tableau d''amortissement B'!C238","v":"2029-03-01"},{"$f":"'Tableau d''amortissement B'!K238","v":31394.579064004294},{"$f":"T223+'Tableau d''amortissement B'!H238","v":181890.49166181864}]
[null,null,{"$f":"'Tableau d''amortissement A'!C239","v":"2036-04-01"},{"$f":"'Tableau d''amortissement A'!I239","v":14848.395512484909},null,null,null,null,{"$f":"'Tableau d''amortissement B'!C239","v":"2029-04-01"},{"$f":"'Tableau d''amortissement B'!I239","v":17167.054405840212},null,null,{"$f":"'Tableau d''amortissement A'!C239","v":"2036-04-01"},{"$f":"'Tableau d''amortissement A'!K239","v":30453.119893076931},{"$f":"O224+'Tableau d''amortissement A'!H239","v":155151.60448751491},null,null,{"$f":"'Tableau d''amortissement B'!C239","v":"2029-04-01"},{"$f":"'Tableau d''amortissement B'!K239","v":31417.21594942702},{"$f":"T224+'Tableau d''amortissement B'!H239","v":182832.94559415983}]
[null,null,{"$f":"'Tableau d''amortissement A'!C240","v":"2036-05-01"},{"$f":"'Tableau d''amortissement A'!I240","v":14033.373422431236},null,null,null,null,{"$f":"'Tableau d''amortissement B'!C240","v":"2029-05-01"},{"$f":"'Tableau d''amortissement B'!I240","v":16223.422406083608},null,null,{"$f":"'Tableau d''amortissement A'!C240","v":"2036-05-01"},{"$f":"'Tableau d''amortissement A'!K240","v":30474.15512005295},{"$f":"O225+'Tableau d''amortissement A'!H240","v":155966.62657756859},null,null,{"$f":"'Tableau d''amortissement B'!C240","v":"2029-05-01"},{"$f":"'Tableau d''amortissement B'!K240","v":31438.674767434321},{"$f":"T225+'Tableau d''amortissement B'!H240","v":183776.57759391645}]
[null,null,{"$f":"'Tableau d''amortissement A'!C241","v":"2036-06-01"},{"$f":"'Tableau d''amortissement A'!I241","v":13217.196717749986},null,null,null,null,{"$f":"'Tableau d''amortissement B'!C241","v":"2029-06-01"},{"$f":"'Tableau d''amortissement B'!I241","v":15278.610866327308},null,null,{"$f":"'Tableau d''amortissement A'!C241","v":"2036-06-01"},{"$f":"'Tableau d''amortissement A'!K241","v":30494.035732401393},{"$f":"O226+'Tableau d''amortissement A'!H241","v":156782.80328224984},null,null,{"$f":"'Tableau d''amortissement B'!C241","v":"2029-06-01"},{"$f":"'Tableau d''amortissement B'!K241","v":31458.954045441926},{"$f":"T226+'Tableau d''amortissement B'!H241","v":184721.38913367275}]
[null,null,{"$f":"'Tableau d''amortissement A'!C242","v":"2036-07-01"},{"$f":"'Tableau d''amortissement A'!I242","v":12399.863762737106},null,null,null,null,{"$f":"'Tableau d''amortissement B'!C242","v":"2029-07-01"},{"$f":"'Tableau d''amortissement B'!I242","v":14332.618312146313},null,null,{"$f":"'Tableau d''amortissement A'!C242","v":"2036-07-01"},{"$f":"'Tableau d''amortissement A'!K242","v":30512.760094418205},{"$f":"O227+'Tableau d''amortissement A'!H242","v":157600.13623726272},null,null,{"$f":"'Tableau d''amortissement B'!C242","v":"2029-07-01"},{"$f":"'Tableau d''amortissement B'!K242","v":31478.052309024835},{"$f":"T227+'Tableau d''amortissement B'!H242","v":185667.38168785375}]
[null,null,{"$f":"'Tableau d''amortissement A'!C243","v":"2036-08-01"},{"$f":"'Tableau d''amortissement A'!I243","v":11581.37291937129},null,null,null,null,{"$f":"'Tableau d''amortissement B'!C243","v":"2029-08-01"},{"$f":"'Tableau d''amortissement B'!I243","v":13385.443267272591},null,null,{"$f":"'Tableau d''amortissement A'!C243","v":"2036-08-01"},{"$f":"'Tableau d''amortissement A'!K243","v":30530.326568082084},{"$f":"O228+'Tableau d''amortissement A'!H243","v":158418.62708062853},null,null,{"$f":"'Tableau d''amortissement B'!C243","v":"2029-08-01"},{"$f":"'Tableau d''amortissement B'!K243","v":31495.96808191502},{"$f":"T228+'Tableau d''amortissement B'!H243","v":186614.55673272748}]
[null,null,{"$f":"'Tableau d''amortissement A'!C244","v":"2036-09-01"},{"$f":"'Tableau d''amortissement A'!I244","v":10761.722547310706},null,null,null,null,{"$f":"'Tableau d''amortissement B'!C244","v":"2029-09-01"},{"$f":"'Tableau d''amortissement B'!I244","v":12437.084253592777},null,null,{"$f":"'Tableau d''amortissement A'!C244","v":"2036-09-01"},{"$f":"'Tableau d''amortissement A'!K244","v":30546.733513051193},{"$f":"O229+'Tableau d''amortissement A'!H244","v":159238.27745268913},null,null,{"$f":"'Tableau d''amortissement B'!C244","v":"2029-09-01"},{"$f":"'Tableau d''amortissement B'!K244","v":31512.699885999111},{"$f":"T229+'Tableau d''amortissement B'!H244","v":187562.91574640729}]
[null,null,{"$f":"'Tableau d''amortissement A'!C245","v":"2036-10-01"},{"$f":"'Tableau d''amortissement A'!I245","v":9940.9110038897034},null,null,null,null,{"$f":"'Tableau d''amortissement B'!C245","v":"2029-10-01"},{"$f":"'Tableau d''amortissement B'!I245","v":11487.539791145862},null,null,{"$f":"'Tableau d''amortissement A'!C245","v":"2036-10-01"},{"$f":"'Tableau d''amortissement A'!K245","v":30561.979286659884},{"$f":"O230+'Tableau d''amortissement A'!H245","v":160059.08899611013},null,null,{"$f":"'Tableau d''amortissement B'!C245","v":"2029-10-01"},{"$f":"'Tableau d''amortissement B'!K245","v":31528.246241316101},{"$f":"T230+'Tableau d''amortissement B'!H245","v":188512.4602088542}]
[null,null,{"$f":"'Tableau d''amortissement A'!C246","v":"2036-11-01"},{"$f":"'Tableau d''amortissement A'!I246","v":9118.9366441155198},null,null,null,null,{"$f":"'Tableau d''amortissement B'!C246","v":"2029-11-01"},{"$f":"'Tableau d''amortissement B'!I246","v":10536.808398120889},null,null,{"$f":"'Tableau d''amortissement A'!C246","v":"2036-11-01"},{"$f":"'Tableau d''amortissement A'!K246","v":30576.062243915396},{"$f":"O231+'Tableau d''amortissement A'!H246","v":160881.06335588431},null,null,{"$f":"'Tableau d''amortissement B'!C246","v":"2029-11-01"},{"$f":"'Tableau d''amortissement B'!K246","v":31542.605666055035},{"$f":"T231+'Tableau d''amortissement B'!H246","v":189463.19160187917}]
[null,null,{"$f":"'Tableau d''amortissement A'!C247","v":"2036-12-01"},{"$f":"'Tableau d''amortissement A'!I247","v":8295.7978206649896},null,null,null,null,{"$f":"'Tableau d''amortissement B'!C247","v":"2029-12-01"},{"$f":"'Tableau d''amortissement B'!I247","v":9584.8885908546345},null,null,{"$f":"'Tableau d''amortissement A'!C247","v":"2036-12-01"},{"$f":"'Tableau d''amortissement A'!K247","v":30588.980737494559},{"$f":"O232+'Tableau d''amortissement A'!H247","v":161704.20217933485},null,null,{"$f":"'Tableau d''amortissement B'!C247","v":"2029-12-01"},{"$f":"'Tableau d''amortissement B'!K247","v":31555.776676552687},{"$f":"T232+'Tableau d''amortissement B'!H247","v":190415.11140914541}]
[null,null,{"$f":"'Tableau d''amortissement A'!C248","v":"2037-01-01"},{"$f":"'Tableau d''amortissement A'!I248","v":7471.4928838812384},null,null,null,null,{"$f":"'Tableau d''amortissement B'!C248","v":"2030-01-01"},{"$f":"'Tableau d''amortissement B'!I248","v":8631.7788838292981},null,null,{"$f":"'Tableau d''amortissement A'!C248","v":"2037-01-01"},{"$f":"'Tableau d''amortissement A'!K248","v":30600.733117740503},{"$f":"O233+'Tableau d''amortissement A'!H248","v":162528.50711611859},null,null,{"$f":"'Tableau d''amortissement B'!C248","v":"2030-01-01"},{"$f":"'Tableau d''amortissement B'!K248","v":31567.757787291255},{"$f":"T233+'Tableau d''amortissement B'!H248","v":191368.22111617075}]
[null,null,{"$f":"'Tableau d''amortissement A'!C249","v":"2037-02-01"},{"$f":"'Tableau d''amortissement A'!I249","v":6646.0201817703773},null,null,null,null,{"$f":"'Tableau d''amortissement B'!C249","v":"2030-02-01"},{"$f":"'Tableau d''amortissement B'!I249","v":7677.4777896701798},null,null,{"$f":"'Tableau d''amortissement A'!C249","v":"2037-02-01"},{"$f":"'Tableau d''amortissement A'!K249","v":30611.317732659336},{"$f":"O234+'Tableau d''amortissement A'!H249","v":163353.97981822945},null,null,{"$f":"'Tableau d''amortissement B'!C249","v":"2030-02-01"},{"$f":"'Tableau d''amortissement B'!K249","v":31578.547510896042},{"$f":"T234+'Tableau d''amortissement B'!H249","v":192322.52221032986}]
[null,null,{"$f":"'Tableau d''amortissement A'!C250","v":"2037-03-01"},{"$f":"'Tableau d''amortissement A'!I250","v":5819.3780599981919},null,null,null,null,{"$f":"'Tableau d''amortissement B'!C250","v":"2030-03-01"},{"$f":"'Tableau d''amortissement B'!I250","v":6721.9838191433628},null,null,{"$f":"'Tableau d''amortissement A'!C250","v":"2037-03-01"},{"$f":"'Tableau d''amortissement A'!K250","v":30620.732927916844},{"$f":"O235+'Tableau d''amortissement A'!H250","v":164180.62194000164},null,null,{"$f":"'Tableau d''amortissement B'!C250","v":"2030-03-01"},{"$f":"'Tableau d''amortissement B'!K250","v":31588.14435813313},{"$f":"T235+'Tableau d''amortissement B'!H250","v":193278.01618085668}]
[null,null,{"$f":"'Tableau d''amortissement A'!C251","v":"2037-04-01"},{"$f":"'Tableau d''amortissement A'!I251","v":4991.564861886829},null,null,null,null,{"$f":"'Tableau d''amortissement B'!C251","v":"2030-04-01"},{"$f":"'Tableau d''amortissement B'!I251","v":5765.2954811533873},null,null,{"$f":"'Tableau d''amortissement A'!C251","v":"2037-04-01"},{"$f":"'Tableau d''amortissement A'!K251","v":30628.977046835174},{"$f":"O236+'Tableau d''amortissement A'!H251","v":165008.43513811301},null,null,{"$f":"'Tableau d''amortissement B'!C251","v":"2030-04-01"},{"$f":"'Tableau d''amortissement B'!K251","v":31596.546837907059},{"$f":"T236+'Tableau d''amortissement B'!H251","v":194234.70451884664}]
[null,null,{"$f":"'Tableau d''amortissement A'!C252","v":"2037-05-01"},{"$f":"'Tableau d''amortissement A'!I252","v":4162.5789284114753},null,null,null,null,{"$f":"'Tableau d''amortissement B'!C252","v":"2030-05-01"},{"$f":"'Tableau d''amortissement B'!I252","v":4807.4112827409244},null,null,{"$f":"'Tableau d''amortissement A'!C252","v":"2037-05-01"},{"$f":"'Tableau d''amortissement A'!K252","v":30636.048430389514},{"$f":"O237+'Tableau d''amortissement A'!H252","v":165837.42107158835},null,null,{"$f":"'Tableau d''amortissement B'!C252","v":"2030-05-01"},{"$f":"'Tableau d''amortissement B'!K252","v":31603.753457258499},{"$f":"T237+'Tableau d''amortissement B'!H252","v":195192.58871725912}]
[null,null,{"$f":"'Tableau d''amortissement A'!C253","v":"2037-06-01"},{"$f":"'Tableau d''amortissement A'!I253","v":3332.4185981970318},null,null,null,null,{"$f":"'Tableau d''amortissement B'!C253","v":"2030-06-01"},{"$f":"'Tableau d''amortissement B'!I253","v":3848.3297290804458},null,null,{"$f":"'Tableau d''amortissement A'!C253","v":"2037-06-01"},{"$f":"'Tableau d''amortissement A'!K253","v":30641.945417204763},{"$f":"O238+'Tableau d''amortissement A'!H253","v":166667.5814018028},null,null,{"$f":"'Tableau d''amortissement B'!C253","v":"2030-06-01"},{"$f":"'Tableau d''amortissement B'!K253","v":31609.762721361923},{"$f":"T238+'Tableau d''amortissement B'!H253","v":196151.6702709196}]
[null,null,{"$f":"'Tableau d''amortissement A'!C254","v":"2037-07-01"},{"$f":"'Tableau d''amortissement A'!I254","v":2501.0822075147844},null,null,null,null,{"$f":"'Tableau d''amortissement B'!C254","v":"2030-07-01"},{"$f":"'Tableau d''amortissement B'!I254","v":2888.0493234778914},null,null,{"$f":"'Tableau d''amortissement A'!C254","v":"2037-07-01"},{"$f":"'Tableau d''amortissement A'!K254","v":30646.66634355221},{"$f":"O239+'Tableau d''amortissement A'!H254","v":167498.91779248504},null,null,{"$f":"'Tableau d''amortissement B'!C254","v":"2030-07-01"},{"$f":"'Tableau d''amortissement B'!K254","v":31614.573133523274},{"$f":"T239+'Tableau d''amortissement B'!H254","v":197111.95067652216}]
[null,null,{"$f":"'Tableau d''amortissement A'!C255","v":"2037-08-01"},{"$f":"'Tableau d''amortissement A'!I255","v":1668.5680902790705},null,null,null,null,{"$f":"'Tableau d''amortissement B'!C255","v":"2030-08-01"},{"$f":"'Tableau d''amortissement B'!I255","v":1926.5685673683338},null,null,{"$f":"'Tableau d''amortissement A'!C255","v":"2037-08-01"},{"$f":"'Tableau d''amortissement A'!K255","v":30650.209543346187},{"$f":"O240+'Tableau d''amortissement A'!H255","v":168331.43190972076},null,null,{"$f":"'Tableau d''amortissement B'!C255","v":"2030-08-01"},{"$f":"'Tableau d''amortissement B'!K255","v":31618.183195177622},{"$f":"T240+'Tableau d''amortissement B'!H255","v":198073.43143263171}]
[null,null,{"$f":"'Tableau d''amortissement A'!C256","v":"2037-09-01"},{"$f":"'Tableau d''amortissement A'!I256","v":834.87457804393932},null,null,null,null,{"$f":"'Tableau d''amortissement B'!C256","v":"2030-09-01"},{"$f":"'Tableau d''amortissement B'!I256","v":963.88596031363909},null,null,{"$f":"'Tableau d''amortissement A'!C256","v":"2037-09-01"},{"$f":"'Tableau d''amortissement A'!K256","v":30652.573348140748},{"$f":"O241+'Tableau d''amortissement A'!H256","v":169165.12542195589},null,null,{"$f":"'Tableau d''amortissement B'!C256","v":"2030-09-01"},{"$f":"'Tableau d''amortissement B'!K256","v":31620.591405886833},{"$f":"T241+'Tableau d''amortissement B'!H256","v":199036.11403968639}]
[null,null,{"$f":"'Tableau d''amortissement A'!C257","v":"2037-10-01"},{"$f":"'Tableau d''amortissement A'!I257","v":0},null,null,null,null,null,null,null,null,{"$f":"'Tableau d''amortissement A'!C257","v":"2037-10-01"},{"$f":"'Tableau d''amortissement A'!K257","v":30653.756087126309},{"$f":"O242+'Tableau d''amortissement A'!H257","v":170000.00000000003},null,null,{"$f":"'Tableau d''amortissement B'!C257","v":"2030-10-01"},{"$f":"'Tableau d''amortissement B'!K257","v":31621.796263337226},{"$f":"T242+'Tableau d''amortissement B'!H257","v":199999.99999999991}]

{"sheet":"Tableau d'amortissement A","index":22,"n_rows":517,"n_cols":12,"rows_kept":517,"cut":false,"hidden":false,"merged":[[8,9,8,10],[1,3,1,12],[5,9,5,11],[6,9,6,10],[7,9,7,10]]}
[]
[null,null,null,"TABLEAU D'AMORTISSEMENT A (Crédit résidence principale)"]
[]
[]
[]
[null,null,"Caractéristiques du prêt:",null,null,null,null,null,null,"Synthèse des éléments fournis :"]
[null,null,"Montant du prêt",null,null,null,null,{"$f":"Profil_Investisseur!B109","v":170000},null,"Mensualité (hors assurances)",null,{"$f":"IF(Values_Entered,-PMT(Interest_Rate/Num_Pmt_Per_Year,Loan_Years*Num_Pmt_Per_Year,Loan_Amount),\"\")","v":836.05731702969319}]
[null,null,"Taux d'intérêt annuel",null,null,null,null,{"$f":"Profil_Investisseur!D109","v":1.7000000000000001E-2},null,"Nombre de mensualités prévues",null,{"$f":"IF(Values_Entered,Loan_Years*Num_Pmt_Per_Year,\"\")","v":240}]
[null,null,"Durée du prêt en années",null,null,null,null,{"$f":"Profil_Investisseur!E109","v":20},null,"Montant des intérêts",null,{"$f":"Num_Pmt_Per_Year*Loan_Years*Scheduled_Monthly_Payment-Loan_Amount","v":30653.756087126356}]
[null,null,"Nombre de versements par an",null,null,null,null,{"$f":"12","v":12}]
[null,null,"Date de début de l'emprunt",null,null,null,null,{"$f":"Profil_Investisseur!C109","v":"2017-10-01"},null,null,null,{"$f":"Scheduled_Monthly_Payment*L8","v":200653.75608712636}]
[null,null,null,null,null,null,null,null,null,null,null,{"$f":"L11-Loan_Amount","v":30653.756087126356}]
[]
[]
[]
[]
[null,"Mensualilté n°","Date du versement","Montant mensualité (Hors assurances)","Montant mensualité (Assurances comprises)","Frais annexes (Assurances)","Intérêts remboursés","Capital remboursé (amortissement)","Capital restant dû",null,"Intérêts cumulés"]
[null,{"$f":"IF(Values_Entered,1,\"\")","v":1},{"$f":"IF(Pay_Num<>\"\",DATE(YEAR(Loan_Start),MONTH(Loan_Start)+(Pay_Num)*12/Num_Pmt_Per_Year,DAY(Loan_Start)),\"\")","v":"2017-11-01"},{"$f":"Scheduled_Monthly_Payment","v":836.05731702969319},{"$f":"D18+F18","v":864.39065036302657},{"$f":"(Loan_Amount*Profil_Investisseur!H109)/12","v":28.333333333333332},{"$f":"(Loan_Amount*Interest_Rate)/12","v":240.83333333333334},{"$f":"D18-G18","v":595.22398369635982},{"$f":"MAX(0,Loan_Amount-H18)","v":169404.77601630363},null,{"$f":"G18","v":240.83333333333334}]
[null,{"$f":"IF(Values_Entered,B18+1,\"\")","v":2},{"$f":"IF(Pay_Num<>\"\",DATE(YEAR(Loan_Start),MONTH(Loan_Start)+(Pay_Num)*12/Num_Pmt_Per_Year,DAY(Loan_Start)),\"\")","v":"2017-12-01"},{"$f":"Scheduled_Monthly_Payment","v":836.05731702969319},{"$f":"D19+F19","v":864.39065036302657},{"$f":"F18","v":28.333333333333332},{"$f":"I18*Interest_Rate/12","v":239.99009935643016},{"$f":"D19-G19","v":596.06721767326303},{"$f":"MAX(0,I18-H19)","v":168808.70879863037},null,{"$f":"K18+G19","v":480.82343268976354}]
[null,{"$f":"IF(Values_Entered,B19+1,\"\")","v":3},"2018-01-01",836.05731702969319,{"$f":"D20+F20","v":864.39065036302657},{"$f":"F19","v":28.333333333333332},239.14567079805968,{"$f":"D20-G20","v":596.91164623163354},{"$f":"MAX(0,I19-H20)","v":168211.79715239874},null,{"$f":"K19+G20","v":719.96910348782319}]
[null,{"$f":"IF(Values_Entered,B20+1,\"\")","v":4},"2018-02-01",836.05731702969319,864.39065036302657,28.333333333333332,238.30004596589822,597.75727106379497,{"$f":"MAX(0,I20-H21)","v":167614.03988133493},null,958.26914945372141]
[null,{"$f":"IF(Values_Entered,B21+1,\"\")","v":5},"2018-03-01",836.05731702969319,864.39065036302657,28.333333333333332,237.4532231652245,598.60409386446872,167015.43578747046,null,1195.7223726189459]
[null,{"$f":"IF(Values_Entered,B22+1,\"\")","v":6},"2018-04-01",836.05731702969319,864.39065036302657,28.333333333333332,236.60520069891649,599.45211633077668,166415.98367113969,null,1432.3275733178623]
[null,{"$f":"IF(Values_Entered,B23+1,\"\")","v":7},"2018-05-01",836.05731702969319,864.39065036302657,28.333333333333332,235.75597686744791,600.30134016224531,165815.68233097743,null,1668.0835501853103]
[null,{"$f":"IF(Values_Entered,B24+1,\"\")","v":8},"2018-06-01",836.05731702969319,864.39065036302657,28.333333333333332,234.90554996888474,601.15176706080842,165214.53056391663,null,1902.9891001541951]
[null,{"$f":"IF(Values_Entered,B25+1,\"\")","v":9},"2018-07-01",836.05731702969319,864.39065036302657,28.333333333333332,234.05391829888194,602.00339873081123,164612.52716518583,null,2137.0430184530769]
[null,{"$f":"IF(Values_Entered,B26+1,\"\")","v":10},"2018-08-01",836.05731702969319,864.39065036302657,28.333333333333332,233.20108015067993,602.8562368790133,164009.67092830682,null,2370.2440986037568]
[null,{"$f":"IF(Values_Entered,B27+1,\"\")","v":11},"2018-09-01",836.05731702969319,864.39065036302657,28.333333333333332,232.34703381510133,603.71028321459187,163405.96064509221,null,2602.5911324188583]
[null,{"$f":"IF(Values_Entered,B28+1,\"\")","v":12},"2018-10-01",836.05731702969319,864.39065036302657,28.333333333333332,231.49177758054734,604.56553944914583,162801.39510564308,null,2834.0829099994057]
[null,{"$f":"IF(Values_Entered,B29+1,\"\")","v":13},"2018-11-01",836.05731702969319,864.39065036302657,28.333333333333332,230.63530973299439,605.42200729669878,162195.97309834638,null,3064.7182197324]
[null,{"$f":"IF(Values_Entered,B30+1,\"\")","v":14},"2018-12-01",836.05731702969319,864.39065036302657,28.333333333333332,229.77762855599073,606.27968847370244,161589.69340987268,null,3294.4958482883908]
[null,{"$f":"IF(Values_Entered,B31+1,\"\")","v":15},"2019-01-01",836.05731702969319,864.39065036302657,28.333333333333332,228.918732330653,607.13858469904017,160982.55482517363,null,3523.4145806190436]
[null,{"$f":"IF(Values_Entered,B32+1,\"\")","v":16},"2019-02-01",836.05731702969319,864.39065036302657,28.333333333333332,228.05861933566266,607.99869769403051,160374.55612747959,null,3751.4731999547062]
[null,{"$f":"IF(Values_Entered,B33+1,\"\")","v":17},"2019-03-01",836.05731702969319,864.39065036302657,28.333333333333332,227.19728784726274,608.86002918243048,159765.69609829717,null,3978.6704878019691]
[null,{"$f":"IF(Values_Entered,B34+1,\"\")","v":18},"2019-04-01",836.05731702969319,864.39065036302657,28.333333333333332,226.33473613925435,609.72258089043885,159155.97351740673,null,4205.0052239412234]
[null,{"$f":"IF(Values_Entered,B35+1,\"\")","v":19},"2019-05-01",836.05731702969319,864.39065036302657,28.333333333333332,225.47096248299286,610.58635454670036,158545.38716286002,null,4430.4761864242164]
[null,{"$f":"IF(Values_Entered,B36+1,\"\")","v":20},"2019-06-01",836.05731702969319,864.39065036302657,28.333333333333332,224.60596514738504,611.45135188230813,157933.93581097771,null,4655.0821515716016]
[null,{"$f":"IF(Values_Entered,B37+1,\"\")","v":21},"2019-07-01",836.05731702969319,864.39065036302657,28.333333333333332,223.73974239888511,612.31757463080805,157321.6182363469,null,4878.8218939704866]
[null,{"$f":"IF(Values_Entered,B38+1,\"\")","v":22},"2019-08-01",836.05731702969319,864.39065036302657,28.333333333333332,222.87229250149144,613.18502452820178,156708.43321181869,null,5101.6941864719784]
[null,{"$f":"IF(Values_Entered,B39+1,\"\")","v":23},"2019-09-01",836.05731702969319,864.39065036302657,28.333333333333332,222.00361371674316,614.05370331295001,156094.37950850575,null,5323.6978001887219]
[null,{"$f":"IF(Values_Entered,B40+1,\"\")","v":24},"2019-10-01",836.05731702969319,864.39065036302657,28.333333333333332,221.13370430371651,614.92361272597668,155479.45589577977,null,5544.8315044924384]
[null,{"$f":"IF(Values_Entered,B41+1,\"\")","v":25},"2019-11-01",836.05731702969319,864.39065036302657,28.333333333333332,220.26256251902134,615.79475451067185,154863.66114126911,null,5765.0940670114596]
[null,{"$f":"IF(Values_Entered,B42+1,\"\")","v":26},"2019-12-01",836.05731702969319,864.39065036302657,28.333333333333332,219.39018661679793,616.66713041289529,154246.99401085623,null,5984.4842536282576]
[null,{"$f":"IF(Values_Entered,B43+1,\"\")","v":27},"2020-01-01",836.05731702969319,864.39065036302657,28.333333333333332,218.51657484871302,617.54074218098015,153629.45326867525,null,6203.000828476971]
[null,{"$f":"IF(Values_Entered,B44+1,\"\")","v":28},"2020-02-01",836.05731702969319,864.39065036302657,28.333333333333332,217.64172546395662,618.41559156573658,153011.0376771095,null,6420.6425539409274]
[null,{"$f":"IF(Values_Entered,B45+1,\"\")","v":29},"2020-03-01",836.05731702969319,864.39065036302657,28.333333333333332,216.76563670923849,619.2916803204547,152391.74599678905,null,6637.408190650166]
[null,{"$f":"IF(Values_Entered,B46+1,\"\")","v":30},"2020-04-01",836.05731702969319,864.39065036302657,28.333333333333332,215.88830682878449,620.1690102009087,151771.57698658813,null,6853.2964974789502]
[null,{"$f":"IF(Values_Entered,B47+1,\"\")","v":31},"2020-05-01",836.05731702969319,864.39065036302657,28.333333333333332,215.0097340643332,621.04758296535999,151150.52940362276,null,7068.3062315432835]
[null,{"$f":"IF(Values_Entered,B48+1,\"\")","v":32},"2020-06-01",836.05731702969319,864.39065036302657,28.333333333333332,214.12991665513223,621.92740037456099,150528.6020032482,null,7282.436148198416]
[null,{"$f":"IF(Values_Entered,B49+1,\"\")","v":33},"2020-07-01",836.05731702969319,864.39065036302657,28.333333333333332,213.24885283793495,622.80846419175828,149905.79353905644,null,7495.6850010363514]
[null,{"$f":"IF(Values_Entered,B50+1,\"\")","v":34},"2020-08-01",836.05731702969319,864.39065036302657,28.333333333333332,212.36654084699663,623.6907761826966,149282.10276287375,null,7708.0515418833484]
[null,{"$f":"IF(Values_Entered,B51+1,\"\")","v":35},"2020-09-01",836.05731702969319,864.39065036302657,28.333333333333332,211.48297891407117,624.57433811562203,148657.52842475811,null,7919.5345207974196]
[null,{"$f":"IF(Values_Entered,B52+1,\"\")","v":36},"2020-10-01",836.05731702969319,864.39065036302657,28.333333333333332,210.59816526840734,625.45915176128585,148032.06927299683,null,8130.1326860658273]
[null,{"$f":"IF(Values_Entered,B53+1,\"\")","v":37},"2020-11-01",836.05731702969319,864.39065036302657,28.333333333333332,209.71209813674554,626.34521889294763,147405.72405410389,null,8339.8447842025726]
[null,{"$f":"IF(Values_Entered,B54+1,\"\")","v":38},"2020-12-01",836.05731702969319,864.39065036302657,28.333333333333332,208.82477574331384,627.23254128637939,146778.49151281751,null,8548.6695599458872]
[null,{"$f":"IF(Values_Entered,B55+1,\"\")","v":39},"2021-01-01",836.05731702969319,864.39065036302657,28.333333333333332,207.93619630982482,628.12112071986837,146150.37039209763,null,8756.6057562557125]
[null,{"$f":"IF(Values_Entered,B56+1,\"\")","v":40},"2021-02-01",836.05731702969319,864.39065036302657,28.333333333333332,207.04635805547164,629.01095897422158,145521.35943312341,null,8963.6521143111841]
[null,{"$f":"IF(Values_Entered,B57+1,\"\")","v":41},"2021-03-01",836.05731702969319,864.39065036302657,28.333333333333332,206.15525919692485,629.90205783276838,144891.45737529063,null,9169.8073735081089]
[null,{"$f":"IF(Values_Entered,B58+1,\"\")","v":42},"2021-04-01",836.05731702969319,864.39065036302657,28.333333333333332,205.2628979483284,630.79441908136482,144260.66295620927,null,9375.0702714564377]
[null,{"$f":"IF(Values_Entered,B59+1,\"\")","v":43},"2021-05-01",836.05731702969319,864.39065036302657,28.333333333333332,204.36927252129647,631.68804450839673,143628.97491170088,null,9579.4395439777345]
[null,{"$f":"IF(Values_Entered,B60+1,\"\")","v":44},"2021-06-01",836.05731702969319,864.39065036302657,28.333333333333332,203.47438112490957,632.58293590478365,142996.39197579608,null,9782.9139251026445]
[null,{"$f":"IF(Values_Entered,B61+1,\"\")","v":45},"2021-07-01",836.05731702969319,864.39065036302657,28.333333333333332,202.57822196571112,633.47909506398207,142362.9128807321,null,9985.4921470683548]
[null,{"$f":"IF(Values_Entered,B62+1,\"\")","v":46},"2021-08-01",836.05731702969319,864.39065036302657,28.333333333333332,201.68079324770383,634.37652378198936,141728.53635695012,null,10187.172940316059]
[null,{"$f":"IF(Values_Entered,B63+1,\"\")","v":47},"2021-09-01",836.05731702969319,864.39065036302657,28.333333333333332,200.78209317234601,635.27522385734721,141093.26113309278,null,10387.955033488404]
[null,{"$f":"IF(Values_Entered,B64+1,\"\")","v":48},"2021-10-01",836.05731702969319,864.39065036302657,28.333333333333332,199.88211993854813,636.17519709114504,140457.08593600162,null,10587.837153426952]
[null,{"$f":"IF(Values_Entered,B65+1,\"\")","v":49},"2021-11-01",836.05731702969319,864.39065036302657,28.333333333333332,198.980871742669,637.07644528702417,139820.00949071458,null,10786.818025169621]
[null,{"$f":"IF(Values_Entered,B66+1,\"\")","v":50},"2021-12-01",836.05731702969319,864.39065036302657,28.333333333333332,198.07834677851235,637.97897025118084,139182.03052046339,null,10984.896371948134]
[null,{"$f":"IF(Values_Entered,B67+1,\"\")","v":51},"2022-01-01",836.05731702969319,864.39065036302657,28.333333333333332,197.17454323732315,638.88277379237002,138543.14774667102,null,11182.070915185457]
[null,{"$f":"IF(Values_Entered,B68+1,\"\")","v":52},"2022-02-01",836.05731702969319,864.39065036302657,28.333333333333332,196.26945930778393,639.78785772190929,137903.35988894911,null,11378.34037449324]
[null,{"$f":"IF(Values_Entered,B69+1,\"\")","v":53},"2022-03-01",836.05731702969319,864.39065036302657,28.333333333333332,195.36309317601126,640.69422385368193,137262.66566509544,null,11573.703467669251]
[null,{"$f":"IF(Values_Entered,B70+1,\"\")","v":54},"2022-04-01",836.05731702969319,864.39065036302657,28.333333333333332,194.45544302555189,641.60187400414134,136621.06379109129,null,11768.158910694803]
[null,{"$f":"IF(Values_Entered,B71+1,\"\")","v":55},"2022-05-01",836.05731702969319,864.39065036302657,28.333333333333332,193.54650703737934,642.51080999231385,135978.55298109897,null,11961.705417732182]
[null,{"$f":"IF(Values_Entered,B72+1,\"\")","v":56},"2022-06-01",836.05731702969319,864.39065036302657,28.333333333333332,192.63628338989022,643.421033639803,135335.13194745916,null,12154.341701122074]
[null,{"$f":"IF(Values_Entered,B73+1,\"\")","v":57},"2022-07-01",836.05731702969319,864.39065036302657,28.333333333333332,191.72477025890046,644.33254677079276,134690.79940068835,null,12346.066471380975]
[null,{"$f":"IF(Values_Entered,B74+1,\"\")","v":58},"2022-08-01",836.05731702969319,864.39065036302657,28.333333333333332,190.81196581764186,645.24535121205133,134045.55404947631,null,12536.878437198617]
[null,{"$f":"IF(Values_Entered,B75+1,\"\")","v":59},"2022-09-01",836.05731702969319,864.39065036302657,28.333333333333332,189.89786823675811,646.15944879293511,133399.39460068339,null,12726.776305435375]
[null,{"$f":"IF(Values_Entered,B76+1,\"\")","v":60},"2022-10-01",836.05731702969319,864.39065036302657,28.333333333333332,188.98247568430148,647.07484134539175,132752.31975933799,null,12915.758781119675]
[null,{"$f":"IF(Values_Entered,B77+1,\"\")","v":61},"2022-11-01",836.05731702969319,864.39065036302657,28.333333333333332,188.06578632572882,647.99153070396437,132104.32822863403,null,13103.824567445405]
[null,{"$f":"IF(Values_Entered,B78+1,\"\")","v":62},"2022-12-01",836.05731702969319,864.39065036302657,28.333333333333332,187.1477983238982,648.90951870579499,131455.41870992823,null,13290.972365769303]
[null,{"$f":"IF(Values_Entered,B79+1,\"\")","v":63},"2023-01-01",836.05731702969319,864.39065036302657,28.333333333333332,186.22850983906503,649.82880719062814,130805.5899027376,null,13477.200875608369]
[null,{"$f":"IF(Values_Entered,B80+1,\"\")","v":64},"2023-02-01",836.05731702969319,864.39065036302657,28.333333333333332,185.30791902887827,650.74939800081495,130154.84050473679,null,13662.508794637248]
[null,{"$f":"IF(Values_Entered,B81+1,\"\")","v":65},{"$f":"IF(Pay_Num<>\"\",DATE(YEAR(Loan_Start),MONTH(Loan_Start)+(Pay_Num)*12/Num_Pmt_Per_Year,DAY(Loan_Start)),\"\")","v":"2023-03-01"},{"$f":"Scheduled_Monthly_Payment","v":836.05731702969319},864.39065036302657,28.333333333333332,184.38602404837715,651.67129298131601,129503.16921175546,null,13846.894818685625]
[null,{"$f":"IF(Values_Entered,B82+1,\"\")","v":66},"2023-04-01",836.05731702969319,864.39065036302657,28.333333333333332,{"$f":"I82*Interest_Rate/12","v":183.46282304998692},652.59449397970627,128850.57471777576,null,14030.357641735613]
[null,{"$f":"IF(Values_Entered,B83+1,\"\")","v":67},"2023-05-01",836.05731702969319,{"$f":"D84+F84","v":864.39065036302657},{"$f":"F83","v":28.333333333333332},182.53831418351567,{"$f":"D84-G84","v":653.5190028461775},128197.05571492958,null,{"$f":"K83+G84","v":14212.895955919128}]
[null,{"$f":"IF(Values_Entered,B84+1,\"\")","v":68},"2023-06-01",836.05731702969319,864.39065036302657,28.333333333333332,181.61249559615024,654.44482143354298,{"$f":"MAX(0,I84-H85)","v":127542.61089349604},null,14394.508451515278]
[null,{"$f":"IF(Values_Entered,B85+1,\"\")","v":69},"2023-07-01",836.05731702969319,864.39065036302657,28.333333333333332,180.68536543245273,655.37195159724047,126887.2389418988,null,14575.193816947731]
[null,{"$f":"IF(Values_Entered,B86+1,\"\")","v":70},"2023-08-01",836.05731702969319,864.39065036302657,28.333333333333332,179.75692183435663,656.30039519533659,126230.93854670346,null,14754.950738782087]
[null,{"$f":"IF(Values_Entered,B87+1,\"\")","v":71},"2023-09-01",836.05731702969319,864.39065036302657,28.333333333333332,178.82716294116324,657.23015408852996,125573.70839261494,null,14933.77790172325]
[null,{"$f":"IF(Values_Entered,B88+1,\"\")","v":72},"2023-10-01",836.05731702969319,864.39065036302657,28.333333333333332,177.89608688953786,658.16123014015534,124915.54716247477,null,15111.673988612787]
[null,{"$f":"IF(Values_Entered,B89+1,\"\")","v":73},"2023-11-01",836.05731702969319,864.39065036302657,28.333333333333332,176.96369181350596,659.09362521618721,124256.45353725858,null,15288.637680426293]
[null,{"$f":"IF(Values_Entered,B90+1,\"\")","v":74},"2023-12-01",836.05731702969319,864.39065036302657,28.333333333333332,176.02997584444969,660.02734118524347,123596.42619607334,null,15464.667656270742]
[null,{"$f":"IF(Values_Entered,B91+1,\"\")","v":75},"2024-01-01",836.05731702969319,864.39065036302657,28.333333333333332,175.09493711110392,660.96237991858925,122935.46381615475,null,15639.762593381845]
[null,{"$f":"IF(Values_Entered,B92+1,\"\")","v":76},"2024-02-01",836.05731702969319,864.39065036302657,28.333333333333332,174.15857373955257,661.8987432901406,122273.56507286461,null,15813.921167121398]
[null,{"$f":"IF(Values_Entered,B93+1,\"\")","v":77},"2024-03-01",836.05731702969319,864.39065036302657,28.333333333333332,173.22088385322488,662.83643317646829,121610.72863968814,null,15987.142050974622]
[null,{"$f":"IF(Values_Entered,B94+1,\"\")","v":78},"2024-04-01",836.05731702969319,864.39065036302657,28.333333333333332,172.28186557289155,663.77545145680165,120946.95318823133,null,16159.423916547514]
[null,{"$f":"IF(Values_Entered,B95+1,\"\")","v":79},"2024-05-01",836.05731702969319,864.39065036302657,28.333333333333332,171.34151701666107,664.71580001303209,120282.2373882183,null,16330.765433564175]
[null,{"$f":"IF(Values_Entered,B96+1,\"\")","v":80},"2024-06-01",836.05731702969319,864.39065036302657,28.333333333333332,170.39983629997593,665.65748072971724,119616.57990748859,null,16501.165269864152]
[null,{"$f":"IF(Values_Entered,B97+1,\"\")","v":81},"2024-07-01",836.05731702969319,864.39065036302657,28.333333333333332,169.45682153560884,666.60049549408438,118949.9794119945,null,16670.62209139976]
[null,{"$f":"IF(Values_Entered,B98+1,\"\")","v":82},"2024-08-01",836.05731702969319,864.39065036302657,28.333333333333332,168.51247083365888,667.54484619603431,118282.43456579847,null,16839.134562233419]
[null,{"$f":"IF(Values_Entered,B99+1,\"\")","v":83},"2024-09-01",836.05731702969319,864.39065036302657,28.333333333333332,167.56678230154785,668.49053472814535,117613.94403107032,null,17006.701344534966]
[null,{"$f":"IF(Values_Entered,B100+1,\"\")","v":84},"2024-10-01",836.05731702969319,864.39065036302657,28.333333333333332,166.6197540440163,669.43756298567689,116944.50646808464,null,17173.321098578981]
[null,{"$f":"IF(Values_Entered,B101+1,\"\")","v":85},"2024-11-01",836.05731702969319,864.39065036302657,28.333333333333332,165.67138416311991,670.38593286657328,116274.12053521807,null,17338.992482742102]
[null,{"$f":"IF(Values_Entered,B102+1,\"\")","v":86},"2024-12-01",836.05731702969319,864.39065036302657,28.333333333333332,164.7216707582256,671.33564627146757,115602.7848889466,null,17503.714153500328]
[null,{"$f":"IF(Values_Entered,B103+1,\"\")","v":87},"2025-01-01",836.05731702969319,864.39065036302657,28.333333333333332,163.77061192600769,672.28670510368556,114930.49818384291,null,17667.484765426336]
[null,{"$f":"IF(Values_Entered,B104+1,\"\")","v":88},"2025-02-01",836.05731702969319,864.39065036302657,28.333333333333332,162.81820576044413,673.23911126924907,114257.25907257367,null,17830.302971186778]
[null,{"$f":"IF(Values_Entered,B105+1,\"\")","v":89},"2025-03-01",836.05731702969319,864.39065036302657,28.333333333333332,161.86445035281272,674.1928666768805,113583.06620589679,null,17992.167421539591]
[null,{"$f":"IF(Values_Entered,B106+1,\"\")","v":90},"2025-04-01",836.05731702969319,864.39065036302657,28.333333333333332,160.90934379168712,675.1479732380061,112907.91823265878,null,18153.076765331276]
[null,{"$f":"IF(Values_Entered,B107+1,\"\")","v":91},"2025-05-01",836.05731702969319,864.39065036302657,28.333333333333332,159.95288416293326,676.10443286675991,112231.81379979201,null,18313.029649494209]
[null,{"$f":"IF(Values_Entered,B108+1,\"\")","v":92},"2025-06-01",836.05731702969319,864.39065036302657,28.333333333333332,158.99506954970536,677.06224747998783,111554.75155231202,null,18472.024719043915]
[null,{"$f":"IF(Values_Entered,B109+1,\"\")","v":93},"2025-07-01",836.05731702969319,864.39065036302657,28.333333333333332,158.03589803244205,678.0214189972512,110876.73013331478,null,18630.060617076357]
[null,{"$f":"IF(Values_Entered,B110+1,\"\")","v":94},"2025-08-01",836.05731702969319,864.39065036302657,28.333333333333332,157.0753676888626,678.98194934083062,110197.74818397395,null,18787.13598476522]
[null,{"$f":"IF(Values_Entered,B111+1,\"\")","v":95},"2025-09-01",836.05731702969319,864.39065036302657,28.333333333333332,156.1134765939631,679.94384043573007,109517.80434353821,null,18943.249461359184]
[null,{"$f":"IF(Values_Entered,B112+1,\"\")","v":96},"2025-10-01",836.05731702969319,864.39065036302657,28.333333333333332,155.15022282001249,680.90709420968074,108836.89724932853,null,19098.399684179196]
[null,{"$f":"IF(Values_Entered,B113+1,\"\")","v":97},"2025-11-01",836.05731702969319,864.39065036302657,28.333333333333332,154.18560443654874,681.87171259314448,108155.02553673538,null,19252.585288615745]
[null,{"$f":"IF(Values_Entered,B114+1,\"\")","v":98},"2025-12-01",836.05731702969319,864.39065036302657,28.333333333333332,153.21961951037514,682.837697519318,107472.18783921606,null,19405.80490812612]
[null,{"$f":"IF(Values_Entered,B115+1,\"\")","v":99},"2026-01-01",836.05731702969319,864.39065036302657,28.333333333333332,152.25226610555609,683.80505092413705,106788.38278829191,null,19558.057174231675]
[null,{"$f":"IF(Values_Entered,B116+1,\"\")","v":100},"2026-02-01",836.05731702969319,864.39065036302657,28.333333333333332,151.28354228341354,684.77377474627963,106103.60901354563,null,19709.340716515089]
[null,{"$f":"IF(Values_Entered,B117+1,\"\")","v":101},"2026-03-01",836.05731702969319,864.39065036302657,28.333333333333332,150.31344610252299,685.74387092717018,105417.86514261847,null,19859.654162617611]
[null,{"$f":"IF(Values_Entered,B118+1,\"\")","v":102},"2026-04-01",836.05731702969319,864.39065036302657,28.333333333333332,149.34197561870951,686.71534141098368,104731.14980120749,null,20008.996138236322]
[null,{"$f":"IF(Values_Entered,B119+1,\"\")","v":103},"2026-05-01",836.05731702969319,864.39065036302657,28.333333333333332,148.36912888504395,687.6881881446493,104043.46161306284,null,20157.365267121364]
[null,{"$f":"IF(Values_Entered,B120+1,\"\")","v":104},"2026-06-01",836.05731702969319,864.39065036302657,28.333333333333332,147.39490395183904,688.66241307785413,103354.79919998499,null,20304.760171073201]
[null,{"$f":"IF(Values_Entered,B121+1,\"\")","v":105},"2026-07-01",836.05731702969319,864.39065036302657,28.333333333333332,146.41929886664542,689.63801816304772,102665.16118182194,null,20451.179469939845]
[null,{"$f":"IF(Values_Entered,B122+1,\"\")","v":106},"2026-08-01",836.05731702969319,864.39065036302657,28.333333333333332,145.44231167424775,690.61500535544542,101974.54617646649,null,20596.621781614092]
[null,{"$f":"IF(Values_Entered,B123+1,\"\")","v":107},"2026-09-01",836.05731702969319,864.39065036302657,28.333333333333332,144.46394041666088,691.59337661303232,101282.95279985346,null,20741.085722030752]
[null,{"$f":"IF(Values_Entered,B124+1,\"\")","v":108},"2026-10-01",836.05731702969319,864.39065036302657,28.333333333333332,143.48418313312575,692.57313389656747,100590.37966595689,null,20884.569905163877]
[null,{"$f":"IF(Values_Entered,B125+1,\"\")","v":109},"2026-11-01",836.05731702969319,864.39065036302657,28.333333333333332,142.50303786010559,693.55427916958763,99896.825386787299,null,21027.072943023981]
[null,{"$f":"IF(Values_Entered,B126+1,\"\")","v":110},"2026-12-01",836.05731702969319,864.39065036302657,28.333333333333332,141.52050263128203,694.53681439841114,99202.28857238889,null,21168.593445655264]
[null,{"$f":"IF(Values_Entered,B127+1,\"\")","v":111},"2027-01-01",836.05731702969319,864.39065036302657,28.333333333333332,140.53657547755094,695.52074155214223,98506.767830836747,null,21309.130021132816]
[null,{"$f":"IF(Values_Entered,B128+1,\"\")","v":112},"2027-02-01",836.05731702969319,864.39065036302657,28.333333333333332,139.55125442701873,696.50606260267443,97810.261768234079,null,21448.681275559837]
[null,{"$f":"IF(Values_Entered,B129+1,\"\")","v":113},"2027-03-01",836.05731702969319,864.39065036302657,28.333333333333332,138.5645375049983,697.49277952469492,97112.768988709387,null,21587.245813064834]
[null,{"$f":"IF(Values_Entered,B130+1,\"\")","v":114},"2027-04-01",836.05731702969319,864.39065036302657,28.333333333333332,137.57642273400498,698.48089429568824,96414.2880944137,null,21724.822235798838]
[null,{"$f":"IF(Values_Entered,B131+1,\"\")","v":115},"2027-05-01",836.05731702969319,864.39065036302657,28.333333333333332,136.58690813375276,699.47040889594041,95714.817685517759,null,21861.409143932589]
[null,{"$f":"IF(Values_Entered,B132+1,\"\")","v":116},"2027-06-01",836.05731702969319,864.39065036302657,28.333333333333332,135.59599172115017,700.461325308543,95014.356360209218,null,21997.005135653741]
[null,{"$f":"IF(Values_Entered,B133+1,\"\")","v":117},"2027-07-01",836.05731702969319,864.39065036302657,28.333333333333332,134.60367151029641,701.45364551939679,94312.902714689815,null,22131.608807164037]
[null,{"$f":"IF(Values_Entered,B134+1,\"\")","v":118},"2027-08-01",836.05731702969319,864.39065036302657,28.333333333333332,133.60994551247725,702.44737151721597,93610.455343172594,null,22265.218752676516]
[null,{"$f":"IF(Values_Entered,B135+1,\"\")","v":119},"2027-09-01",836.05731702969319,864.39065036302657,28.333333333333332,132.61481173616119,703.44250529353201,92907.012837879069,null,22397.833564412678]
[null,{"$f":"IF(Values_Entered,B136+1,\"\")","v":120},"2027-10-01",836.05731702969319,864.39065036302657,28.333333333333332,131.61826818699535,704.43904884269784,92202.573789036367,null,22529.451832599672]
[null,{"$f":"IF(Values_Entered,B137+1,\"\")","v":121},"2027-11-01",836.05731702969319,864.39065036302657,28.333333333333332,130.62031286780152,705.43700416189165,91497.13678487447,null,22660.072145467475]
[null,{"$f":"IF(Values_Entered,B138+1,\"\")","v":122},"2027-12-01",836.05731702969319,864.39065036302657,28.333333333333332,129.62094377857218,706.43637325112104,90790.700411623344,null,22789.693089246048]
[null,{"$f":"IF(Values_Entered,B139+1,\"\")","v":123},"2028-01-01",836.05731702969319,864.39065036302657,28.333333333333332,128.62015891646641,707.43715811322681,90083.263253510115,null,22918.313248162514]
[null,{"$f":"IF(Values_Entered,B140+1,\"\")","v":124},"2028-02-01",836.05731702969319,864.39065036302657,28.333333333333332,127.61795627580601,708.43936075388717,89374.823892756234,null,23045.931204438319]
[null,{"$f":"IF(Values_Entered,B141+1,\"\")","v":125},"2028-03-01",836.05731702969319,864.39065036302657,28.333333333333332,126.61433384807134,709.44298318162191,88665.380909574611,null,23172.545538286391]
[null,{"$f":"IF(Values_Entered,B142+1,\"\")","v":126},"2028-04-01",836.05731702969319,864.39065036302657,28.333333333333332,125.60928962189736,710.44802740779585,87954.932882166817,null,23298.154827908289]
[null,{"$f":"IF(Values_Entered,B143+1,\"\")","v":127},"2028-05-01",836.05731702969319,864.39065036302657,28.333333333333332,124.60282158306967,711.45449544662347,87243.478386720191,null,23422.757649491359]
[null,{"$f":"IF(Values_Entered,B144+1,\"\")","v":128},"2028-06-01",836.05731702969319,864.39065036302657,28.333333333333332,123.59492771452028,712.46238931517291,86531.015997405018,null,23546.352577205878]
[null,{"$f":"IF(Values_Entered,B145+1,\"\")","v":129},{"$f":"IF(Pay_Num<>\"\",DATE(YEAR(Loan_Start),MONTH(Loan_Start)+(Pay_Num)*12/Num_Pmt_Per_Year,DAY(Loan_Start)),\"\")","v":"2028-07-01"},{"$f":"Scheduled_Monthly_Payment","v":836.05731702969319},864.39065036302657,28.333333333333332,122.58560599632379,713.47171103336939,85817.544286371645,null,23668.938183202201]
[null,{"$f":"IF(Values_Entered,B146+1,\"\")","v":130},"2028-08-01",836.05731702969319,864.39065036302657,28.333333333333332,{"$f":"I146*Interest_Rate/12","v":121.57485440569316},714.48246262400005,85103.061823747645,null,23790.513037607892]
[null,{"$f":"IF(Values_Entered,B147+1,\"\")","v":131},"2028-09-01",836.05731702969319,{"$f":"D148+F148","v":864.39065036302657},{"$f":"F147","v":28.333333333333332},120.56267091697583,{"$f":"D148-G148","v":715.49464611271742},84387.567177634934,null,{"$f":"K147+G148","v":23911.07570852487}]
[null,{"$f":"IF(Values_Entered,B148+1,\"\")","v":132},"2028-10-01",836.05731702969319,864.39065036302657,28.333333333333332,119.5490535016495,716.5082635280437,{"$f":"MAX(0,I148-H149)","v":83671.058914106892},null,24030.62476202652]
[null,{"$f":"IF(Values_Entered,B149+1,\"\")","v":133},"2028-11-01",836.05731702969319,864.39065036302657,28.333333333333332,118.5340001283181,717.5233169013751,82953.535597205511,null,24149.158762154839]
[null,{"$f":"IF(Values_Entered,B150+1,\"\")","v":134},"2028-12-01",836.05731702969319,864.39065036302657,28.333333333333332,117.51750876270781,718.53980826698535,82234.995788938526,null,24266.676270917545]
[null,{"$f":"IF(Values_Entered,B151+1,\"\")","v":135},"2029-01-01",836.05731702969319,864.39065036302657,28.333333333333332,116.49957736766292,719.55773966203026,81515.43804927649,null,24383.175848285209]
[null,{"$f":"IF(Values_Entered,B152+1,\"\")","v":136},"2029-02-01",836.05731702969319,864.39065036302657,28.333333333333332,115.48020390314171,720.57711312655147,80794.86093614994,null,24498.656052188351]
[null,{"$f":"IF(Values_Entered,B153+1,\"\")","v":137},"2029-03-01",836.05731702969319,864.39065036302657,28.333333333333332,114.45938632621242,721.59793070348076,80073.263005446453,null,24613.115438514564]
[null,{"$f":"IF(Values_Entered,B154+1,\"\")","v":138},"2029-04-01",836.05731702969319,864.39065036302657,28.333333333333332,113.43712259104915,722.62019443864403,79350.642811007812,null,24726.552561105615]
[null,{"$f":"IF(Values_Entered,B155+1,\"\")","v":139},"2029-05-01",836.05731702969319,864.39065036302657,28.333333333333332,112.41341064892775,723.64390638076543,78626.998904627049,null,24838.965971754544]
[null,{"$f":"IF(Values_Entered,B156+1,\"\")","v":140},"2029-06-01",836.05731702969319,864.39065036302657,28.333333333333332,111.38824844822166,724.66906858147149,77902.329836045581,null,24950.354220202764]
[null,{"$f":"IF(Values_Entered,B157+1,\"\")","v":141},"2029-07-01",836.05731702969319,864.39065036302657,28.333333333333332,110.36163393439791,725.69568309529529,77176.634152950282,null,25060.715854137161]
[null,{"$f":"IF(Values_Entered,B158+1,\"\")","v":142},"2029-08-01",836.05731702969319,864.39065036302657,28.333333333333332,109.33356505001291,726.72375197968029,76449.910400970606,null,25170.049419187173]
[null,{"$f":"IF(Values_Entered,B159+1,\"\")","v":143},"2029-09-01",836.05731702969319,864.39065036302657,28.333333333333332,108.30403973470835,727.75327729498485,75722.157123675628,null,25278.35345892188]
[null,{"$f":"IF(Values_Entered,B160+1,\"\")","v":144},"2029-10-01",836.05731702969319,864.39065036302657,28.333333333333332,107.27305592520715,728.78426110448606,74993.372862571137,null,25385.626514847088]
[null,{"$f":"IF(Values_Entered,B161+1,\"\")","v":145},"2029-11-01",836.05731702969319,864.39065036302657,28.333333333333332,106.24061155530912,729.81670547438409,74263.556157096755,null,25491.867126402398]
[null,{"$f":"IF(Values_Entered,B162+1,\"\")","v":146},"2029-12-01",836.05731702969319,864.39065036302657,28.333333333333332,105.20670455588709,730.85061247380611,73532.70554462295,null,25597.073830958285]
[null,{"$f":"IF(Values_Entered,B163+1,\"\")","v":147},"2030-01-01",836.05731702969319,864.39065036302657,28.333333333333332,104.17133285488252,731.88598417481069,72800.819560448144,null,25701.245163813168]
[null,{"$f":"IF(Values_Entered,B164+1,\"\")","v":148},"2030-02-01",836.05731702969319,864.39065036302657,28.333333333333332,103.13449437730155,732.92282265239169,72067.89673779576,null,25804.379658190468]
[null,{"$f":"IF(Values_Entered,B165+1,\"\")","v":149},"2030-03-01",836.05731702969319,864.39065036302657,28.333333333333332,102.09618704521067,733.96112998448257,71333.935607811276,null,25906.47584523568]
[null,{"$f":"IF(Values_Entered,B166+1,\"\")","v":150},"2030-04-01",836.05731702969319,864.39065036302657,28.333333333333332,101.05640877773266,735.00090825196048,70598.934699559322,null,26007.532254013411]
[null,{"$f":"IF(Values_Entered,B167+1,\"\")","v":151},"2030-05-01",836.05731702969319,864.39065036302657,28.333333333333332,100.01515749104237,736.04215953865082,69862.892540020664,null,26107.547411504453]
[null,{"$f":"IF(Values_Entered,B168+1,\"\")","v":152},"2030-06-01",836.05731702969319,864.39065036302657,28.333333333333332,98.97243109836262,737.08488593133052,69125.807654089338,null,26206.519842602815]
[null,{"$f":"IF(Values_Entered,B169+1,\"\")","v":153},"2030-07-01",836.05731702969319,864.39065036302657,28.333333333333332,97.92822750995991,738.12908951973327,68387.678564569607,null,26304.448070112776]
[null,{"$f":"IF(Values_Entered,B170+1,\"\")","v":154},"2030-08-01",836.05731702969319,864.39065036302657,28.333333333333332,96.882544633140284,739.17477239655295,67648.503792173055,null,26401.330614745915]
[null,{"$f":"IF(Values_Entered,B171+1,\"\")","v":155},"2030-09-01",836.05731702969319,864.39065036302657,28.333333333333332,95.835380372245154,740.22193665744805,66908.281855515612,null,26497.165995118161]
[null,{"$f":"IF(Values_Entered,B172+1,\"\")","v":156},"2030-10-01",836.05731702969319,864.39065036302657,28.333333333333332,94.78673262864713,741.27058440104611,66167.011271114563,null,26591.952727746808]
[null,{"$f":"IF(Values_Entered,B173+1,\"\")","v":157},"2030-11-01",836.05731702969319,864.39065036302657,28.333333333333332,93.736599300745638,742.32071772894756,65424.690553385619,null,26685.689327047552]
[null,{"$f":"IF(Values_Entered,B174+1,\"\")","v":158},"2030-12-01",836.05731702969319,864.39065036302657,28.333333333333332,92.684978283962963,743.37233874573019,64681.31821463989,null,26778.374305331516]
[null,{"$f":"IF(Values_Entered,B175+1,\"\")","v":159},"2031-01-01",836.05731702969319,864.39065036302657,28.333333333333332,91.631867470739849,744.42544955895335,63936.892765080935,null,26870.006172802256]
[null,{"$f":"IF(Values_Entered,B176+1,\"\")","v":160},"2031-02-01",836.05731702969319,864.39065036302657,28.333333333333332,90.577264750531342,745.4800522791619,63191.412712801772,null,26960.583437552788]
[null,{"$f":"IF(Values_Entered,B177+1,\"\")","v":161},"2031-03-01",836.05731702969319,864.39065036302657,28.333333333333332,89.521168009802523,746.53614901989067,62444.87656378188,null,27050.104605562592]
[null,{"$f":"IF(Values_Entered,B178+1,\"\")","v":162},"2031-04-01",836.05731702969319,864.39065036302657,28.333333333333332,88.463575132024332,747.59374189766891,61697.282821884211,null,27138.568180694616]
[null,{"$f":"IF(Values_Entered,B179+1,\"\")","v":163},"2031-05-01",836.05731702969319,864.39065036302657,28.333333333333332,87.404483997669317,748.65283303202386,60948.62998885219,null,27225.972664692286]
[null,{"$f":"IF(Values_Entered,B180+1,\"\")","v":164},"2031-06-01",836.05731702969319,864.39065036302657,28.333333333333332,86.343892484207274,749.71342454548596,60198.916564306703,null,27312.316557176495]
[null,{"$f":"IF(Values_Entered,B181+1,\"\")","v":165},"2031-07-01",836.05731702969319,864.39065036302657,28.333333333333332,85.281798466101165,750.77551856359207,59448.141045743112,null,27397.598355642596]
[null,{"$f":"IF(Values_Entered,B182+1,\"\")","v":166},"2031-08-01",836.05731702969319,864.39065036302657,28.333333333333332,84.218199814802745,751.83911721489039,58696.301928528221,null,27481.816555457401]
[null,{"$f":"IF(Values_Entered,B183+1,\"\")","v":167},"2031-09-01",836.05731702969319,864.39065036302657,28.333333333333332,83.153094398748323,752.9042226309449,57943.397705897274,null,27564.96964985615]
[null,{"$f":"IF(Values_Entered,B184+1,\"\")","v":168},"2031-10-01",836.05731702969319,864.39065036302657,28.333333333333332,82.086480083354473,753.97083694633875,57189.426868950934,null,27647.056129939505]
[null,{"$f":"IF(Values_Entered,B185+1,\"\")","v":169},"2031-11-01",836.05731702969319,864.39065036302657,28.333333333333332,81.018354731013829,755.03896229867939,56434.387906652257,null,27728.07448467052]
[null,{"$f":"IF(Values_Entered,B186+1,\"\")","v":170},"2031-12-01",836.05731702969319,864.39065036302657,28.333333333333332,79.948716201090704,756.10860082860245,55678.279305823657,null,27808.023200871612]
[null,{"$f":"IF(Values_Entered,B187+1,\"\")","v":171},"2032-01-01",836.05731702969319,864.39065036302657,28.333333333333332,78.877562349916857,757.17975467977635,54921.099551143881,null,27886.900763221529]
[null,{"$f":"IF(Values_Entered,B188+1,\"\")","v":172},"2032-02-01",836.05731702969319,864.39065036302657,28.333333333333332,77.804891030787175,758.25242599890601,54162.847125144974,null,27964.705654252317]
[null,{"$f":"IF(Values_Entered,B189+1,\"\")","v":173},"2032-03-01",836.05731702969319,864.39065036302657,28.333333333333332,76.730700093955377,759.32661693573777,53403.520508209236,null,28041.436354346271]
[null,{"$f":"IF(Values_Entered,B190+1,\"\")","v":174},"2032-04-01",836.05731702969319,864.39065036302657,28.333333333333332,75.654987386629756,760.40232964306347,52643.118178566176,null,28117.091341732903]
[null,{"$f":"IF(Values_Entered,B191+1,\"\")","v":175},"2032-05-01",836.05731702969319,864.39065036302657,28.333333333333332,74.577750752968754,761.47956627672443,51881.638612289455,null,28191.66909248587]
[null,{"$f":"IF(Values_Entered,B192+1,\"\")","v":176},"2032-06-01",836.05731702969319,864.39065036302657,28.333333333333332,73.498988034076731,762.55832899561642,51119.080283293835,null,28265.168080519947]
[null,{"$f":"IF(Values_Entered,B193+1,\"\")","v":177},"2032-07-01",836.05731702969319,864.39065036302657,28.333333333333332,72.418697067999602,763.63861996169362,50355.441663332138,null,28337.586777587945]
[null,{"$f":"IF(Values_Entered,B194+1,\"\")","v":178},"2032-08-01",836.05731702969319,864.39065036302657,28.333333333333332,71.336875689720543,764.72044133997269,49590.721221992164,null,28408.923653277667]
[null,{"$f":"IF(Values_Entered,B195+1,\"\")","v":179},"2032-09-01",836.05731702969319,864.39065036302657,28.333333333333332,70.253521731155573,765.80379529853758,48824.917426693624,null,28479.177175008823]
[null,{"$f":"IF(Values_Entered,B196+1,\"\")","v":180},"2032-10-01",836.05731702969319,864.39065036302657,28.333333333333332,69.168633021149304,766.88868400854392,48058.028742685077,null,28548.345808029972]
[null,{"$f":"IF(Values_Entered,B197+1,\"\")","v":181},"2032-11-01",836.05731702969319,864.39065036302657,28.333333333333332,68.082207385470539,767.9751096442227,47290.053633040858,null,28616.42801541544]
[null,{"$f":"IF(Values_Entered,B198+1,\"\")","v":182},"2032-12-01",836.05731702969319,864.39065036302657,28.333333333333332,66.994242646807891,769.06307438288536,46520.99055865797,null,28683.422258062248]
[null,{"$f":"IF(Values_Entered,B199+1,\"\")","v":183},"2033-01-01",836.05731702969319,864.39065036302657,28.333333333333332,65.904736624765462,770.15258040492768,45750.837978253039,null,28749.326994687013]
[null,{"$f":"IF(Values_Entered,B200+1,\"\")","v":184},"2033-02-01",836.05731702969319,864.39065036302657,28.333333333333332,64.813687135858473,771.24362989383474,44979.594348359205,null,28814.140681822872]
[null,{"$f":"IF(Values_Entered,B201+1,\"\")","v":185},"2033-03-01",836.05731702969319,864.39065036302657,28.333333333333332,63.721091993508878,772.33622503618426,44207.258123323023,null,28877.861773816381]
[null,{"$f":"IF(Values_Entered,B202+1,\"\")","v":186},"2033-04-01",836.05731702969319,864.39065036302657,28.333333333333332,62.626949008040953,773.43036802165227,43433.827755301369,null,28940.488722824422]
[null,{"$f":"IF(Values_Entered,B203+1,\"\")","v":187},"2033-05-01",836.05731702969319,864.39065036302657,28.333333333333332,61.531255986676939,774.52606104301628,42659.301694258349,null,29002.019978811099]
[null,{"$f":"IF(Values_Entered,B204+1,\"\")","v":188},"2033-06-01",836.05731702969319,864.39065036302657,28.333333333333332,60.434010733532666,775.62330629616054,41883.678387962187,null,29062.453989544632]
[null,{"$f":"IF(Values_Entered,B205+1,\"\")","v":189},"2033-07-01",836.05731702969319,864.39065036302657,28.333333333333332,59.3352110496131,776.72210598008007,41106.956281982108,null,29121.789200594245]
[null,{"$f":"IF(Values_Entered,B206+1,\"\")","v":190},"2033-08-01",836.05731702969319,864.39065036302657,28.333333333333332,58.234854732807996,777.82246229688519,40329.133819685223,null,29180.024055327052]
[null,{"$f":"IF(Values_Entered,B207+1,\"\")","v":191},"2033-09-01",836.05731702969319,864.39065036302657,28.333333333333332,57.132939577887406,778.92437745180575,39550.209442233419,null,29237.156994904941]
[null,{"$f":"IF(Values_Entered,B208+1,\"\")","v":192},"2033-10-01",836.05731702969319,864.39065036302657,28.333333333333332,56.029463376497347,780.02785365319585,38770.181588580221,null,29293.186458281438]
[null,{"$f":"IF(Values_Entered,B209+1,\"\")","v":193},{"$f":"IF(Pay_Num<>\"\",DATE(YEAR(Loan_Start),MONTH(Loan_Start)+(Pay_Num)*12/Num_Pmt_Per_Year,DAY(Loan_Start)),\"\")","v":"2033-11-01"},{"$f":"Scheduled_Monthly_Payment","v":836.05731702969319},864.39065036302657,28.333333333333332,54.924423917155316,781.13289311253789,37989.048695467682,null,29348.110882198594]
[null,{"$f":"IF(Values_Entered,B210+1,\"\")","v":194},"2033-12-01",836.05731702969319,864.39065036302657,28.333333333333332,{"$f":"I210*Interest_Rate/12","v":53.817818985245886},782.23949804444726,37206.809197423237,null,29401.928701183839]
[null,{"$f":"IF(Values_Entered,B211+1,\"\")","v":195},"2034-01-01",836.05731702969319,{"$f":"D212+F212","v":864.39065036302657},{"$f":"F211","v":28.333333333333332},52.709646363016255,{"$f":"D212-G212","v":783.34767066667689},36423.46152675656,null,{"$f":"K211+G212","v":29454.638347546854}]
[null,{"$f":"IF(Values_Entered,B212+1,\"\")","v":196},"2034-02-01",836.05731702969319,864.39065036302657,28.333333333333332,51.599903829571794,784.45741320012144,{"$f":"MAX(0,I212-H213)","v":35639.004113556439},null,29506.238251376424]
[null,{"$f":"IF(Values_Entered,B213+1,\"\")","v":197},"2034-03-01",836.05731702969319,864.39065036302657,28.333333333333332,50.488589160871619,785.56872786882161,34853.435385687619,null,29556.726840537296]
[null,{"$f":"IF(Values_Entered,B214+1,\"\")","v":198},"2034-04-01",836.05731702969319,864.39065036302657,28.333333333333332,49.37570012972413,786.68161689996907,34066.753768787647,null,29606.10254066702]
[null,{"$f":"IF(Values_Entered,B215+1,\"\")","v":199},"2034-05-01",836.05731702969319,864.39065036302657,28.333333333333332,48.261234505782504,787.79608252391074,33278.957686263733,null,29654.363775172802]
[null,{"$f":"IF(Values_Entered,B216+1,\"\")","v":200},"2034-06-01",836.05731702969319,864.39065036302657,28.333333333333332,47.14519005554029,788.9121269741529,32490.045559289581,null,29701.508965228342]
[null,{"$f":"IF(Values_Entered,B217+1,\"\")","v":201},"2034-07-01",836.05731702969319,864.39065036302657,28.333333333333332,46.027564542326907,790.0297524873663,31700.015806802214,null,29747.53652977067]
[null,{"$f":"IF(Values_Entered,B218+1,\"\")","v":202},"2034-08-01",836.05731702969319,864.39065036302657,28.333333333333332,44.908355726303142,791.14896130339002,30908.866845498822,null,29792.444885496974]
[null,{"$f":"IF(Values_Entered,B219+1,\"\")","v":203},"2034-09-01",836.05731702969319,864.39065036302657,28.333333333333332,43.787561364456671,792.26975566523652,30116.597089833587,null,29836.232446861432]
[null,{"$f":"IF(Values_Entered,B220+1,\"\")","v":204},"2034-10-01",836.05731702969319,864.39065036302657,28.333333333333332,42.665179210597586,793.39213781909564,29323.20495201449,null,29878.89762607203]
[null,{"$f":"IF(Values_Entered,B221+1,\"\")","v":205},"2034-11-01",836.05731702969319,864.39065036302657,28.333333333333332,41.541207015353862,794.51611001433935,28528.688842000152,null,29920.438833087384]
[null,{"$f":"IF(Values_Entered,B222+1,\"\")","v":206},"2034-12-01",836.05731702969319,864.39065036302657,28.333333333333332,40.415642526166884,795.64167450352636,27733.047167496625,null,29960.854475613552]
[null,{"$f":"IF(Values_Entered,B223+1,\"\")","v":207},"2035-01-01",836.05731702969319,864.39065036302657,28.333333333333332,39.288483487286889,796.76883354240636,26936.278333954218,null,30000.142959100838]
[null,{"$f":"IF(Values_Entered,B224+1,\"\")","v":208},"2035-02-01",836.05731702969319,864.39065036302657,28.333333333333332,38.159727639768477,797.89758938992475,26138.380744564292,null,30038.302686740608]
[null,{"$f":"IF(Values_Entered,B225+1,\"\")","v":209},"2035-03-01",836.05731702969319,864.39065036302657,28.333333333333332,37.029372721466082,799.02794430822712,25339.352800256067,null,30075.332059462075]
[null,{"$f":"IF(Values_Entered,B226+1,\"\")","v":210},"2035-04-01",836.05731702969319,864.39065036302657,28.333333333333332,35.89741646702943,800.15990056266378,24539.192899693404,null,30111.229475929104]
[null,{"$f":"IF(Values_Entered,B227+1,\"\")","v":211},"2035-05-01",836.05731702969319,864.39065036302657,28.333333333333332,34.763856607898994,801.29346042179418,23737.899439271609,null,30145.993332537004]
[null,{"$f":"IF(Values_Entered,B228+1,\"\")","v":212},"2035-06-01",836.05731702969319,864.39065036302657,28.333333333333332,33.628690872301448,802.4286261573917,22935.470813114218,null,30179.622023409305]
[null,{"$f":"IF(Values_Entered,B229+1,\"\")","v":213},"2035-07-01",836.05731702969319,864.39065036302657,28.333333333333332,32.491916985245147,803.5654000444481,22131.90541306977,null,30212.113940394549]
[null,{"$f":"IF(Values_Entered,B230+1,\"\")","v":214},"2035-08-01",836.05731702969319,864.39065036302657,28.333333333333332,31.353532668515509,804.70378436117767,21327.201628708593,null,30243.467473063065]
[null,{"$f":"IF(Values_Entered,B231+1,\"\")","v":215},"2035-09-01",836.05731702969319,864.39065036302657,28.333333333333332,30.213535640670511,805.84378138902264,20521.35784731957,null,30273.681008703734]
[null,{"$f":"IF(Values_Entered,B232+1,\"\")","v":216},"2035-10-01",836.05731702969319,864.39065036302657,28.333333333333332,29.07192361703606,806.98539341265712,19714.372453906912,null,30302.752932320771]
[null,{"$f":"IF(Values_Entered,B233+1,\"\")","v":217},"2035-11-01",836.05731702969319,864.39065036302657,28.333333333333332,27.928694309701459,808.12862271999177,18906.243831186919,null,30330.681626630474]
[null,{"$f":"IF(Values_Entered,B234+1,\"\")","v":218},"2035-12-01",836.05731702969319,864.39065036302657,28.333333333333332,26.783845427514805,809.27347160217835,18096.970359584742,null,30357.465472057989]
[null,{"$f":"IF(Values_Entered,B235+1,\"\")","v":219},"2036-01-01",836.05731702969319,864.39065036302657,28.333333333333332,25.637374676078384,810.41994235361483,17286.550417231127,null,30383.102846734069]
[null,{"$f":"IF(Values_Entered,B236+1,\"\")","v":220},"2036-02-01",836.05731702969319,864.39065036302657,28.333333333333332,24.4892797577441,811.56803727194915,16474.982379959176,null,30407.592126491814]
[null,{"$f":"IF(Values_Entered,B237+1,\"\")","v":221},"2036-03-01",836.05731702969319,864.39065036302657,28.333333333333332,23.339558371608835,812.71775865808434,15662.264621301092,null,30430.931684863423]
[null,{"$f":"IF(Values_Entered,B238+1,\"\")","v":222},"2036-04-01",836.05731702969319,864.39065036302657,28.333333333333332,22.188208213509881,813.86910881618337,14848.395512484909,null,30453.119893076931]
[null,{"$f":"IF(Values_Entered,B239+1,\"\")","v":223},"2036-05-01",836.05731702969319,864.39065036302657,28.333333333333332,21.03522697602029,815.02209005367285,14033.373422431236,null,30474.15512005295]
[null,{"$f":"IF(Values_Entered,B240+1,\"\")","v":224},"2036-06-01",836.05731702969319,864.39065036302657,28.333333333333332,19.880612348444252,816.17670468124891,13217.196717749986,null,30494.035732401393]
[null,{"$f":"IF(Values_Entered,B241+1,\"\")","v":225},"2036-07-01",836.05731702969319,864.39065036302657,28.333333333333332,18.724362016812481,817.33295501288069,12399.863762737106,null,30512.760094418205]
[null,{"$f":"IF(Values_Entered,B242+1,\"\")","v":226},"2036-08-01",836.05731702969319,864.39065036302657,28.333333333333332,17.56647366387757,818.49084336581564,11581.37291937129,null,30530.326568082084]
[null,{"$f":"IF(Values_Entered,B243+1,\"\")","v":227},"2036-09-01",836.05731702969319,864.39065036302657,28.333333333333332,16.406944969109329,819.65037206058389,10761.722547310706,null,30546.733513051193]
[null,{"$f":"IF(Values_Entered,B244+1,\"\")","v":228},"2036-10-01",836.05731702969319,864.39065036302657,28.333333333333332,15.24577360869017,820.81154342100308,9940.9110038897034,null,30561.979286659884]
[null,{"$f":"IF(Values_Entered,B245+1,\"\")","v":229},"2036-11-01",836.05731702969319,864.39065036302657,28.333333333333332,14.082957255510415,821.97435977418274,9118.9366441155198,null,30576.062243915396]
[null,{"$f":"IF(Values_Entered,B246+1,\"\")","v":230},"2036-12-01",836.05731702969319,864.39065036302657,28.333333333333332,12.918493579163654,823.13882345052957,8295.7978206649896,null,30588.980737494559]
[null,{"$f":"IF(Values_Entered,B247+1,\"\")","v":231},"2037-01-01",836.05731702969319,864.39065036302657,28.333333333333332,11.752380245942069,824.30493678375115,7471.4928838812384,null,30600.733117740503]
[null,{"$f":"IF(Values_Entered,B248+1,\"\")","v":232},"2037-02-01",836.05731702969319,864.39065036302657,28.333333333333332,10.584614918831756,825.47270211086141,6646.0201817703773,null,30611.317732659336]
[null,{"$f":"IF(Values_Entered,B249+1,\"\")","v":233},"2037-03-01",836.05731702969319,864.39065036302657,28.333333333333332,9.4151952575080351,826.64212177218519,5819.3780599981919,null,30620.732927916844]
[null,{"$f":"IF(Values_Entered,B250+1,\"\")","v":234},"2037-04-01",836.05731702969319,864.39065036302657,28.333333333333332,8.2441189183307717,827.81319811136245,4991.564861886829,null,30628.977046835174]
[null,{"$f":"IF(Values_Entered,B251+1,\"\")","v":235},"2037-05-01",836.05731702969319,864.39065036302657,28.333333333333332,7.0713835543396755,828.98593347535348,4162.5789284114753,null,30636.048430389514]
[null,{"$f":"IF(Values_Entered,B252+1,\"\")","v":236},"2037-06-01",836.05731702969319,864.39065036302657,28.333333333333332,5.8969868152495906,830.16033021444355,3332.4185981970318,null,30641.945417204763]
[null,{"$f":"IF(Values_Entered,B253+1,\"\")","v":237},"2037-07-01",836.05731702969319,864.39065036302657,28.333333333333332,4.7209263474457952,831.33639068224738,2501.0822075147844,null,30646.66634355221]
[null,{"$f":"IF(Values_Entered,B254+1,\"\")","v":238},"2037-08-01",836.05731702969319,864.39065036302657,28.333333333333332,3.5431997939792783,832.51411723571391,1668.5680902790705,null,30650.209543346187]
[null,{"$f":"IF(Values_Entered,B255+1,\"\")","v":239},"2037-09-01",836.05731702969319,864.39065036302657,28.333333333333332,2.3638047945620166,833.69351223513115,834.87457804393932,null,30652.573348140748]
[null,{"$f":"IF(Values_Entered,B256+1,\"\")","v":240},"2037-10-01",836.05731702969319,864.39065036302657,28.333333333333332,1.1827389855622474,834.874578044131,{"$f":"MAX(0,I256-H257)","v":0},null,30653.756087126309]
[null,{"$f":"IF(Values_Entered,B257+1,\"\")","v":241},null,null,null,null,null,null,{"$f":"MAX(0,I257-H258)","v":0},null,30653.756087126309]
[null,{"$f":"IF(Values_Entered,B258+1,\"\")","v":242},null,null,null,null,null,null,{"$f":"MAX(0,I258-H259)","v":0},null,30653.756087126309]
[null,{"$f":"IF(Values_Entered,B259+1,\"\")","v":243},null,null,null,null,null,null,{"$f":"MAX(0,I259-H260)","v":0},null,30653.756087126309]
[null,{"$f":"IF(Values_Entered,B260+1,\"\")","v":244},null,null,null,null,null,null,0,null,30653.756087126309]
[null,{"$f":"IF(Values_Entered,B261+1,\"\")","v":245},null,null,null,null,null,null,0,null,30653.756087126309]
[null,{"$f":"IF(Values_Entered,B262+1,\"\")","v":246},null,null,null,null,null,null,0,null,30653.756087126309]
[null,{"$f":"IF(Values_Entered,B263+1,\"\")","v":247},null,null,null,null,null,null,0,null,30653.756087126309]
[null,{"$f":"IF(Values_Entered,B264+1,\"\")","v":248},null,null,null,null,null,null,0,null,30653.756087126309]
[null,{"$f":"IF(Values_Entered,B265+1,\"\")","v":249},null,null,null,null,null,null,0,null,30653.756087126309]
[null,{"$f":"IF(Values_Entered,B266+1,\"\")","v":250},null,null,null,null,null,null,0,null,30653.756087126309]
[null,{"$f":"IF(Values_Entered,B267+1,\"\")","v":251},null,null,null,null,null,null,0,null,30653.756087126309]
[null,{"$f":"IF(Values_Entered,B268+1,\"\")","v":252},null,null,null,null,null,null,0,null,30653.756087126309]
[null,{"$f":"IF(Values_Entered,B269+1,\"\")","v":253},null,null,null,null,null,null,0,null,30653.756087126309]
[null,{"$f":"IF(Values_Entered,B270+1,\"\")","v":254},null,null,null,null,null,null,0,null,30653.756087126309]
[null,{"$f":"IF(Values_Entered,B271+1,\"\")","v":255},null,null,null,null,null,null,0,null,30653.756087126309]
[null,{"$f":"IF(Values_Entered,B272+1,\"\")","v":256},null,null,null,null,null,null,0,null,30653.756087126309]
[null,{"$f":"IF(Values_Entered,B273+1,\"\")","v":257},null,null,null,null,null,null,0,null,30653.756087126309]
[null,{"$f":"IF(Values_Entered,B274+1,\"\")","v":258},null,null,null,null,null,null,0,null,30653.756087126309]
[null,{"$f":"IF(Values_Entered,B275+1,\"\")","v":259},null,null,null,null,null,null,0,null,{"$f":"K275+G276","v":30653.756087126309}]
[null,{"$f":"IF(Values_Entered,B276+1,\"\")","v":260},null,null,null,null,null,null,0,null,30653.756087126309]
[null,{"$f":"IF(Values_Entered,B277+1,\"\")","v":261},null,null,null,null,null,null,0,null,30653.756087126309]
[null,{"$f":"IF(Values_Entered,B278+1,\"\")","v":262},null,null,null,null,null,null,0,null,30653.756087126309]
[null,{"$f":"IF(Values_Entered,B279+1,\"\")","v":263},null,null,null,null,null,null,0,null,30653.756087126309]
[null,{"$f":"IF(Values_Entered,B280+1,\"\")","v":264},null,null,null,null,null,null,0,null,30653.756087126309]
[null,{"$f":"IF(Values_Entered,B281+1,\"\")","v":265},null,null,null,null,null,null,0,null,30653.756087126309]
[null,{"$f":"IF(Values_Entered,B282+1,\"\")","v":266},null,null,null,null,null,null,0,null,30653.756087126309]
[null,{"$f":"IF(Values_Entered,B283+1,\"\")","v":267},null,null,null,null,null,null,0,null,30653.756087126309]
[null,{"$f":"IF(Values_Entered,B284+1,\"\")","v":268},null,null,null,null,null,null,0,null,30653.756087126309]
[null,{"$f":"IF(Values_Entered,B285+1,\"\")","v":269},null,null,null,null,null,null,0,null,30653.756087126309]
[null,{"$f":"IF(Values_Entered,B286+1,\"\")","v":270},null,null,null,null,null,null,0,null,30653.756087126309]
[null,{"$f":"IF(Values_Entered,B287+1,\"\")","v":271},null,null,null,null,null,null,0,null,30653.756087126309]
[null,{"$f":"IF(Values_Entered,B288+1,\"\")","v":272},null,null,null,null,null,null,0,null,30653.756087126309]
[null,{"$f":"IF(Values_Entered,B289+1,\"\")","v":273},null,null,null,null,null,null,0,null,30653.756087126309]
[null,{"$f":"IF(Values_Entered,B290+1,\"\")","v":274},null,null,null,null,null,null,0,null,30653.756087126309]
[null,{"$f":"IF(Values_Entered,B291+1,\"\")","v":275},null,null,null,null,null,null,0,null,30653.756087126309]
[null,{"$f":"IF(Values_Entered,B292+1,\"\")","v":276},null,null,null,null,null,null,0,null,30653.756087126309]
[null,{"$f":"IF(Values_Entered,B293+1,\"\")","v":277},null,null,null,null,null,null,0,null,30653.756087126309]
[null,{"$f":"IF(Values_Entered,B294+1,\"\")","v":278},null,null,null,null,null,null,0,null,30653.756087126309]
[null,{"$f":"IF(Values_Entered,B295+1,\"\")","v":279},null,null,null,null,null,null,0,null,30653.756087126309]
[null,{"$f":"IF(Values_Entered,B296+1,\"\")","v":280},null,null,null,null,null,null,0,null,30653.756087126309]
[null,{"$f":"IF(Values_Entered,B297+1,\"\")","v":281},null,null,null,null,null,null,0,null,30653.756087126309]
[null,{"$f":"IF(Values_Entered,B298+1,\"\")","v":282},null,null,null,null,null,null,0,null,30653.756087126309]
[null,{"$f":"IF(Values_Entered,B299+1,\"\")","v":283},null,null,null,null,null,null,0,null,30653.756087126309]
[null,{"$f":"IF(Values_Entered,B300+1,\"\")","v":284},null,null,null,null,null,null,0,null,30653.756087126309]
[null,{"$f":"IF(Values_Entered,B301+1,\"\")","v":285},null,null,null,null,null,null,0,null,30653.756087126309]
[null,{"$f":"IF(Values_Entered,B302+1,\"\")","v":286},null,null,null,null,null,null,0,null,30653.756087126309]
[null,{"$f":"IF(Values_Entered,B303+1,\"\")","v":287},null,null,null,null,null,null,0,null,30653.756087126309]
[null,{"$f":"IF(Values_Entered,B304+1,\"\")","v":288},null,null,null,null,null,null,0,null,30653.756087126309]
[null,{"$f":"IF(Values_Entered,B305+1,\"\")","v":289},null,null,null,null,null,null,0,null,30653.756087126309]
[null,{"$f":"IF(Values_Entered,B306+1,\"\")","v":290},null,null,null,null,null,null,0,null,30653.756087126309]
[null,{"$f":"IF(Values_Entered,B307+1,\"\")","v":291},null,null,null,null,null,null,0,null,30653.756087126309]
[null,{"$f":"IF(Values_Entered,B308+1,\"\")","v":292},null,null,null,null,null,null,0,null,30653.756087126309]
[null,{"$f":"IF(Values_Entered,B309+1,\"\")","v":293},null,null,null,null,null,null,0,null,30653.756087126309]
[null,{"$f":"IF(Values_Entered,B310+1,\"\")","v":294},null,null,null,null,null,null,0,null,30653.756087126309]
[null,{"$f":"IF(Values_Entered,B311+1,\"\")","v":295},null,null,null,null,null,null,0,null,30653.756087126309]
[null,{"$f":"IF(Values_Entered,B312+1,\"\")","v":296},null,null,null,null,null,null,0,null,30653.756087126309]
[null,{"$f":"IF(Values_Entered,B313+1,\"\")","v":297},null,null,null,null,null,null,0,null,30653.756087126309]
[null,{"$f":"IF(Values_Entered,B314+1,\"\")","v":298},null,null,null,null,null,null,0,null,30653.756087126309]
[null,{"$f":"IF(Values_Entered,B315+1,\"\")","v":299},null,null,null,null,null,null,0,null,30653.756087126309]
[null,{"$f":"IF(Values_Entered,B316+1,\"\")","v":300},null,null,null,null,null,null,0,null,30653.756087126309]
[null,{"$f":"IF(Values_Entered,B317+1,\"\")","v":301},null,null,null,null,null,null,0]
[null,{"$f":"IF(Values_Entered,B318+1,\"\")","v":302},null,null,null,null,null,null,0]
[null,{"$f":"IF(Values_Entered,B319+1,\"\")","v":303},null,null,null,null,null,null,0]
[null,{"$f":"IF(Values_Entered,B320+1,\"\")","v":304},null,null,null,null,null,null,0]
[null,{"$f":"IF(Values_Entered,B321+1,\"\")","v":305},null,null,null,null,null,null,0]
[null,{"$f":"IF(Values_Entered,B322+1,\"\")","v":306},null,null,null,null,null,null,0]
[null,{"$f":"IF(Values_Entered,B323+1,\"\")","v":307},null,null,null,null,null,null,{"$f":"MAX(0,I323-H324)","v":0}]
[null,{"$f":"IF(Values_Entered,B324+1,\"\")","v":308},null,null,null,null,null,null,0]
[null,{"$f":"IF(Values_Entered,B325+1,\"\")","v":309},null,null,null,null,null,null,0]
[null,{"$f":"IF(Values_Entered,B326+1,\"\")","v":310},null,null,null,null,null,null,0]
[null,{"$f":"IF(Values_Entered,B327+1,\"\")","v":311},null,null,null,null,null,null,0]
[null,{"$f":"IF(Values_Entered,B328+1,\"\")","v":312},null,null,null,null,null,null,0]
[null,{"$f":"IF(Values_Entered,B329+1,\"\")","v":313},null,null,null,null,null,null,0]
[null,{"$f":"IF(Values_Entered,B330+1,\"\")","v":314},null,null,null,null,null,null,0]
[null,{"$f":"IF(Values_Entered,B331+1,\"\")","v":315},null,null,null,null,null,null,0]
[null,{"$f":"IF(Values_Entered,B332+1,\"\")","v":316},null,null,null,null,null,null,0]
[null,{"$f":"IF(Values_Entered,B333+1,\"\")","v":317},null,null,null,null,null,null,0]
[null,{"$f":"IF(Values_Entered,B334+1,\"\")","v":318},null,null,null,null,null,null,0]
[null,{"$f":"IF(Values_Entered,B335+1,\"\")","v":319},null,null,null,null,null,null,0]
[null,{"$f":"IF(Values_Entered,B336+1,\"\")","v":320},null,null,null,null,null,null,0]
[null,{"$f":"IF(Values_Entered,B337+1,\"\")","v":321},null,null,null,null,null,null,0]
[null,{"$f":"IF(Values_Entered,B338+1,\"\")","v":322},null,null,null,null,null,null,0]
[null,{"$f":"IF(Values_Entered,B339+1,\"\")","v":323},null,null,null,null,null,null,0]
[null,{"$f":"IF(Values_Entered,B340+1,\"\")","v":324},null,null,null,null,null,null,0]
[null,{"$f":"IF(Values_Entered,B341+1,\"\")","v":325},null,null,null,null,null,null,0]
[null,{"$f":"IF(Values_Entered,B342+1,\"\")","v":326},null,null,null,null,null,null,0]
[null,{"$f":"IF(Values_Entered,B343+1,\"\")","v":327},null,null,null,null,null,null,0]
[null,{"$f":"IF(Values_Entered,B344+1,\"\")","v":328},null,null,null,null,null,null,0]
[null,{"$f":"IF(Values_Entered,B345+1,\"\")","v":329},null,null,null,null,null,null,0]
[null,{"$f":"IF(Values_Entered,B346+1,\"\")","v":330},null,null,null,null,null,null,0]
[null,{"$f":"IF(Values_Entered,B347+1,\"\")","v":331},null,null,null,null,null,null,0]
[null,{"$f":"IF(Values_Entered,B348+1,\"\")","v":332},null,null,null,null,null,null,0]
[null,{"$f":"IF(Values_Entered,B349+1,\"\")","v":333},null,null,null,null,null,null,0]
[null,{"$f":"IF(Values_Entered,B350+1,\"\")","v":334},null,null,null,null,null,null,0]
[null,{"$f":"IF(Values_Entered,B351+1,\"\")","v":335},null,null,null,null,null,null,0]
[null,{"$f":"IF(Values_Entered,B352+1,\"\")","v":336},null,null,null,null,null,null,0]
[null,{"$f":"IF(Values_Entered,B353+1,\"\")","v":337},null,null,null,null,null,null,0]
[null,{"$f":"IF(Values_Entered,B354+1,\"\")","v":338},null,null,null,null,null,null,0]
[null,{"$f":"IF(Values_Entered,B355+1,\"\")","v":339},null,null,null,null,null,null,0]
[null,{"$f":"IF(Values_Entered,B356+1,\"\")","v":340},null,null,null,null,null,null,0]
[null,{"$f":"IF(Values_Entered,B357+1,\"\")","v":341},null,null,null,null,null,null,0]
[null,{"$f":"IF(Values_Entered,B358+1,\"\")","v":342},null,null,null,null,null,null,0]
[null,{"$f":"IF(Values_Entered,B359+1,\"\")","v":343},null,null,null,null,null,null,0]
[null,{"$f":"IF(Values_Entered,B360+1,\"\")","v":344},null,null,null,null,null,null,0]
[null,{"$f":"IF(Values_Entered,B361+1,\"\")","v":345},null,null,null,null,null,null,0]
[null,{"$f":"IF(Values_Entered,B362+1,\"\")","v":346},null,null,null,null,null,null,0]
[null,{"$f":"IF(Values_Entered,B363+1,\"\")","v":347},null,null,null,null,null,null,0]
[null,{"$f":"IF(Values_Entered,B364+1,\"\")","v":348},null,null,null,null,null,null,0]
[null,{"$f":"IF(Values_Entered,B365+1,\"\")","v":349},null,null,null,null,null,null,0]
[null,{"$f":"IF(Values_Entered,B366+1,\"\")","v":350},null,null,null,null,null,null,0]
[null,{"$f":"IF(Values_Entered,B367+1,\"\")","v":351},null,null,null,null,null,null,0]
[null,{"$f":"IF(Values_Entered,B368+1,\"\")","v":352},null,null,null,null,null,null,0]
[null,{"$f":"IF(Values_Entered,B369+1,\"\")","v":353},null,null,null,null,null,null,0]
[null,{"$f":"IF(Values_Entered,B370+1,\"\")","v":354},null,null,null,null,null,null,0]
[null,{"$f":"IF(Values_Entered,B371+1,\"\")","v":355},null,null,null,null,null,null,0]
[null,{"$f":"IF(Values_Entered,B372+1,\"\")","v":356},null,null,null,null,null,null,0]
[null,{"$f":"IF(Values_Entered,B373+1,\"\")","v":357},null,null,null,null,null,null,0]
[null,{"$f":"IF(Values_Entered,B374+1,\"\")","v":358},null,null,null,null,null,null,0]
[null,{"$f":"IF(Values_Entered,B375+1,\"\")","v":359},null,null,null,null,null,null,0]
[null,{"$f":"IF(Values_Entered,B376+1,\"\")","v":360},null,null,null,null,null,null,0]
[null,{"$f":"IF(Values_Entered,B377+1,\"\")","v":361},null,null,null,null,null,null,0]
[null,{"$f":"IF(Values_Entered,B378+1,\"\")","v":362},null,null,null,null,null,null,0]
[null,{"$f":"IF(Values_Entered,B379+1,\"\")","v":363},null,null,null,null,null,null,0]
[null,{"$f":"IF(Values_Entered,B380+1,\"\")","v":364},null,null,null,null,null,null,0]
[null,{"$f":"IF(Values_Entered,B381+1,\"\")","v":365},null,null,null,null,null,null,0]
[null,{"$f":"IF(Values_Entered,B382+1,\"\")","v":366},null,null,null,null,null,null,0]
[null,{"$f":"IF(Values_Entered,B383+1,\"\")","v":367},null,null,null,null,null,null,0]
[null,{"$f":"IF(Values_Entered,B384+1,\"\")","v":368},null,null,null,null,null,null,0]
[null,{"$f":"IF(Values_Entered,B385+1,\"\")","v":369},null,null,null,null,null,null,0]
[null,{"$f":"IF(Values_Entered,B386+1,\"\")","v":370},null,null,null,null,null,null,0]
[null,{"$f":"IF(Values_Entered,B387+1,\"\")","v":371},null,null,null,null,null,null,{"$f":"MAX(0,I387-H388)","v":0}]
[null,{"$f":"IF(Values_Entered,B388+1,\"\")","v":372},null,null,null,null,null,null,0]
[null,{"$f":"IF(Values_Entered,B389+1,\"\")","v":373},null,null,null,null,null,null,0]
[null,{"$f":"IF(Values_Entered,B390+1,\"\")","v":374},null,null,null,null,null,null,0]
[null,{"$f":"IF(Values_Entered,B391+1,\"\")","v":375},null,null,null,null,null,null,0]
[null,{"$f":"IF(Values_Entered,B392+1,\"\")","v":376},null,null,null,null,null,null,0]
[null,{"$f":"IF(Values_Entered,B393+1,\"\")","v":377},null,null,null,null,null,null,0]
[null,{"$f":"IF(Values_Entered,B394+1,\"\")","v":378},null,null,null,null,null,null,0]
[null,{"$f":"IF(Values_Entered,B395+1,\"\")","v":379},null,null,null,null,null,null,0]
[null,{"$f":"IF(Values_Entered,B396+1,\"\")","v":380},null,null,null,null,null,null,0]
[null,{"$f":"IF(Values_Entered,B397+1,\"\")","v":381},null,null,null,null,null,null,0]
[null,{"$f":"IF(Values_Entered,B398+1,\"\")","v":382},null,null,null,null,null,null,0]
[null,{"$f":"IF(Values_Entered,B399+1,\"\")","v":383},null,null,null,null,null,null,0]
[null,{"$f":"IF(Values_Entered,B400+1,\"\")","v":384},null,null,null,null,null,null,0]
[null,{"$f":"IF(Values_Entered,B401+1,\"\")","v":385},null,null,null,null,null,null,0]
[null,{"$f":"IF(Values_Entered,B402+1,\"\")","v":386},null,null,null,null,null,null,0]
[null,{"$f":"IF(Values_Entered,B403+1,\"\")","v":387},null,null,null,null,null,null,0]
[null,{"$f":"IF(Values_Entered,B404+1,\"\")","v":388},null,null,null,null,null,null,0]
[null,{"$f":"IF(Values_Entered,B405+1,\"\")","v":389},null,null,null,null,null,null,0]
[null,{"$f":"IF(Values_Entered,B406+1,\"\")","v":390},null,null,null,null,null,null,0]
[null,{"$f":"IF(Values_Entered,B407+1,\"\")","v":391},null,null,null,null,null,null,0]
[null,{"$f":"IF(Values_Entered,B408+1,\"\")","v":392},null,null,null,null,null,null,0]
[null,{"$f":"IF(Values_Entered,B409+1,\"\")","v":393},null,null,null,null,null,null,0]
[null,{"$f":"IF(Values_Entered,B410+1,\"\")","v":394},null,null,null,null,null,null,0]
[null,{"$f":"IF(Values_Entered,B411+1,\"\")","v":395},null,null,null,null,null,null,0]
[null,{"$f":"IF(Values_Entered,B412+1,\"\")","v":396},null,null,null,null,null,null,0]
[null,{"$f":"IF(Values_Entered,B413+1,\"\")","v":397},null,null,null,null,null,null,0]
[null,{"$f":"IF(Values_Entered,B414+1,\"\")","v":398},null,null,null,null,null,null,0]
[null,{"$f":"IF(Values_Entered,B415+1,\"\")","v":399},null,null,null,null,null,null,0]
[null,{"$f":"IF(Values_Entered,B416+1,\"\")","v":400},null,null,null,null,null,null,0]
[null,{"$f":"IF(Values_Entered,B417+1,\"\")","v":401},null,null,null,null,null,null,0]
[null,{"$f":"IF(Values_Entered,B418+1,\"\")","v":402},null,null,null,null,null,null,0]
[null,{"$f":"IF(Values_Entered,B419+1,\"\")","v":403},null,null,null,null,null,null,0]
[null,{"$f":"IF(Values_Entered,B420+1,\"\")","v":404},null,null,null,null,null,null,0]
[null,{"$f":"IF(Values_Entered,B421+1,\"\")","v":405},null,null,null,null,null,null,0]
[null,{"$f":"IF(Values_Entered,B422+1,\"\")","v":406},null,null,null,null,null,null,0]
[null,{"$f":"IF(Values_Entered,B423+1,\"\")","v":407},null,null,null,null,null,null,0]
[null,{"$f":"IF(Values_Entered,B424+1,\"\")","v":408},null,null,null,null,null,null,0]
[null,{"$f":"IF(Values_Entered,B425+1,\"\")","v":409},null,null,null,null,null,null,0]
[null,{"$f":"IF(Values_Entered,B426+1,\"\")","v":410},null,null,null,null,null,null,0]
[null,{"$f":"IF(Values_Entered,B427+1,\"\")","v":411},null,null,null,null,null,null,0]
[null,{"$f":"IF(Values_Entered,B428+1,\"\")","v":412},null,null,null,null,null,null,0]
[null,{"$f":"IF(Values_Entered,B429+1,\"\")","v":413},null,null,null,null,null,null,0]
[null,{"$f":"IF(Values_Entered,B430+1,\"\")","v":414},null,null,null,null,null,null,0]
[null,{"$f":"IF(Values_Entered,B431+1,\"\")","v":415},null,null,null,null,null,null,0]
[null,{"$f":"IF(Values_Entered,B432+1,\"\")","v":416},null,null,null,null,null,null,0]
[null,{"$f":"IF(Values_Entered,B433+1,\"\")","v":417},null,null,null,null,null,null,0]
[null,{"$f":"IF(Values_Entered,B434+1,\"\")","v":418},null,null,null,null,null,null,0]
[null,{"$f":"IF(Values_Entered,B435+1,\"\")","v":419},null,null,null,null,null,null,0]
[null,{"$f":"IF(Values_Entered,B436+1,\"\")","v":420},null,null,null,null,null,null,0]
[null,{"$f":"IF(Values_Entered,B437+1,\"\")","v":421},null,null,null,null,null,null,0]
[null,{"$f":"IF(Values_Entered,B438+1,\"\")","v":422},null,null,null,null,null,null,0]
[null,{"$f":"IF(Values_Entered,B439+1,\"\")","v":423},null,null,null,null,null,null,0]
[null,{"$f":"IF(Values_Entered,B440+1,\"\")","v":424},null,null,null,null,null,null,0]
[null,{"$f":"IF(Values_Entered,B441+1,\"\")","v":425},null,null,null,null,null,null,0]
[null,{"$f":"IF(Values_Entered,B442+1,\"\")","v":426},null,null,null,null,null,null,0]
[null,{"$f":"IF(Values_Entered,B443+1,\"\")","v":427},null,null,null,null,null,null,0]
[null,{"$f":"IF(Values_Entered,B444+1,\"\")","v":428},null,null,null,null,null,null,0]
[null,{"$f":"IF(Values_Entered,B445+1,\"\")","v":429},null,null,null,null,null,null,0]
[null,{"$f":"IF(Values_Entered,B446+1,\"\")","v":430},null,null,null,null,null,null,0]
[null,{"$f":"IF(Values_Entered,B447+1,\"\")","v":431},null,null,null,null,null,null,0]
[null,{"$f":"IF(Values_Entered,B448+1,\"\")","v":432},null,null,null,null,null,null,0]
[null,{"$f":"IF(Values_Entered,B449+1,\"\")","v":433},null,null,null,null,null,null,0]
[null,{"$f":"IF(Values_Entered,B450+1,\"\")","v":434},null,null,null,null,null,null,0]
[null,{"$f":"IF(Values_Entered,B451+1,\"\")","v":435},null,null,null,null,null,null,{"$f":"MAX(0,I451-H452)","v":0}]
[null,{"$f":"IF(Values_Entered,B452+1,\"\")","v":436},null,null,null,null,null,null,0]
[null,{"$f":"IF(Values_Entered,B453+1,\"\")","v":437},null,null,null,null,null,null,0]
[null,{"$f":"IF(Values_Entered,B454+1,\"\")","v":438},null,null,null,null,null,null,0]
[null,{"$f":"IF(Values_Entered,B455+1,\"\")","v":439},null,null,null,null,null,null,0]
[null,{"$f":"IF(Values_Entered,B456+1,\"\")","v":440},null,null,null,null,null,null,0]
[null,{"$f":"IF(Values_Entered,B457+1,\"\")","v":441},null,null,null,null,null,null,0]
[null,{"$f":"IF(Values_Entered,B458+1,\"\")","v":442},null,null,null,null,null,null,0]
[null,{"$f":"IF(Values_Entered,B459+1,\"\")","v":443},null,null,null,null,null,null,0]
[null,{"$f":"IF(Values_Entered,B460+1,\"\")","v":444},null,null,null,null,null,null,0]
[null,{"$f":"IF(Values_Entered,B461+1,\"\")","v":445},null,null,null,null,null,null,0]
[null,{"$f":"IF(Values_Entered,B462+1,\"\")","v":446},null,null,null,null,null,null,0]
[null,{"$f":"IF(Values_Entered,B463+1,\"\")","v":447},null,null,null,null,null,null,0]
[null,{"$f":"IF(Values_Entered,B464+1,\"\")","v":448},null,null,null,null,null,null,0]
[null,{"$f":"IF(Values_Entered,B465+1,\"\")","v":449},null,null,null,null,null,null,0]
[null,{"$f":"IF(Values_Entered,B466+1,\"\")","v":450},null,null,null,null,null,null,0]
[null,{"$f":"IF(Values_Entered,B467+1,\"\")","v":451},null,null,null,null,null,null,0]
[null,{"$f":"IF(Values_Entered,B468+1,\"\")","v":452},null,null,null,null,null,null,0]
[null,{"$f":"IF(Values_Entered,B469+1,\"\")","v":453},null,null,null,null,null,null,0]
[null,{"$f":"IF(Values_Entered,B470+1,\"\")","v":454},null,null,null,null,null,null,0]
[null,{"$f":"IF(Values_Entered,B471+1,\"\")","v":455},null,null,null,null,null,null,0]
[null,{"$f":"IF(Values_Entered,B472+1,\"\")","v":456},null,null,null,null,null,null,0]
[null,{"$f":"IF(Values_Entered,B473+1,\"\")","v":457},null,null,null,null,null,null,0]
[null,{"$f":"IF(Values_Entered,B474+1,\"\")","v":458},null,null,null,null,null,null,0]
[null,{"$f":"IF(Values_Entered,B475+1,\"\")","v":459},null,null,null,null,null,null,0]
[null,{"$f":"IF(Values_Entered,B476+1,\"\")","v":460},null,null,null,null,null,null,0]
[null,{"$f":"IF(Values_Entered,B477+1,\"\")","v":461},null,null,null,null,null,null,0]
[null,{"$f":"IF(Values_Entered,B478+1,\"\")","v":462},null,null,null,null,null,null,0]
[null,{"$f":"IF(Values_Entered,B479+1,\"\")","v":463},null,null,null,null,null,null,0]
[null,{"$f":"IF(Values_Entered,B480+1,\"\")","v":464},null,null,null,null,null,null,0]
[null,{"$f":"IF(Values_Entered,B481+1,\"\")","v":465},null,null,null,null,null,null,0]
[null,{"$f":"IF(Values_Entered,B482+1,\"\")","v":466},null,null,null,null,null,null,0]
[null,{"$f":"IF(Values_Entered,B483+1,\"\")","v":467},null,null,null,null,null,null,0]
[null,{"$f":"IF(Values_Entered,B484+1,\"\")","v":468},null,null,null,null,null,null,0]
[null,{"$f":"IF(Values_Entered,B485+1,\"\")","v":469},null,null,null,null,null,null,0]
[null,{"$f":"IF(Values_Entered,B486+1,\"\")","v":470},null,null,null,null,null,null,0]
[null,{"$f":"IF(Values_Entered,B487+1,\"\")","v":471},null,null,null,null,null,null,0]
[null,{"$f":"IF(Values_Entered,B488+1,\"\")","v":472},null,null,null,null,null,null,0]
[null,{"$f":"IF(Values_Entered,B489+1,\"\")","v":473},null,null,null,null,null,null,0]
[null,{"$f":"IF(Values_Entered,B490+1,\"\")","v":474},null,null,null,null,null,null,0]
[null,{"$f":"IF(Values_Entered,B491+1,\"\")","v":475},null,null,null,null,null,null,0]
[null,{"$f":"IF(Values_Entered,B492+1,\"\")","v":476},null,null,null,null,null,null,0]
[null,{"$f":"IF(Values_Entered,B493+1,\"\")","v":477},null,null,null,null,null,null,0]
[null,{"$f":"IF(Values_Entered,B494+1,\"\")","v":478},null,null,null,null,null,null,0]
[null,{"$f":"IF(Values_Entered,B495+1,\"\")","v":479},null,null,null,null,null,null,0]
[null,{"$f":"IF(Values_Entered,B496+1,\"\")","v":480},null,null,null,null,null,null,0]
[null,{"$f":"IF(Values_Entered,B497+1,\"\")","v":481},null,null,null,null,null,null,0]
[null,{"$f":"IF(Values_Entered,B498+1,\"\")","v":482},null,null,null,null,null,null,0]
[null,{"$f":"IF(Values_Entered,B499+1,\"\")","v":483},null,null,null,null,null,null,0]
[null,{"$f":"IF(Values_Entered,B500+1,\"\")","v":484},null,null,null,null,null,null,0]
[null,{"$f":"IF(Values_Entered,B501+1,\"\")","v":485},null,null,null,null,null,null,0]
[null,{"$f":"IF(Values_Entered,B502+1,\"\")","v":486},null,null,null,null,null,null,0]
[null,{"$f":"IF(Values_Entered,B503+1,\"\")","v":487},null,null,null,null,null,null,0]
[null,{"$f":"IF(Values_Entered,B504+1,\"\")","v":488},null,null,null,null,null,null,0]
[null,{"$f":"IF(Values_Entered,B505+1,\"\")","v":489},null,null,null,null,null,null,0]
[null,{"$f":"IF(Values_Entered,B506+1,\"\")","v":490},null,null,null,null,null,null,0]
[null,{"$f":"IF(Values_Entered,B507+1,\"\")","v":491},null,null,null,null,null,null,0]
[null,{"$f":"IF(Values_Entered,B508+1,\"\")","v":492},null,null,null,null,null,null,0]
[null,{"$f":"IF(Values_Entered,B509+1,\"\")","v":493},null,null,null,null,null,null,0]
[null,{"$f":"IF(Values_Entered,B510+1,\"\")","v":494},null,null,null,null,null,null,0]
[null,{"$f":"IF(Values_Entered,B511+1,\"\")","v":495},null,null,null,null,null,null,0]
[null,{"$f":"IF(Values_Entered,B512+1,\"\")","v":496},null,null,null,null,null,null,0]
[null,{"$f":"IF(Values_Entered,B513+1,\"\")","v":497},null,null,null,null,null,null,0]
[null,{"$f":"IF(Values_Entered,B514+1,\"\")","v":498},null,null,null,null,null,null,0]
[null,{"$f":"IF(Values_Entered,B515+1,\"\")","v":499},null,null,null,null,null,null,{"$f":"MAX(0,I515-H516)","v":0}]
[null,{"$f":"IF(Values_Entered,B516+1,\"\")","v":500},null,null,null,null,null,null,0]

{"sheet":"Tableau d'amortissement B","index":23,"n_rows":517,"n_cols":12,"rows_kept":517,"cut":false,"hidden":false,"merged":[[8,9,8,10],[1,3,1,12],[5,9,5,11],[6,9,6,10],[7,9,7,10]]}
[]
[null,null,null,"TABLEAU D'AMORTISSEMENT B (Crédit investissement locatif)"]
[]
[]
[]
[null,null,"Caractéristiques du prêt:",null,null,null,null,null,null,"Synthèse des éléments fournis :"]
[null,null,"Montant du prêt",null,null,null,null,{"$f":"Profil_Investisseur!E126","v":200000},null,"Mensualité (hors assurances)",null,{"$f":"IF(H11,-PMT(H8/H10,H9*H10,H7),\"\")","v":965.09081776390508}]
[null,null,"Taux d'intérêt annuel",null,null,null,null,{"$f":"Profil_Investisseur!G125","v":1.4999999999999999E-2},null,"Nombre de mensualités prévues",null,{"$f":"H9*H10","v":240}]
[null,null,"Durée du prêt en années",null,null,null,null,{"$f":"Profil_Investisseur!H124","v":20},null,"Montant des intérêts",null,{"$f":"H10*H9*L7-H7","v":31621.796263337223}]
[null,null,"Nombre de versements par an",null,null,null,null,{"$f":"12","v":12}]
[null,null,"Date de début de l'emprunt",null,null,null,null,{"$f":"Profil_Investisseur!F126","v":"2010-10-01"},null,null,null,{"$f":"L7*L8","v":231621.79626333722}]
[null,null,null,null,null,null,null,null,null,null,null,{"$f":"L11-H7","v":31621.796263337223}]
[]
[]
[]
[]
[null,"Mensualilté n°","Date du versement","Montant mensualité (Hors assurances)","Montant mensualité (Assurances comprises)","Frais annexes (Assurances)","Intérêts remboursés","Capital remboursé (amortissement)","Capital restant dû",null,"Intérêts cumulés"]
[null,1,{"$f":"IF($B$18:$B$517<>\"\",DATE(YEAR($H$11),MONTH($H$11)+($B$18:$B$517)*12/$H$10,DAY($H$11)),\"\")","v":"2010-11-01"},{"$f":"$L$7","v":965.09081776390508},{"$f":"D18+F18","v":998.42415109723845},{"$f":"(H7*Profil_Investisseur!J123)/12","v":33.333333333333336},{"$f":"H7*H8/12","v":250},{"$f":"D18-G18","v":715.09081776390508},{"$f":"MAX(0,H7-H18)","v":199284.90918223609},null,{"$f":"G18","v":250}]
[null,2,"2010-12-01",{"$f":"$L$7","v":965.09081776390508},{"$f":"D19+F19","v":998.42415109723845},{"$f":"F18","v":33.333333333333336},{"$f":"I18*$H$8/12","v":249.1061364777951},{"$f":"D19-G19","v":715.98468128611},{"$f":"MAX(0,I18-H19)","v":198568.92450094997},null,{"$f":"K18+G19","v":499.10613647779508}]
[null,3,"2011-01-01",965.09081776390508,998.42415109723845,{"$f":"F19","v":33.333333333333336},{"$f":"I19*$H$8/12","v":248.21115562618743},{"$f":"D20-G20","v":716.87966213771767},{"$f":"MAX(0,I19-H20)","v":197852.04483881226},null,{"$f":"K19+G20","v":747.31729210398248}]
[null,4,"2011-02-01",965.09081776390508,998.42415109723845,33.333333333333336,247.31505604851532,717.77576171538976,197134.26907709686,null,994.6323481524978]
[null,5,"2011-03-01",965.09081776390508,998.42415109723845,33.333333333333336,246.41783634637105,718.67298141753406,196415.59609567933,null,1241.0501844988689]
[null,6,"2011-04-01",965.09081776390508,998.42415109723845,33.333333333333336,245.51949511959916,719.57132264430595,195696.02477303502,null,1486.5696796184682]
[null,7,"2011-05-01",965.09081776390508,998.42415109723845,33.333333333333336,244.6200309662938,720.47078679761125,194975.55398623741,null,1731.189710584762]
[null,8,"2011-06-01",965.09081776390508,998.42415109723845,33.333333333333336,243.71944248279678,721.37137528110827,194254.18261095631,null,1974.9091530675587]
[null,9,"2011-07-01",965.09081776390508,998.42415109723845,33.333333333333336,242.81772826369539,722.27308950020972,193531.90952145611,null,2217.7268813312539]
[null,10,"2011-08-01",965.09081776390508,998.42415109723845,33.333333333333336,241.91488690182015,723.1759308620849,192808.73359059403,null,2459.6417682330739]
[null,11,"2011-09-01",965.09081776390508,998.42415109723845,33.333333333333336,241.01091698824254,724.07990077566251,192084.65368981837,null,2700.6526852213165]
[null,12,"2011-10-01",965.09081776390508,998.42415109723845,33.333333333333336,240.10581711227294,724.98500065163216,191359.66868916675,null,2940.7585023335896]
[null,13,"2011-11-01",965.09081776390508,998.42415109723845,33.333333333333336,239.19958586145844,725.89123190244663,190633.77745726431,null,3179.9580881950478]
[null,14,"2011-12-01",965.09081776390508,998.42415109723845,33.333333333333336,238.29222182158037,726.79859594232471,189906.97886132199,null,3418.2503100166282]
[null,15,"2012-01-01",965.09081776390508,998.42415109723845,33.333333333333336,237.3837235766525,727.70709418725255,189179.27176713472,null,3655.6340335932805]
[null,16,"2012-02-01",965.09081776390508,998.42415109723845,33.333333333333336,236.4740897089184,728.61672805498665,188450.65503907972,null,3892.1081233021987]
[null,17,"2012-03-01",965.09081776390508,998.42415109723845,33.333333333333336,235.56331879884965,729.52749896505543,187721.12754011466,null,4127.6714421010483]
[null,18,"2012-04-01",965.09081776390508,998.42415109723845,33.333333333333336,234.65140942514333,730.43940833876172,186990.68813177588,null,4362.3228515261917]
[null,19,"2012-05-01",965.09081776390508,998.42415109723845,33.333333333333336,233.73836016471986,731.35245759918519,186259.33567417669,null,4596.0612116909115]
[null,20,"2012-06-01",965.09081776390508,998.42415109723845,33.333333333333336,232.82416959272086,732.26664817118422,185527.06902600551,null,4828.8853812836323]
[null,21,"2012-07-01",965.09081776390508,998.42415109723845,33.333333333333336,231.90883628250688,733.18198148139822,184793.8870445241,null,5060.7942175661392]
[null,22,"2012-08-01",965.09081776390508,998.42415109723845,33.333333333333336,230.99235880565513,734.09845895824992,184059.78858556587,null,5291.7865763717946]
[null,23,"2012-09-01",965.09081776390508,998.42415109723845,33.333333333333336,230.0747357319573,735.0160820319478,183324.77250353392,null,5521.8613121037515]
[null,24,"2012-10-01",965.09081776390508,998.42415109723845,33.333333333333336,229.15596562941741,735.93485213448764,182588.83765139943,null,5751.0172777331691]
[null,25,"2012-11-01",965.09081776390508,998.42415109723845,33.333333333333336,228.23604706424928,736.85477069965577,181851.98288069977,null,5979.2533247974179]
[null,26,"2012-12-01",965.09081776390508,998.42415109723845,33.333333333333336,227.3149786008747,737.77583916303035,181114.20704153675,null,6206.5683033982923]
[null,27,"2013-01-01",965.09081776390508,998.42415109723845,33.333333333333336,226.39275880192091,738.6980589619842,180375.50898257477,null,6432.9610622002128]
[null,28,"2013-02-01",965.09081776390508,998.42415109723845,33.333333333333336,225.46938622821847,739.62143153568661,179635.88755103908,null,6658.4304484284312]
[null,29,"2013-03-01",965.09081776390508,998.42415109723845,33.333333333333336,224.54485943879885,740.5459583251062,178895.34159271399,null,6882.9753078672302]
[null,30,"2013-04-01",965.09081776390508,998.42415109723845,33.333333333333336,223.61917699089247,741.47164077301261,178153.86995194099,null,7106.594484858123]
[null,31,"2013-05-01",965.09081776390508,998.42415109723845,33.333333333333336,222.69233743992621,742.3984803239789,177411.471471617,null,7329.2868222980496]
[null,32,"2013-06-01",965.09081776390508,998.42415109723845,33.333333333333336,221.76433933952126,743.32647842438382,176668.1449931926,null,7551.0511616375707]
[null,33,"2013-07-01",965.09081776390508,998.42415109723845,33.333333333333336,220.83518124149074,744.25563652241431,175923.8893566702,null,7771.886342879061]
[null,34,"2013-08-01",965.09081776390508,998.42415109723845,33.333333333333336,219.90486169583775,745.1859560680673,175178.70340060213,null,7991.791204574899]
[null,35,"2013-09-01",965.09081776390508,998.42415109723845,33.333333333333336,218.97337925075263,746.11743851315248,174432.58596208898,null,8210.7645838256522]
[null,36,"2013-10-01",965.09081776390508,998.42415109723845,33.333333333333336,218.04073245261122,747.05008531129386,173685.53587677769,null,8428.8053162782635]
[null,37,"2013-11-01",965.09081776390508,998.42415109723845,33.333333333333336,217.1069198459721,747.98389791793295,172937.55197885976,null,8645.9122361242353]
[null,38,"2013-12-01",965.09081776390508,998.42415109723845,33.333333333333336,216.17193997357469,748.91887779033038,172188.63310106943,null,8862.0841760978092]
[null,39,"2014-01-01",965.09081776390508,998.42415109723845,33.333333333333336,215.23579137633678,749.85502638756827,171438.77807468185,null,9077.3199674741463]
[null,40,"2014-02-01",965.09081776390508,998.42415109723845,33.333333333333336,214.29847259335227,750.79234517055284,170687.9857295113,null,9291.6184400674993]
[null,41,"2014-03-01",965.09081776390508,998.42415109723845,33.333333333333336,213.35998216188912,751.73083560201599,169936.2548939093,null,9504.9784222293893]
[null,42,"2014-04-01",965.09081776390508,998.42415109723845,33.333333333333336,212.42031861738658,752.67049914651852,169183.58439476279,null,9717.3987408467765]
[null,43,"2014-05-01",965.09081776390508,998.42415109723845,33.333333333333336,211.47948049345348,753.6113372704516,168429.97305749235,null,9928.8782213402301]
[null,44,"2014-06-01",965.09081776390508,998.42415109723845,33.333333333333336,210.53746632186542,754.55335144203968,167675.41970605031,null,10139.415687662096]
[null,45,"2014-07-01",965.09081776390508,998.42415109723845,33.333333333333336,209.5942746325629,755.49654313134215,166919.92316291897,null,10349.00996229466]
[null,46,"2014-08-01",965.09081776390508,998.42415109723845,33.333333333333336,208.6499039536487,756.44091381025635,166163.48224910873,null,10557.659866248308]
[null,47,"2014-09-01",965.09081776390508,998.42415109723845,33.333333333333336,207.70435281138589,757.38646495251919,165406.0957841562,null,10765.364219059695]
[null,48,"2014-10-01",965.09081776390508,998.42415109723845,33.333333333333336,206.75761973019527,758.33319803370978,164647.7625861225,null,10972.12183878989]
[null,49,"2014-11-01",965.09081776390508,998.42415109723845,33.333333333333336,205.80970323265311,759.281114531252,163888.48147159125,null,11177.931542022543]
[null,50,"2014-12-01",965.09081776390508,998.42415109723845,33.333333333333336,204.86060183948905,760.23021592441603,163128.25125566684,null,11382.792143862032]
[null,51,"2015-01-01",965.09081776390508,998.42415109723845,33.333333333333336,203.91031406958356,761.18050369432149,162367.07075197253,null,11586.702457931617]
[null,52,"2015-02-01",965.09081776390508,998.42415109723845,33.333333333333336,202.95883843996566,762.13197932393939,161604.93877264857,null,11789.661296371582]
[null,53,"2015-03-01",965.09081776390508,998.42415109723845,33.333333333333336,202.00617346581069,763.08464429809442,160841.85412835047,null,11991.667469837392]
[null,54,"2015-04-01",965.09081776390508,998.42415109723845,33.333333333333336,201.05231766043809,764.03850010346696,160077.81562824702,null,12192.71978749783]
[null,55,"2015-05-01",965.09081776390508,998.42415109723845,33.333333333333336,200.09726953530875,764.9935482285963,159312.82208001841,null,12392.817057033139]
[null,56,"2015-06-01",965.09081776390508,998.42415109723845,33.333333333333336,199.14102760002299,765.94979016388208,158546.87228985454,null,12591.958084633161]
[null,57,"2015-07-01",965.09081776390508,998.42415109723845,33.333333333333336,198.18359036231814,766.90722740158697,157779.96506245295,null,12790.141674995479]
[null,58,"2015-08-01",965.09081776390508,998.42415109723845,33.333333333333336,197.22495632806616,767.86586143583895,157012.09920101712,null,12987.366631323544]
[null,59,"2015-09-01",965.09081776390508,998.42415109723845,33.333333333333336,196.26512400127137,768.8256937626337,156243.27350725449,null,13183.631755324815]
[null,60,"2015-10-01",965.09081776390508,998.42415109723845,33.333333333333336,195.30409188406813,769.78672587983692,155473.48678137464,null,13378.935847208884]
[null,61,"2015-11-01",965.09081776390508,998.42415109723845,33.333333333333336,194.34185847671827,770.74895928718684,154702.73782208745,null,13573.277705685603]
[null,62,"2015-12-01",965.09081776390508,998.42415109723845,33.333333333333336,193.3784222776093,771.7123954862958,153931.02542660115,null,13766.656127963211]
[null,63,"2016-01-01",965.09081776390508,998.42415109723845,33.333333333333336,192.41378178325144,772.67703598065361,153158.34839062049,null,13959.069909746462]
[null,64,"2016-02-01",965.09081776390508,998.42415109723845,33.333333333333336,191.44793548827559,773.64288227562952,152384.70550834486,null,14150.517845234737]
[null,65,{"$f":"IF($B$18:$B$517<>\"\",DATE(YEAR($H$11),MONTH($H$11)+($B$18:$B$517)*12/$H$10,DAY($H$11)),\"\")","v":"2016-03-01"},965.09081776390508,998.42415109723845,33.333333333333336,190.48088188543105,774.60993587847406,151610.09557246638,null,14340.998727120168]
[null,66,"2016-04-01",{"$f":"$L$7","v":965.09081776390508},{"$f":"D83+F83","v":998.42415109723845},33.333333333333336,189.51261946558296,775.57819829832215,150834.51737416806,null,14530.51134658575]
[null,67,"2016-05-01",965.09081776390508,998.42415109723845,{"$f":"F83","v":33.333333333333336},{"$f":"I83*$H$8/12","v":188.54314671771007},{"$f":"D84-G84","v":776.54767104619498},{"$f":"MAX(0,I83-H84)","v":150057.96970312187},null,{"$f":"K83+G84","v":14719.05449330346}]
[null,68,"2016-06-01",965.09081776390508,998.42415109723845,33.333333333333336,187.57246212890232,777.51835563500276,149280.45134748687,null,14906.626955432363]
[null,69,"2016-07-01",965.09081776390508,998.42415109723845,33.333333333333336,186.6005641843586,778.49025357954645,148501.96109390733,null,15093.227519616721]
[null,70,"2016-08-01",965.09081776390508,998.42415109723845,33.333333333333336,185.62745136738417,779.46336639652088,147722.49772751081,null,15278.854970984105]
[null,71,"2016-09-01",965.09081776390508,998.42415109723845,33.333333333333336,184.65312215938852,780.43769560451653,146942.06003190629,null,15463.508093143493]
[null,72,"2016-10-01",965.09081776390508,998.42415109723845,33.333333333333336,183.67757503988287,781.41324272402221,146160.64678918227,null,15647.185668183376]
[null,73,"2016-11-01",965.09081776390508,998.42415109723845,33.333333333333336,182.70080848647783,782.39000927742723,145378.25677990486,null,15829.886476669853]
[null,74,"2016-12-01",965.09081776390508,998.42415109723845,33.333333333333336,181.72282097488107,783.36799678902401,144594.88878311584,null,16011.609297644734]
[null,75,"2017-01-01",965.09081776390508,998.42415109723845,33.333333333333336,180.74361097889479,784.34720678501026,143810.54157633081,null,16192.352908623629]
[null,76,"2017-02-01",965.09081776390508,998.42415109723845,33.333333333333336,179.7631769704135,785.32764079349158,143025.21393553732,null,16372.116085594042]
[null,77,"2017-03-01",965.09081776390508,998.42415109723845,33.333333333333336,178.78151741942165,786.3093003444834,142238.90463519283,null,16550.897603013462]
[null,78,"2017-04-01",965.09081776390508,998.42415109723845,33.333333333333336,177.79863079399104,787.29218696991404,141451.61244822291,null,16728.696233807452]
[null,79,"2017-05-01",965.09081776390508,998.42415109723845,33.333333333333336,176.81451556027864,788.27630220362641,140663.33614601928,null,16905.510749367731]
[null,80,"2017-06-01",965.09081776390508,998.42415109723845,33.333333333333336,175.82917018252408,789.261647581381,139874.0744984379,null,17081.339919550257]
[null,81,"2017-07-01",965.09081776390508,998.42415109723845,33.333333333333336,174.84259312304735,790.24822464085776,139083.82627379705,null,17256.182512673306]
[null,82,"2017-08-01",965.09081776390508,998.42415109723845,33.333333333333336,173.85478284224632,791.23603492165876,138292.59023887539,null,17430.037295515551]
[null,83,"2017-09-01",965.09081776390508,998.42415109723845,33.333333333333336,172.86573779859421,792.2250799653109,137500.36515891008,null,17602.903033314145]
[null,84,"2017-10-01",965.09081776390508,998.42415109723845,33.333333333333336,171.87545644863758,793.2153613152675,136707.14979759482,null,17774.778489762783]
[null,85,"2017-11-01",965.09081776390508,998.42415109723845,33.333333333333336,170.8839372469935,794.20688051691161,135912.94291707789,null,17945.662427009775]
[null,86,"2017-12-01",965.09081776390508,998.42415109723845,33.333333333333336,169.89117864634736,795.19963911755769,135117.74327796034,null,18115.553605656121]
[null,87,"2018-01-01",965.09081776390508,998.42415109723845,33.333333333333336,168.89717909745042,796.19363866645472,134321.54963929389,null,18284.450784753571]
[null,88,"2018-02-01",965.09081776390508,998.42415109723845,33.333333333333336,167.90193704911738,797.18888071478773,133524.3607585791,null,18452.35272180269]
[null,89,"2018-03-01",965.09081776390508,998.42415109723845,33.333333333333336,166.90545094822389,798.18536681568116,132726.17539176342,null,18619.258172750913]
[null,90,"2018-04-01",965.09081776390508,998.42415109723845,33.333333333333336,165.90771923970428,799.18309852420077,131926.99229323922,null,18785.165891990619]
[null,91,"2018-05-01",965.09081776390508,998.42415109723845,33.333333333333336,164.90874036654904,800.18207739735601,131126.81021584186,null,18950.074632357169]
[null,92,"2018-06-01",965.09081776390508,998.42415109723845,33.333333333333336,163.90851276980231,801.18230499410276,130325.62791084776,null,19113.983145126971]
[null,93,"2018-07-01",965.09081776390508,998.42415109723845,33.333333333333336,162.90703488855971,802.1837828753454,129523.44412797241,null,19276.890180015529]
[null,94,"2018-08-01",965.09081776390508,998.42415109723845,33.333333333333336,161.9043051599655,803.1865126039396,128720.25761536848,null,19438.794485175495]
[null,95,"2018-09-01",965.09081776390508,998.42415109723845,33.333333333333336,160.90032201921059,804.19049574469454,127916.06711962378,null,19599.694807194704]
[null,96,"2018-10-01",965.09081776390508,998.42415109723845,33.333333333333336,159.89508389952974,805.19573386437537,127110.87138575941,null,19759.589891094234]
[null,97,"2018-11-01",965.09081776390508,998.42415109723845,33.333333333333336,158.88858923219925,806.20222853170583,126304.6691572277,null,19918.478480326434]
[null,98,"2018-12-01",965.09081776390508,998.42415109723845,33.333333333333336,157.88083644653463,807.20998131737042,125497.45917591034,null,20076.359316772967]
[null,99,"2019-01-01",965.09081776390508,998.42415109723845,33.333333333333336,156.87182396988791,808.21899379401714,124689.24018211632,null,20233.231140742853]
[null,100,"2019-02-01",965.09081776390508,998.42415109723845,33.333333333333336,155.86155022764538,809.22926753625973,123880.01091458007,null,20389.092690970498]
[null,101,"2019-03-01",965.09081776390508,998.42415109723845,33.333333333333336,154.85001364322508,810.24080412067997,123069.77011045939,null,20543.942704613724]
[null,102,"2019-04-01",965.09081776390508,998.42415109723845,33.333333333333336,153.83721263807422,811.25360512583086,122258.51650533355,null,20697.779917251799]
[null,103,"2019-05-01",965.09081776390508,998.42415109723845,33.333333333333336,152.82314563166693,812.2676721322382,121446.24883320132,null,20850.603062883467]
[null,104,"2019-06-01",965.09081776390508,998.42415109723845,33.333333333333336,151.80781104150165,813.28300672240346,120632.96582647892,null,21002.410873924968]
[null,105,"2019-07-01",965.09081776390508,998.42415109723845,33.333333333333336,150.79120728309866,814.29961048080645,119818.66621599811,null,21153.202081208066]
[null,106,"2019-08-01",965.09081776390508,998.42415109723845,33.333333333333336,149.77333276999761,815.31748499390744,119003.3487310042,null,21302.975413978063]
[null,107,"2019-09-01",965.09081776390508,998.42415109723845,33.333333333333336,148.75418591375524,816.33663185014984,118187.01209915405,null,21451.72959989182]
[null,108,"2019-10-01",965.09081776390508,998.42415109723845,33.333333333333336,147.73376512394256,817.35705263996249,117369.65504651409,null,21599.463365015763]
[null,109,"2019-11-01",965.09081776390508,998.42415109723845,33.333333333333336,146.71206880814262,818.37874895576249,116551.27629755833,null,21746.175433823904]
[null,110,"2019-12-01",965.09081776390508,998.42415109723845,33.333333333333336,145.6890953719479,819.40172239195715,115731.87457516638,null,21891.864529195853]
[null,111,"2020-01-01",965.09081776390508,998.42415109723845,33.333333333333336,144.66484321895797,820.42597454494717,114911.44860062143,null,22036.52937241481]
[null,112,"2020-02-01",965.09081776390508,998.42415109723845,33.333333333333336,143.63931075077679,821.45150701312832,114089.9970936083,null,22180.168683165586]
[null,113,"2020-03-01",965.09081776390508,998.42415109723845,33.333333333333336,142.61249636701038,822.47832139689467,113267.51877221141,null,22322.781179532598]
[null,114,"2020-04-01",965.09081776390508,998.42415109723845,33.333333333333336,141.58439846526426,823.50641929864082,112444.01235291276,null,22464.365577997862]
[null,115,"2020-05-01",965.09081776390508,998.42415109723845,33.333333333333336,140.55501544114094,824.53580232276408,111619.47655059,null,22604.920593439001]
[null,116,"2020-06-01",965.09081776390508,998.42415109723845,33.333333333333336,139.5243456882375,825.56647207566755,110793.91007851434,null,22744.444939127239]
[null,117,"2020-07-01",965.09081776390508,998.42415109723845,33.333333333333336,138.49238759814293,826.59843016576212,109967.31164834858,null,22882.937326725383]
[null,118,"2020-08-01",965.09081776390508,998.42415109723845,33.333333333333336,137.45913956043572,827.63167820346939,109139.67997014511,null,23020.39646628582]
[null,119,"2020-09-01",965.09081776390508,998.42415109723845,33.333333333333336,136.42459996268138,828.66621780122364,108311.01375234389,null,23156.8210662485]
[null,120,"2020-10-01",965.09081776390508,998.42415109723845,33.333333333333336,135.38876719042986,829.70205057347516,107481.31170177042,null,23292.20983343893]
[null,121,"2020-11-01",965.09081776390508,998.42415109723845,33.333333333333336,134.35163962721302,830.73917813669209,106650.57252363373,null,23426.561473066144]
[null,122,"2020-12-01",965.09081776390508,998.42415109723845,33.333333333333336,133.31321565454218,831.77760210936287,105818.79492152437,null,23559.874688720687]
[null,123,"2021-01-01",965.09081776390508,998.42415109723845,33.333333333333336,132.27349365190545,832.8173241119996,104985.97759741238,null,23692.148182372592]
[null,124,"2021-02-01",965.09081776390508,998.42415109723845,33.333333333333336,131.23247199676547,833.85834576713955,104152.11925164524,null,23823.380654369357]
[null,125,"2021-03-01",965.09081776390508,998.42415109723845,33.333333333333336,130.19014906455655,834.90066869934856,103317.21858294589,null,23953.570803433915]
[null,126,"2021-04-01",965.09081776390508,998.42415109723845,33.333333333333336,129.14652322868236,835.94429453522275,102481.27428841067,null,24082.717326662598]
[null,127,"2021-05-01",965.09081776390508,998.42415109723845,33.333333333333336,128.10159286051334,836.98922490339169,101644.28506350728,null,24210.81891952311]
[null,128,"2021-06-01",965.09081776390508,998.42415109723845,33.333333333333336,127.0553563293841,838.03546143452104,100806.24960207276,null,24337.874275852493]
[null,129,{"$f":"IF($B$18:$B$517<>\"\",DATE(YEAR($H$11),MONTH($H$11)+($B$18:$B$517)*12/$H$10,DAY($H$11)),\"\")","v":"2021-07-01"},965.09081776390508,998.42415109723845,33.333333333333336,126.00781200259094,839.0830057613141,99967.166596311436,null,24463.882087855083]
[null,130,"2021-08-01",{"$f":"$L$7","v":965.09081776390508},{"$f":"D147+F147","v":998.42415109723845},33.333333333333336,124.95895824538928,840.13185951851574,99127.034736792921,null,24588.841046100471]
[null,131,"2021-09-01",965.09081776390508,998.42415109723845,{"$f":"F147","v":33.333333333333336},{"$f":"I147*$H$8/12","v":123.90879342099116},{"$f":"D148-G148","v":841.18202434291391},{"$f":"MAX(0,I147-H148)","v":98285.852712450011},null,{"$f":"K147+G148","v":24712.749839521464}]
[null,132,"2021-10-01",965.09081776390508,998.42415109723845,33.333333333333336,122.85731589056252,842.23350187334256,97443.619210576668,null,24835.607155412028]
[null,133,"2021-11-01",965.09081776390508,998.42415109723845,33.333333333333336,121.80452401322083,843.28629375068431,96600.332916825981,null,24957.411679425248]
[null,134,"2021-12-01",965.09081776390508,998.42415109723845,33.333333333333336,120.75041614603248,844.34040161787266,95755.992515208112,null,25078.162095571279]
[null,135,"2022-01-01",965.09081776390508,998.42415109723845,33.333333333333336,119.69499064401013,845.39582711989499,94910.596688088219,null,25197.857086215288]
[null,136,"2022-02-01",965.09081776390508,998.42415109723845,33.333333333333336,118.63824586011026,846.45257190379482,94064.144116184427,null,25316.495332075399]
[null,137,"2022-03-01",965.09081776390508,998.42415109723845,33.333333333333336,117.58018014523053,847.51063761867454,93216.633478565753,null,25434.075512220628]
[null,138,"2022-04-01",965.09081776390508,998.42415109723845,33.333333333333336,116.52079184820718,848.5700259156979,92368.063452650051,null,25550.596304068837]
[null,139,"2022-05-01",965.09081776390508,998.42415109723845,33.333333333333336,115.46007931581255,849.63073844809253,91518.432714201961,null,25666.05638338465]
[null,140,"2022-06-01",965.09081776390508,998.42415109723845,33.333333333333336,114.39804089275243,850.69277687115266,90667.739937330814,null,25780.454424277403]
[null,141,"2022-07-01",965.09081776390508,998.42415109723845,33.333333333333336,113.33467492166352,851.75614284224162,89815.983794488566,null,25893.789099199068]
[null,142,"2022-08-01",965.09081776390508,998.42415109723845,33.333333333333336,112.2699797431107,852.82083802079433,88963.162956467771,null,26006.05907894218]
[null,143,"2022-09-01",965.09081776390508,998.42415109723845,33.333333333333336,111.2039536955847,853.88686406832039,88109.27609239945,null,26117.263032637766]
[null,144,"2022-10-01",965.09081776390508,998.42415109723845,33.333333333333336,110.1365951154993,854.95422264840579,87254.321869751046,null,26227.399627753264]
[null,145,"2022-11-01",965.09081776390508,998.42415109723845,33.333333333333336,109.0679023371888,856.02291542671628,86398.298954324331,null,26336.467530090453]
[null,146,"2022-12-01",965.09081776390508,998.42415109723845,33.333333333333336,107.9978736929054,857.09294407099969,85541.206010253329,null,26444.465403783357]
[null,147,"2023-01-01",965.09081776390508,998.42415109723845,33.333333333333336,106.92650751281666,858.16431025108841,84683.041700002243,null,26551.391911296174]
[null,148,"2023-02-01",965.09081776390508,998.42415109723845,33.333333333333336,105.8538021250028,859.23701563890222,83823.804684363335,null,26657.245713421176]
[null,149,"2023-03-01",965.09081776390508,998.42415109723845,33.333333333333336,104.77975585545416,860.31106190845094,82963.493622454887,null,26762.025469276632]
[null,150,"2023-04-01",965.09081776390508,998.42415109723845,33.333333333333336,103.7043670280686,861.38645073583643,82102.10717171905,null,26865.729836304701]
[null,151,"2023-05-01",965.09081776390508,998.42415109723845,33.333333333333336,102.62763396464881,862.46318379925629,81239.643987919801,null,26968.357470269351]
[null,152,"2023-06-01",965.09081776390508,998.42415109723845,33.333333333333336,101.54955498489976,863.54126277900536,80376.102725140794,null,27069.907025254251]
[null,153,"2023-07-01",965.09081776390508,998.42415109723845,33.333333333333336,100.47012840642599,864.62068935747914,79511.482035783309,null,27170.377153660676]
[null,154,"2023-08-01",965.09081776390508,998.42415109723845,33.333333333333336,99.389352544729135,865.70146521917593,78645.780570564137,null,27269.766506205404]
[null,155,"2023-09-01",965.09081776390508,998.42415109723845,33.333333333333336,98.30722571320517,866.78359205069989,77778.996978513431,null,27368.073731918608]
[null,156,"2023-10-01",965.09081776390508,998.42415109723845,33.333333333333336,97.223746223141788,867.86707154076328,76911.129906972667,null,27465.297478141751]
[null,157,"2023-11-01",965.09081776390508,998.42415109723845,33.333333333333336,96.138912383715834,868.95190538018926,76042.178001592474,null,27561.436390525465]
[null,158,"2023-12-01",965.09081776390508,998.42415109723845,33.333333333333336,95.052722501990601,870.03809526191446,75172.139906330558,null,27656.489113027455]
[null,159,"2024-01-01",965.09081776390508,998.42415109723845,33.333333333333336,93.965174882913189,871.1256428809919,74301.014263449571,null,27750.454287910368]
[null,160,"2024-02-01",965.09081776390508,998.42415109723845,33.333333333333336,92.876267829311971,872.21454993459315,73428.799713514978,null,27843.330555739682]
[null,161,"2024-03-01",965.09081776390508,998.42415109723845,33.333333333333336,91.785999641893724,873.3048181220114,72555.494895392971,null,27935.116555381574]
[null,162,"2024-04-01",965.09081776390508,998.42415109723845,33.333333333333336,90.694368619241217,874.39644914466385,71681.098446248303,null,28025.810924000816]
[null,163,"2024-05-01",965.09081776390508,998.42415109723845,33.333333333333336,89.601373057810363,875.48944470609467,70805.609001542209,null,28115.412297058625]
[null,164,"2024-06-01",965.09081776390508,998.42415109723845,33.333333333333336,88.50701125192775,876.58380651197729,69929.025195030234,null,28203.919308310553]
[null,165,"2024-07-01",965.09081776390508,998.42415109723845,33.333333333333336,87.411281493787783,877.6795362701173,69051.34565876011,null,28291.33058980434]
[null,166,"2024-08-01",965.09081776390508,998.42415109723845,33.333333333333336,86.314182073450127,878.7766356904549,68172.569023069649,null,28377.644771877789]
[null,167,"2024-09-01",965.09081776390508,998.42415109723845,33.333333333333336,85.215711278837063,879.87510648506805,67292.693916584583,null,28462.860483156626]
[null,168,"2024-10-01",965.09081776390508,998.42415109723845,33.333333333333336,84.115867395730717,880.9749503681744,66411.718966216402,null,28546.976350552359]
[null,169,"2024-11-01",965.09081776390508,998.42415109723845,33.333333333333336,83.01464870777049,882.07616905613463,65529.642797160268,null,28629.990999260128]
[null,170,"2024-12-01",965.09081776390508,998.42415109723845,33.333333333333336,81.912053496450326,883.17876426745477,64646.464032892814,null,28711.903052756577]
[null,171,"2025-01-01",965.09081776390508,998.42415109723845,33.333333333333336,80.808080041116014,884.28273772278908,63762.181295170027,null,28792.711132797693]
[null,172,"2025-02-01",965.09081776390508,998.42415109723845,33.333333333333336,79.702726618962529,885.38809114494256,62876.793204025082,null,28872.413859416654]
[null,173,"2025-03-01",965.09081776390508,998.42415109723845,33.333333333333336,78.59599150503135,886.49482625887367,61990.298377766208,null,28951.009850921684]
[null,174,"2025-04-01",965.09081776390508,998.42415109723845,33.333333333333336,77.487872972207754,887.60294479169738,61102.695432974513,null,29028.497723893892]
[null,175,"2025-05-01",965.09081776390508,998.42415109723845,33.333333333333336,76.378369291218135,888.7124484726869,60213.982984501825,null,29104.87609318511]
[null,176,"2025-06-01",965.09081776390508,998.42415109723845,33.333333333333336,75.267478730627275,889.82333903327776,59324.15964546855,null,29180.143571915738]
[null,177,"2025-07-01",965.09081776390508,998.42415109723845,33.333333333333336,74.155199556835683,890.93561820706941,58433.22402726148,null,29254.298771472575]
[null,178,"2025-08-01",965.09081776390508,998.42415109723845,33.333333333333336,73.041530034076843,892.04928772982828,57541.174739531649,null,29327.340301506651]
[null,179,"2025-09-01",965.09081776390508,998.42415109723845,33.333333333333336,71.926468424414551,893.16434933949051,56648.010390192161,null,29399.266769931066]
[null,180,"2025-10-01",965.09081776390508,998.42415109723845,33.333333333333336,70.810012987740194,894.28080477616493,55753.729585415997,null,29470.076782918804]
[null,181,"2025-11-01",965.09081776390508,998.42415109723845,33.333333333333336,69.692161981769985,895.39865578213505,54858.330929633863,null,29539.768944900574]
[null,182,"2025-12-01",965.09081776390508,998.42415109723845,33.333333333333336,68.572913662042325,896.51790410186277,53961.813025531999,null,29608.341858562617]
[null,183,"2026-01-01",965.09081776390508,998.42415109723845,33.333333333333336,67.452266281914987,897.63855148199013,53064.174474050007,null,29675.794124844531]
[null,184,"2026-02-01",965.09081776390508,998.42415109723845,33.333333333333336,66.330218092562504,898.76059967134256,52165.413874378668,null,29742.124342937095]
[null,185,"2026-03-01",965.09081776390508,998.42415109723845,33.333333333333336,65.206767342973336,899.88405042093177,51265.529823957739,null,29807.331110280069]
[null,186,"2026-04-01",965.09081776390508,998.42415109723845,33.333333333333336,64.081912279947176,901.00890548395796,50364.520918473783,null,29871.413022560017]
[null,187,"2026-05-01",965.09081776390508,998.42415109723845,33.333333333333336,62.955651148092223,902.13516661581286,49462.385751857968,null,29934.368673708108]
[null,188,"2026-06-01",965.09081776390508,998.42415109723845,33.333333333333336,61.827982189822457,903.2628355740826,48559.122916283886,null,29996.196655897929]
[null,189,"2026-07-01",965.09081776390508,998.42415109723845,33.333333333333336,60.698903645354854,904.39191411855018,47654.731002165339,null,30056.895559543285]
[null,190,"2026-08-01",965.09081776390508,998.42415109723845,33.333333333333336,59.568413752706675,905.52240401119843,46749.208598154139,null,30116.463973295991]
[null,191,"2026-09-01",965.09081776390508,998.42415109723845,33.333333333333336,58.436510747692672,906.65430701621244,45842.554291137923,null,30174.900484043683]
[null,192,"2026-10-01",965.09081776390508,998.42415109723845,33.333333333333336,57.303192863922398,907.78762489998269,44934.766666237942,null,30232.203676907604]
[null,193,{"$f":"IF($B$18:$B$517<>\"\",DATE(YEAR($H$11),MONTH($H$11)+($B$18:$B$517)*12/$H$10,DAY($H$11)),\"\")","v":"2026-11-01"},965.09081776390508,998.42415109723845,33.333333333333336,56.168458332797428,908.92235943110768,44025.844306806837,null,30288.372135240403]
[null,194,"2026-12-01",{"$f":"$L$7","v":965.09081776390508},{"$f":"D211+F211","v":998.42415109723845},33.333333333333336,55.032305383508543,910.05851238039656,43115.78579442644,null,30343.404440623912]
[null,195,"2027-01-01",965.09081776390508,998.42415109723845,{"$f":"F211","v":33.333333333333336},{"$f":"I211*$H$8/12","v":53.894732243033047},{"$f":"D212-G212","v":911.19608552087197},{"$f":"MAX(0,I211-H212)","v":42204.589708905565},null,{"$f":"K211+G212","v":30397.299172866944}]
[null,196,"2027-02-01",965.09081776390508,998.42415109723845,33.333333333333336,52.755737136131955,912.3350806277731,41292.254628277791,null,30450.054910003077]
[null,197,"2027-03-01",965.09081776390508,998.42415109723845,33.333333333333336,51.615318285347236,913.47549947855782,40378.779128799237,null,30501.670228288425]
[null,198,"2027-04-01",965.09081776390508,998.42415109723845,33.333333333333336,50.473473910999047,914.61734385290606,39464.161784946329,null,30552.143702199424]
[null,199,"2027-05-01",965.09081776390508,998.42415109723845,33.333333333333336,49.330202231182909,915.76061553272211,38548.401169413606,null,30601.473904430608]
[null,200,"2027-06-01",965.09081776390508,998.42415109723845,33.333333333333336,48.185501461767011,916.90531630213809,37631.495853111468,null,30649.659405892377]
[null,201,"2027-07-01",965.09081776390508,998.42415109723845,33.333333333333336,47.039369816389332,918.05144794751573,36713.444405163951,null,30696.698775708766]
[null,202,"2027-08-01",965.09081776390508,998.42415109723845,33.333333333333336,45.891805506454936,919.19901225745014,35794.245392906501,null,30742.59058121522]
[null,203,"2027-09-01",965.09081776390508,998.42415109723845,33.333333333333336,44.74280674113313,920.34801102277197,34873.897381883726,null,30787.333387956354]
[null,204,"2027-10-01",965.09081776390508,998.42415109723845,33.333333333333336,43.592371727354653,921.49844603655038,33952.398935847174,null,30830.925759683709]
[null,205,"2027-11-01",965.09081776390508,998.42415109723845,33.333333333333336,42.440498669808967,922.65031909409606,33029.748616753081,null,30873.366258353519]
[null,206,"2027-12-01",965.09081776390508,998.42415109723845,33.333333333333336,41.287185770941349,923.80363199296369,32105.944984760117,null,30914.653444124458]
[null,207,"2028-01-01",965.09081776390508,998.42415109723845,33.333333333333336,40.132431230950147,924.95838653295493,31180.986598227162,null,30954.78587535541]
[null,208,"2028-02-01",965.09081776390508,998.42415109723845,33.333333333333336,38.976233247783952,926.11458451612111,30254.872013711039,null,30993.762108603194]
[null,209,"2028-03-01",965.09081776390508,998.42415109723845,33.333333333333336,37.818590017138796,927.27222774676625,29327.599785964274,null,31031.580698620332]
[null,210,"2028-04-01",965.09081776390508,998.42415109723845,33.333333333333336,36.659499732455338,928.43131803144979,28399.168467932825,null,31068.240198352785]
[null,211,"2028-05-01",965.09081776390508,998.42415109723845,33.333333333333336,35.498960584916027,929.59185717898902,27469.576610753837,null,31103.7391589377]
[null,212,"2028-06-01",965.09081776390508,998.42415109723845,33.333333333333336,34.336970763442295,930.75384700046277,26538.822763753375,null,31138.076129701141]
[null,213,"2028-07-01",965.09081776390508,998.42415109723845,33.333333333333336,33.173528454691713,931.9172893092134,25606.90547444416,null,31171.249658155833]
[null,214,"2028-08-01",965.09081776390508,998.42415109723845,33.333333333333336,32.008631843055198,933.08218592084984,24673.823288523312,null,31203.258289998888]
[null,215,"2028-09-01",965.09081776390508,998.42415109723845,33.333333333333336,30.842279110654136,934.24853865325099,23739.574749870062,null,31234.100569109542]
[null,216,"2028-10-01",965.09081776390508,998.42415109723845,33.333333333333336,29.674468437337577,935.41634932656746,22804.158400543496,null,31263.775037546879]
[null,217,"2028-11-01",965.09081776390508,998.42415109723845,33.333333333333336,28.505198000679371,936.58561976322574,21867.572780780269,null,31292.280235547558]
[null,218,"2028-12-01",965.09081776390508,998.42415109723845,33.333333333333336,27.334465975975334,937.7563517879297,20929.816428992341,null,31319.614701523533]
[null,219,"2029-01-01",965.09081776390508,998.42415109723845,33.333333333333336,26.162270536240424,938.92854722766469,19990.887881764676,null,31345.776972059772]
[null,220,"2029-02-01",965.09081776390508,998.42415109723845,33.333333333333336,24.988609852205844,940.10220791169922,19050.785673852977,null,31370.765581911979]
[null,221,"2029-03-01",965.09081776390508,998.42415109723845,33.333333333333336,23.813482092316221,941.27733567158884,18109.508338181389,null,31394.579064004294]
[null,222,"2029-04-01",965.09081776390508,998.42415109723845,33.333333333333336,22.636885422726735,942.4539323411783,17167.054405840212,null,31417.21594942702]
[null,223,"2029-05-01",965.09081776390508,998.42415109723845,33.333333333333336,21.458818007300266,943.63199975660484,16223.422406083608,null,31438.674767434321]
[null,224,"2029-06-01",965.09081776390508,998.42415109723845,33.333333333333336,20.279278007604507,944.81153975630059,15278.610866327308,null,31458.954045441926]
[null,225,"2029-07-01",965.09081776390508,998.42415109723845,33.333333333333336,19.098263582909134,945.99255418099597,14332.618312146313,null,31478.052309024835]
[null,226,"2029-08-01",965.09081776390508,998.42415109723845,33.333333333333336,17.91577289018289,947.17504487372219,13385.443267272591,null,31495.96808191502]
[null,227,"2029-09-01",965.09081776390508,998.42415109723845,33.333333333333336,16.731804084090736,948.35901367981432,12437.084253592777,null,31512.699885999111]
[null,228,"2029-10-01",965.09081776390508,998.42415109723845,33.333333333333336,15.546355316990971,949.54446244691405,11487.539791145862,null,31528.246241316101]
[null,229,"2029-11-01",965.09081776390508,998.42415109723845,33.333333333333336,14.359424738932328,950.7313930249727,10536.808398120889,null,31542.605666055035]
[null,230,"2029-12-01",965.09081776390508,998.42415109723845,33.333333333333336,13.17101049765111,951.919807266254,9584.8885908546345,null,31555.776676552687]
[null,231,"2030-01-01",965.09081776390508,998.42415109723845,33.333333333333336,11.981110738568292,953.10970702533677,8631.7788838292981,null,31567.757787291255]
[null,232,"2030-02-01",965.09081776390508,998.42415109723845,33.333333333333336,10.789723604786623,954.30109415911841,7677.4777896701798,null,31578.547510896042]
[null,233,"2030-03-01",965.09081776390508,998.42415109723845,33.333333333333336,9.596847237087724,955.49397052681741,6721.9838191433628,null,31588.14435813313]
[null,234,"2030-04-01",965.09081776390508,998.42415109723845,33.333333333333336,8.402479773929203,956.68833798997582,5765.2954811533873,null,31596.546837907059]
[null,235,"2030-05-01",965.09081776390508,998.42415109723845,33.333333333333336,7.2066193514417343,957.88419841246332,4807.4112827409244,null,31603.753457258499]
[null,236,"2030-06-01",965.09081776390508,998.42415109723845,33.333333333333336,6.0092641034261556,959.0815536604789,3848.3297290804458,null,31609.762721361923]
[null,237,"2030-07-01",965.09081776390508,998.42415109723845,33.333333333333336,4.8104121613505573,960.28040560255454,2888.0493234778914,null,31614.573133523274]
[null,238,"2030-08-01",965.09081776390508,998.42415109723845,33.333333333333336,3.6100616543473643,961.48075610955766,1926.5685673683338,null,31618.183195177622]
[null,239,"2030-09-01",965.09081776390508,998.42415109723845,33.333333333333336,2.408210709210417,962.6826070546947,963.88596031363909,null,31620.591405886833]
[null,240,"2030-10-01",965.09081776390508,998.42415109723845,33.333333333333336,1.2048574503920488,963.88596031351301,1.2607870303327218E-10,null,31621.796263337226]
[null,241,null,null,null,null,null,null,1.2607870303327218E-10,null,31621.796263337226]
[null,242,null,null,null,null,null,null,1.2607870303327218E-10,null,31621.796263337226]
[null,243,null,null,null,null,null,null,1.2607870303327218E-10,null,31621.796263337226]
[null,244,null,null,null,null,null,null,1.2607870303327218E-10,null,31621.796263337226]
[null,245,null,null,null,null,null,null,1.2607870303327218E-10,null,31621.796263337226]
[null,246,null,null,null,null,null,null,1.2607870303327218E-10,null,31621.796263337226]
[null,247,null,null,null,null,null,null,1.2607870303327218E-10,null,31621.796263337226]
[null,248,null,null,null,null,null,null,1.2607870303327218E-10,null,31621.796263337226]
[null,249,null,null,null,null,null,null,1.2607870303327218E-10,null,31621.796263337226]
[null,250,null,null,null,null,null,null,1.2607870303327218E-10,null,31621.796263337226]
[null,251,null,null,null,null,null,null,1.2607870303327218E-10,null,31621.796263337226]
[null,252,null,null,null,null,null,null,1.2607870303327218E-10,null,31621.796263337226]
[null,253,null,null,null,null,null,null,1.2607870303327218E-10,null,31621.796263337226]
[null,254,null,null,null,null,null,null,1.2607870303327218E-10,null,31621.796263337226]
[null,255,null,null,null,null,null,null,1.2607870303327218E-10,null,31621.796263337226]
[null,256,null,null,null,null,null,null,1.2607870303327218E-10,null,31621.796263337226]
[null,257,null,null,null,null,null,null,1.2607870303327218E-10,null,31621.796263337226]
[null,258,null,null,null,null,null,null,1.2607870303327218E-10,null,31621.796263337226]
[null,259,null,null,null,null,null,null,{"$f":"MAX(0,I275-H276)","v":1.2607870303327218E-10},null,{"$f":"K275+G276","v":31621.796263337226}]
[null,260,null,null,null,null,null,null,1.2607870303327218E-10,null,31621.796263337226]
[null,261,null,null,null,null,null,null,1.2607870303327218E-10,null,31621.796263337226]
[null,262,null,null,null,null,null,null,1.2607870303327218E-10,null,31621.796263337226]
[null,263,null,null,null,null,null,null,1.2607870303327218E-10,null,31621.796263337226]
[null,264,null,null,null,null,null,null,1.2607870303327218E-10,null,31621.796263337226]
[null,265,null,null,null,null,null,null,1.2607870303327218E-10,null,31621.796263337226]
[null,266,null,null,null,null,null,null,1.2607870303327218E-10,null,31621.796263337226]
[null,267,null,null,null,null,null,null,1.2607870303327218E-10,null,31621.796263337226]
[null,268,null,null,null,null,null,null,1.2607870303327218E-10,null,31621.796263337226]
[null,269,null,null,null,null,null,null,1.2607870303327218E-10,null,31621.796263337226]
[null,270,null,null,null,null,null,null,1.2607870303327218E-10,null,31621.796263337226]
[null,271,null,null,null,null,null,null,1.2607870303327218E-10,null,31621.796263337226]
[null,272,null,null,null,null,null,null,1.2607870303327218E-10,null,31621.796263337226]
[null,273,null,null,null,null,null,null,1.2607870303327218E-10,null,31621.796263337226]
[null,274,null,null,null,null,null,null,1.2607870303327218E-10,null,31621.796263337226]
[null,275,null,null,null,null,null,null,1.2607870303327218E-10,null,31621.796263337226]
[null,276,null,null,null,null,null,null,1.2607870303327218E-10,null,31621.796263337226]
[null,277,null,null,null,null,null,null,1.2607870303327218E-10,null,31621.796263337226]
[null,278,null,null,null,null,null,null,1.2607870303327218E-10,null,31621.796263337226]
[null,279,null,null,null,null,null,null,1.2607870303327218E-10,null,31621.796263337226]
[null,280,null,null,null,null,null,null,1.2607870303327218E-10,null,31621.796263337226]
[null,281,null,null,null,null,null,null,1.2607870303327218E-10,null,31621.796263337226]
[null,282,null,null,null,null,null,null,1.2607870303327218E-10,null,31621.796263337226]
[null,283,null,null,null,null,null,null,1.2607870303327218E-10,null,31621.796263337226]
[null,284,null,null,null,null,null,null,1.2607870303327218E-10,null,31621.796263337226]
[null,285,null,null,null,null,null,null,1.2607870303327218E-10,null,31621.796263337226]
[null,286,null,null,null,null,null,null,1.2607870303327218E-10,null,31621.796263337226]
[null,287,null,null,null,null,null,null,1.2607870303327218E-10,null,31621.796263337226]
[null,288,null,null,null,null,null,null,1.2607870303327218E-10,null,31621.796263337226]
[null,289,null,null,null,null,null,null,1.2607870303327218E-10,null,31621.796263337226]
[null,290,null,null,null,null,null,null,1.2607870303327218E-10,null,31621.796263337226]
[null,291,null,null,null,null,null,null,1.2607870303327218E-10,null,31621.796263337226]
[null,292,null,null,null,null,null,null,1.2607870303327218E-10,null,31621.796263337226]
[null,293,null,null,null,null,null,null,1.2607870303327218E-10,null,31621.796263337226]
[null,294,null,null,null,null,null,null,1.2607870303327218E-10,null,31621.796263337226]
[null,295,null,null,null,null,null,null,1.2607870303327218E-10,null,31621.796263337226]
[null,296,null,null,null,null,null,null,1.2607870303327218E-10,null,31621.796263337226]
[null,297,null,null,null,null,null,null,1.2607870303327218E-10,null,31621.796263337226]
[null,298,null,null,null,null,null,null,1.2607870303327218E-10,null,31621.796263337226]
[null,299,null,null,null,null,null,null,1.2607870303327218E-10,null,31621.796263337226]
[null,300,null,null,null,null,null,null,1.2607870303327218E-10,null,31621.796263337226]
[null,301,null,null,null,null,null,null,1.2607870303327218E-10,null,31621.796263337226]
[null,302,null,null,null,null,null,null,1.2607870303327218E-10,null,31621.796263337226]
[null,303,null,null,null,null,null,null,1.2607870303327218E-10,null,31621.796263337226]
[null,304,null,null,null,null,null,null,1.2607870303327218E-10,null,31621.796263337226]
[null,305,null,null,null,null,null,null,1.2607870303327218E-10,null,31621.796263337226]
[null,306,null,null,null,null,null,null,1.2607870303327218E-10,null,31621.796263337226]
[null,307,null,null,null,null,null,null,1.2607870303327218E-10,null,31621.796263337226]
[null,308,null,null,null,null,null,null,1.2607870303327218E-10,null,31621.796263337226]
[null,309,null,null,null,null,null,null,1.2607870303327218E-10,null,31621.796263337226]
[null,310,null,null,null,null,null,null,1.2607870303327218E-10,null,31621.796263337226]
[null,311,null,null,null,null,null,null,1.2607870303327218E-10,null,31621.796263337226]
[null,312,null,null,null,null,null,null,1.2607870303327218E-10,null,31621.796263337226]
[null,313,null,null,null,null,null,null,1.2607870303327218E-10,null,31621.796263337226]
[null,314,null,null,null,null,null,null,1.2607870303327218E-10,null,31621.796263337226]
[null,315,null,null,null,null,null,null,1.2607870303327218E-10,null,31621.796263337226]
[null,316,null,null,null,null,null,null,1.2607870303327218E-10,null,31621.796263337226]
[null,317,null,null,null,null,null,null,1.2607870303327218E-10,null,31621.796263337226]
[null,318,null,null,null,null,null,null,1.2607870303327218E-10,null,31621.796263337226]
[null,319,null,null,null,null,null,null,1.2607870303327218E-10,null,31621.796263337226]
[null,320,null,null,null,null,null,null,1.2607870303327218E-10,null,31621.796263337226]
[null,321,null,null,null,null,null,null,1.2607870303327218E-10,null,31621.796263337226]
[null,322,null,null,null,null,null,null,1.2607870303327218E-10,null,31621.796263337226]
[null,323,null,null,null,null,null,null,{"$f":"MAX(0,I339-H340)","v":1.2607870303327218E-10},null,{"$f":"K339+G340","v":31621.796263337226}]
[null,324,null,null,null,null,null,null,1.2607870303327218E-10,null,31621.796263337226]
[null,325,null,null,null,null,null,null,1.2607870303327218E-10,null,31621.796263337226]
[null,326,null,null,null,null,null,null,1.2607870303327218E-10,null,31621.796263337226]
[null,327,null,null,null,null,null,null,1.2607870303327218E-10,null,31621.796263337226]
[null,328,null,null,null,null,null,null,1.2607870303327218E-10,null,31621.796263337226]
[null,329,null,null,null,null,null,null,1.2607870303327218E-10,null,31621.796263337226]
[null,330,null,null,null,null,null,null,1.2607870303327218E-10,null,31621.796263337226]
[null,331,null,null,null,null,null,null,1.2607870303327218E-10,null,31621.796263337226]
[null,332,null,null,null,null,null,null,1.2607870303327218E-10,null,31621.796263337226]
[null,333,null,null,null,null,null,null,1.2607870303327218E-10,null,31621.796263337226]
[null,334,null,null,null,null,null,null,1.2607870303327218E-10,null,31621.796263337226]
[null,335,null,null,null,null,null,null,1.2607870303327218E-10,null,31621.796263337226]
[null,336,null,null,null,null,null,null,1.2607870303327218E-10,null,31621.796263337226]
[null,337,null,null,null,null,null,null,1.2607870303327218E-10,null,31621.796263337226]
[null,338,null,null,null,null,null,null,1.2607870303327218E-10,null,31621.796263337226]
[null,339,null,null,null,null,null,null,1.2607870303327218E-10,null,31621.796263337226]
[null,340,null,null,null,null,null,null,1.2607870303327218E-10,null,31621.796263337226]
[null,341,null,null,null,null,null,null,1.2607870303327218E-10,null,31621.796263337226]
[null,342,null,null,null,null,null,null,1.2607870303327218E-10,null,31621.796263337226]
[null,343,null,null,null,null,null,null,1.2607870303327218E-10,null,31621.796263337226]
[null,344,null,null,null,null,null,null,1.2607870303327218E-10,null,31621.796263337226]
[null,345,null,null,null,null,null,null,1.2607870303327218E-10,null,31621.796263337226]
[null,346,null,null,null,null,null,null,1.2607870303327218E-10,null,31621.796263337226]
[null,347,null,null,null,null,null,null,1.2607870303327218E-10,null,31621.796263337226]
[null,348,null,null,null,null,null,null,1.2607870303327218E-10,null,31621.796263337226]
[null,349,null,null,null,null,null,null,1.2607870303327218E-10,null,31621.796263337226]
[null,350,null,null,null,null,null,null,1.2607870303327218E-10,null,31621.796263337226]
[null,351,null,null,null,null,null,null,1.2607870303327218E-10,null,31621.796263337226]
[null,352,null,null,null,null,null,null,1.2607870303327218E-10,null,31621.796263337226]
[null,353,null,null,null,null,null,null,1.2607870303327218E-10,null,31621.796263337226]
[null,354,null,null,null,null,null,null,1.2607870303327218E-10,null,31621.796263337226]
[null,355,null,null,null,null,null,null,1.2607870303327218E-10,null,31621.796263337226]
[null,356,null,null,null,null,null,null,1.2607870303327218E-10,null,31621.796263337226]
[null,357,null,null,null,null,null,null,1.2607870303327218E-10,null,31621.796263337226]
[null,358,null,null,null,null,null,null,1.2607870303327218E-10,null,31621.796263337226]
[null,359,null,null,null,null,null,null,1.2607870303327218E-10,null,31621.796263337226]
[null,360,null,null,null,null,null,null,1.2607870303327218E-10,null,31621.796263337226]
[null,361,null,null,null,null,null,null,1.2607870303327218E-10,null,31621.796263337226]
[null,362,null,null,null,null,null,null,1.2607870303327218E-10,null,31621.796263337226]
[null,363,null,null,null,null,null,null,1.2607870303327218E-10,null,31621.796263337226]
[null,364,null,null,null,null,null,null,1.2607870303327218E-10,null,31621.796263337226]
[null,365,null,null,null,null,null,null,1.2607870303327218E-10,null,31621.796263337226]
[null,366,null,null,null,null,null,null,1.2607870303327218E-10,null,31621.796263337226]
[null,367,null,null,null,null,null,null,1.2607870303327218E-10,null,31621.796263337226]
[null,368,null,null,null,null,null,null,1.2607870303327218E-10,null,31621.796263337226]
[null,369,null,null,null,null,null,null,1.2607870303327218E-10,null,31621.796263337226]
[null,370,null,null,null,null,null,null,1.2607870303327218E-10,null,31621.796263337226]
[null,371,null,null,null,null,null,null,1.2607870303327218E-10,null,31621.796263337226]
[null,372,null,null,null,null,null,null,1.2607870303327218E-10,null,31621.796263337226]
[null,373,null,null,null,null,null,null,1.2607870303327218E-10,null,31621.796263337226]
[null,374,null,null,null,null,null,null,1.2607870303327218E-10,null,31621.796263337226]
[null,375,null,null,null,null,null,null,1.2607870303327218E-10,null,31621.796263337226]
[null,376,null,null,null,null,null,null,1.2607870303327218E-10,null,31621.796263337226]
[null,377,null,null,null,null,null,null,1.2607870303327218E-10,null,31621.796263337226]
[null,378,null,null,null,null,null,null,1.2607870303327218E-10,null,31621.796263337226]
[null,379,null,null,null,null,null,null,1.2607870303327218E-10,null,31621.796263337226]
[null,380,null,null,null,null,null,null,1.2607870303327218E-10,null,31621.796263337226]
[null,381,null,null,null,null,null,null,1.2607870303327218E-10,null,31621.796263337226]
[null,382,null,null,null,null,null,null,1.2607870303327218E-10,null,31621.796263337226]
[null,383,null,null,null,null,null,null,1.2607870303327218E-10,null,31621.796263337226]
[null,384,null,null,null,null,null,null,1.2607870303327218E-10,null,31621.796263337226]
[null,385,null,null,null,null,null,null,1.2607870303327218E-10,null,31621.796263337226]
[null,386,null,null,null,null,null,null,1.2607870303327218E-10,null,31621.796263337226]
[null,387,null,null,null,null,null,null,{"$f":"MAX(0,I403-H404)","v":1.2607870303327218E-10},null,{"$f":"K403+G404","v":31621.796263337226}]
[null,388,null,null,null,null,null,null,1.2607870303327218E-10,null,31621.796263337226]
[null,389,null,null,null,null,null,null,1.2607870303327218E-10,null,31621.796263337226]
[null,390,null,null,null,null,null,null,1.2607870303327218E-10,null,31621.796263337226]
[null,391,null,null,null,null,null,null,1.2607870303327218E-10,null,31621.796263337226]
[null,392,null,null,null,null,null,null,1.2607870303327218E-10,null,31621.796263337226]
[null,393,null,null,null,null,null,null,1.2607870303327218E-10,null,31621.796263337226]
[null,394,null,null,null,null,null,null,1.2607870303327218E-10,null,31621.796263337226]
[null,395,null,null,null,null,null,null,1.2607870303327218E-10,null,31621.796263337226]
[null,396,null,null,null,null,null,null,1.2607870303327218E-10,null,31621.796263337226]
[null,397,null,null,null,null,null,null,1.2607870303327218E-10,null,31621.796263337226]
[null,398,null,null,null,null,null,null,1.2607870303327218E-10,null,31621.796263337226]
[null,399,null,null,null,null,null,null,1.2607870303327218E-10,null,31621.796263337226]
[null,400,null,null,null,null,null,null,1.2607870303327218E-10,null,31621.796263337226]
[null,401,null,null,null,null,null,null,1.2607870303327218E-10,null,31621.796263337226]
[null,402,null,null,null,null,null,null,1.2607870303327218E-10,null,31621.796263337226]
[null,403,null,null,null,null,null,null,1.2607870303327218E-10,null,31621.796263337226]
[null,404,null,null,null,null,null,null,1.2607870303327218E-10,null,31621.796263337226]
[null,405,null,null,null,null,null,null,1.2607870303327218E-10,null,31621.796263337226]
[null,406,null,null,null,null,null,null,1.2607870303327218E-10,null,31621.796263337226]
[null,407,null,null,null,null,null,null,1.2607870303327218E-10,null,31621.796263337226]
[null,408,null,null,null,null,null,null,1.2607870303327218E-10,null,31621.796263337226]
[null,409,null,null,null,null,null,null,1.2607870303327218E-10,null,31621.796263337226]
[null,410,null,null,null,null,null,null,1.2607870303327218E-10,null,31621.796263337226]
[null,411,null,null,null,null,null,null,1.2607870303327218E-10,null,31621.796263337226]
[null,412,null,null,null,null,null,null,1.2607870303327218E-10,null,31621.796263337226]
[null,413,null,null,null,null,null,null,1.2607870303327218E-10,null,31621.796263337226]
[null,414,null,null,null,null,null,null,1.2607870303327218E-10,null,31621.796263337226]
[null,415,null,null,null,null,null,null,1.2607870303327218E-10,null,31621.796263337226]
[null,416,null,null,null,null,null,null,1.2607870303327218E-10,null,31621.796263337226]
[null,417,null,null,null,null,null,null,1.2607870303327218E-10,null,31621.796263337226]
[null,418,null,null,null,null,null,null,1.2607870303327218E-10,null,31621.796263337226]
[null,419,null,null,null,null,null,null,1.2607870303327218E-10,null,31621.796263337226]
[null,420,null,null,null,null,null,null,1.2607870303327218E-10,null,31621.796263337226]
[null,421,null,null,null,null,null,null,1.2607870303327218E-10,null,31621.796263337226]
[null,422,null,null,null,null,null,null,1.2607870303327218E-10,null,31621.796263337226]
[null,423,null,null,null,null,null,null,1.2607870303327218E-10,null,31621.796263337226]
[null,424,null,null,null,null,null,null,1.2607870303327218E-10,null,31621.796263337226]
[null,425,null,null,null,null,null,null,1.2607870303327218E-10,null,31621.796263337226]
[null,426,null,null,null,null,null,null,1.2607870303327218E-10,null,31621.796263337226]
[null,427,null,null,null,null,null,null,1.2607870303327218E-10,null,31621.796263337226]
[null,428,null,null,null,null,null,null,1.2607870303327218E-10,null,31621.796263337226]
[null,429,null,null,null,null,null,null,1.2607870303327218E-10,null,31621.796263337226]
[null,430,null,null,null,null,null,null,1.2607870303327218E-10,null,31621.796263337226]
[null,431,null,null,null,null,null,null,1.2607870303327218E-10,null,31621.796263337226]
[null,432,null,null,null,null,null,null,1.2607870303327218E-10,null,31621.796263337226]
[null,433,null,null,null,null,null,null,1.2607870303327218E-10,null,31621.796263337226]
[null,434,null,null,null,null,null,null,1.2607870303327218E-10,null,31621.796263337226]
[null,435,null,null,null,null,null,null,1.2607870303327218E-10,null,31621.796263337226]
[null,436,null,null,null,null,null,null,1.2607870303327218E-10,null,31621.796263337226]
[null,437,null,null,null,null,null,null,1.2607870303327218E-10,null,31621.796263337226]
[null,438,null,null,null,null,null,null,1.2607870303327218E-10,null,31621.796263337226]
[null,439,null,null,null,null,null,null,1.2607870303327218E-10,null,31621.796263337226]
[null,440,null,null,null,null,null,null,1.2607870303327218E-10,null,31621.796263337226]
[null,441,null,null,null,null,null,null,1.2607870303327218E-10,null,31621.796263337226]
[null,442,null,null,null,null,null,null,1.2607870303327218E-10,null,31621.796263337226]
[null,443,null,null,null,null,null,null,1.2607870303327218E-10,null,31621.796263337226]
[null,444,null,null,null,null,null,null,1.2607870303327218E-10,null,31621.796263337226]
[null,445,null,null,null,null,null,null,1.2607870303327218E-10,null,31621.796263337226]
[null,446,null,null,null,null,null,null,1.2607870303327218E-10,null,31621.796263337226]
[null,447,null,null,null,null,null,null,1.2607870303327218E-10,null,31621.796263337226]
[null,448,null,null,null,null,null,null,1.2607870303327218E-10,null,31621.796263337226]
[null,449,null,null,null,null,null,null,1.2607870303327218E-10,null,31621.796263337226]
[null,450,null,null,null,null,null,null,1.2607870303327218E-10,null,31621.796263337226]
[null,451,null,null,null,null,null,null,{"$f":"MAX(0,I467-H468)","v":1.2607870303327218E-10},null,{"$f":"K467+G468","v":31621.796263337226}]
[null,452,null,null,null,null,null,null,1.2607870303327218E-10,null,31621.796263337226]
[null,453,null,null,null,null,null,null,1.2607870303327218E-10,null,31621.796263337226]
[null,454,null,null,null,null,null,null,1.2607870303327218E-10,null,31621.796263337226]
[null,455,null,null,null,null,null,null,1.2607870303327218E-10,null,31621.796263337226]
[null,456,null,null,null,null,null,null,1.2607870303327218E-10,null,31621.796263337226]
[null,457,null,null,null,null,null,null,1.2607870303327218E-10,null,31621.796263337226]
[null,458,null,null,null,null,null,null,1.2607870303327218E-10,null,31621.796263337226]
[null,459,null,null,null,null,null,null,1.2607870303327218E-10,null,31621.796263337226]
[null,460,null,null,null,null,null,null,1.2607870303327218E-10,null,31621.796263337226]
[null,461,null,null,null,null,null,null,1.2607870303327218E-10,null,31621.796263337226]
[null,462,null,null,null,null,null,null,1.2607870303327218E-10,null,31621.796263337226]
[null,463,null,null,null,null,null,null,1.2607870303327218E-10,null,31621.796263337226]
[null,464,null,null,null,null,null,null,1.2607870303327218E-10,null,31621.796263337226]
[null,465,null,null,null,null,null,null,1.2607870303327218E-10,null,31621.796263337226]
[null,466,null,null,null,null,null,null,1.2607870303327218E-10,null,31621.796263337226]
[null,467,null,null,null,null,null,null,1.2607870303327218E-10,null,31621.796263337226]
[null,468,null,null,null,null,null,null,1.2607870303327218E-10,null,31621.796263337226]
[null,469,null,null,null,null,null,null,1.2607870303327218E-10,null,31621.796263337226]
[null,470,null,null,null,null,null,null,1.2607870303327218E-10,null,31621.796263337226]
[null,471,null,null,null,null,null,null,1.2607870303327218E-10,null,31621.796263337226]
[null,472,null,null,null,null,null,null,1.2607870303327218E-10,null,31621.796263337226]
[null,473,null,null,null,null,null,null,1.2607870303327218E-10,null,31621.796263337226]
[null,474,null,null,null,null,null,null,1.2607870303327218E-10,null,31621.796263337226]
[null,475,null,null,null,null,null,null,1.2607870303327218E-10,null,31621.796263337226]
[null,476,null,null,null,null,null,null,1.2607870303327218E-10,null,31621.796263337226]
[null,477,null,null,null,null,null,null,1.2607870303327218E-10,null,31621.796263337226]
[null,478,null,null,null,null,null,null,1.2607870303327218E-10,null,31621.796263337226]
[null,479,null,null,null,null,null,null,1.2607870303327218E-10,null,31621.796263337226]
[null,480,null,null,null,null,null,null,1.2607870303327218E-10,null,31621.796263337226]
[null,481,null,null,null,null,null,null,1.2607870303327218E-10,null,31621.796263337226]
[null,482,null,null,null,null,null,null,1.2607870303327218E-10,null,31621.796263337226]
[null,483,null,null,null,null,null,null,1.2607870303327218E-10,null,31621.796263337226]
[null,484,null,null,null,null,null,null,1.2607870303327218E-10,null,31621.796263337226]
[null,485,null,null,null,null,null,null,1.2607870303327218E-10,null,31621.796263337226]
[null,486,null,null,null,null,null,null,1.2607870303327218E-10,null,31621.796263337226]
[null,487,null,null,null,null,null,null,1.2607870303327218E-10,null,31621.796263337226]
[null,488,null,null,null,null,null,null,1.2607870303327218E-10,null,31621.796263337226]
[null,489,null,null,null,null,null,null,1.2607870303327218E-10,null,31621.796263337226]
[null,490,null,null,null,null,null,null,1.2607870303327218E-10,null,31621.796263337226]
[null,491,null,null,null,null,null,null,1.2607870303327218E-10,null,31621.796263337226]
[null,492,null,null,null,null,null,null,1.2607870303327218E-10,null,31621.796263337226]
[null,493,null,null,null,null,null,null,1.2607870303327218E-10,null,31621.796263337226]
[null,494,null,null,null,null,null,null,1.2607870303327218E-10,null,31621.796263337226]
[null,495,null,null,null,null,null,null,1.2607870303327218E-10,null,31621.796263337226]
[null,496,null,null,null,null,null,null,1.2607870303327218E-10,null,31621.796263337226]
[null,497,null,null,null,null,null,null,1.2607870303327218E-10,null,31621.796263337226]
[null,498,null,null,null,null,null,null,1.2607870303327218E-10,null,31621.796263337226]
[null,499,null,null,null,null,null,null,1.2607870303327218E-10,null,31621.796263337226]
[null,500,null,null,null,null,null,null,1.2607870303327218E-10,null,31621.796263337226]

{"sheet":"Tableau d'amortissement C","index":24,"n_rows":201,"n_cols":11,"rows_kept":201,"cut":false,"hidden":false,"merged":[[2,3,2,11],[5,2,5,3]]}
[]
[]
[null,null,null,"TABLEAU D'AMORTISSEMENT C (Autres dettes)"]
[null,null,null,null,null,"Pas d'assurance"]
[]
[null,null,"Autres dettes"]
[null,null,"Montant total de la dette",{"$f":"Profil_Investisseur!B97","v":1000}]
[null,null,"Taux d'intérêt annuel",{"$f":"Profil_Investisseur!B98","v":5.0000000000000001E-3}]
[null,null,"Date de début de la dette",{"$f":"Profil_Investisseur!B99","v":"2017-01-01"}]
[null,null,"Nombre de versements par an",{"$f":"Profil_Investisseur!B100","v":12}]
[null,null,"Durée du remboursement (en année)",{"$f":"Profil_Investisseur!B101","v":1}]
[null,null,"Nombre de mensualités prévues",{"$f":"D10*D11","v":12}]
[null,null,"Total montant des intérêts",{"$f":"E13-D7","v":2.7104017673127601},{"$f":"D14*D12","v":1002.7104017673128}]
[null,null,"Mensualités",{"$f":"-PMT(D8/12,D12,D7)","v":83.559200147276059}]
[]
[]
[null,null,null,"Mensualité n°","Date du versement","Mensualités","Intérêts remboursés","Capital remboursé (amortissement)","CRD",null,"Intérêts cumulés"]
[null,null,null,1,{"$f":"IF($D$18:$D$201<>\"\",DATE(YEAR($D$9),MONTH($D$9)+($D$18:$D$201)*12/$D$10,DAY($D$9)),\"\")","v":"2017-02-01"},{"$f":"$D$14","v":83.559200147276059},{"$f":"D7*D8/12","v":0.41666666666666669},{"$f":"F18-G18","v":83.142533480609387},{"$f":"MAX(0,D7-H18)","v":916.85746651939064},null,{"$f":"G18","v":0.41666666666666669}]
[null,null,null,2,{"$f":"IF($D$18:$D$201<>\"\",DATE(YEAR($D$9),MONTH($D$9)+($D$18:$D$201)*12/$D$10,DAY($D$9)),\"\")","v":"2017-03-01"},{"$f":"$D$14","v":83.559200147276059},{"$f":"I18*$D$8/12","v":0.38202394438307946},{"$f":"F19-G19","v":83.17717620289298},{"$f":"MAX(0,I18-H19)","v":833.68029031649769},null,{"$f":"K18+G19","v":0.79869061104974615}]
[null,null,null,3,"2017-04-01",83.559200147276059,{"$f":"I19*$D$8/12","v":0.34736678763187401},{"$f":"F20-G20","v":83.211833359644189},{"$f":"MAX(0,I19-H20)","v":750.46845695685352},null,{"$f":"K19+G20","v":1.14605739868162}]
[null,null,null,4,"2017-05-01",83.559200147276059,0.31269519039868898,83.246504956877374,667.22195199997611,null,1.458752589080309]
[null,null,null,5,"2017-06-01",83.559200147276059,0.27800914666665671,83.281191000609397,583.94076099936672,null,1.7367617357469658]
[null,null,null,6,"2017-07-01",83.559200147276059,0.24330865041640282,83.315891496859649,500.62486950250707,null,1.9800703861633686]
[null,null,null,7,"2017-08-01",83.559200147276059,0.2085936956260446,83.350606451650009,417.27426305085703,null,2.1886640817894132]
[null,null,null,8,"2017-09-01",83.559200147276059,0.17386427627119042,83.38533587100487,333.88892717985215,null,2.3625283580606036]
[null,null,null,9,"2017-10-01",83.559200147276059,0.13912038632493839,83.420079760951126,250.46884741890102,null,2.501648744385542]
[null,null,null,10,"2017-11-01",83.559200147276059,0.10436201975787542,83.454838127518187,167.01400929138282,null,2.6060107641434174]
[null,null,null,11,"2017-12-01",83.559200147276059,6.9589170538076173E-2,83.489610976737978,83.524398314644841,null,2.6755999346814936]
[null,null,null,12,"2018-01-01",83.559200147276059,3.4801832631102016E-2,83.524398314644955,0,null,2.7104017673125957]
[null,null,null,13,null,null,null,null,0,null,2.7104017673125957]
[null,null,null,14,null,null,null,null,0,null,2.7104017673125957]
[null,null,null,15,null,null,null,null,0,null,2.7104017673125957]
[null,null,null,16,null,null,null,null,0,null,2.7104017673125957]
[null,null,null,17,null,null,null,null,0,null,2.7104017673125957]
[null,null,null,18,null,null,null,null,0,null,2.7104017673125957]
[null,null,null,19,null,null,null,null,0,null,2.7104017673125957]
[null,null,null,20,null,null,null,null,0,null,2.7104017673125957]
[null,null,null,21,null,null,null,null,0,null,2.7104017673125957]
[null,null,null,22,null,null,null,null,0,null,2.7104017673125957]
[null,null,null,23,null,null,null,null,0,null,2.7104017673125957]
[null,null,null,24,null,null,null,null,0,null,2.7104017673125957]
[null,null,null,25,null,null,null,null,0,null,2.7104017673125957]
[null,null,null,26,null,null,null,null,0,null,2.7104017673125957]
[null,null,null,27,null,null,null,null,0,null,2.7104017673125957]
[null,null,null,28,null,null,null,null,0,null,2.7104017673125957]
[null,null,null,29,null,null,null,null,0,null,2.7104017673125957]
[null,null,null,30,null,null,null,null,0,null,2.7104017673125957]
[null,null,null,31,null,null,null,null,0,null,2.7104017673125957]
[null,null,null,32,null,null,null,null,0,null,2.7104017673125957]
[null,null,null,33,null,null,null,null,0,null,2.7104017673125957]
[null,null,null,34,null,null,null,null,0,null,2.7104017673125957]
[null,null,null,35,null,null,null,null,0,null,2.7104017673125957]
[null,null,null,36,null,null,null,null,0,null,2.7104017673125957]
[null,null,null,37,null,null,null,null,0,null,2.7104017673125957]
[null,null,null,38,null,null,null,null,0,null,2.7104017673125957]
[null,null,null,39,null,null,null,null,0,null,2.7104017673125957]
[null,null,null,40,null,null,null,null,0,null,2.7104017673125957]
[null,null,null,41,null,null,null,null,0,null,2.7104017673125957]
[null,null,null,42,null,null,null,null,0,null,2.7104017673125957]
[null,null,null,43,null,null,null,null,0,null,2.7104017673125957]
[null,null,null,44,null,null,null,null,0,null,2.7104017673125957]
[null,null,null,45,null,null,null,null,0,null,2.7104017673125957]
[null,null,null,46,null,null,null,null,0,null,2.7104017673125957]
[null,null,null,47,null,null,null,null,0,null,2.7104017673125957]
[null,null,null,48,null,null,null,null,0,null,2.7104017673125957]
[null,null,null,49,null,null,null,null,0,null,2.7104017673125957]
[null,null,null,50,null,null,null,null,0,null,2.7104017673125957]
[null,null,null,51,null,null,null,null,0,null,2.7104017673125957]
[null,null,null,52,null,null,null,null,0,null,2.7104017673125957]
[null,null,null,53,null,null,null,null,0,null,2.7104017673125957]
[null,null,null,54,null,null,null,null,0,null,2.7104017673125957]
[null,null,null,55,null,null,null,null,0,null,2.7104017673125957]
[null,null,null,56,null,null,null,null,0,null,2.7104017673125957]
[null,null,null,57,null,null,null,null,0,null,2.7104017673125957]
[null,null,null,58,null,null,null,null,0,null,2.7104017673125957]
[null,null,null,59,null,null,null,null,0,null,2.7104017673125957]
[null,null,null,60,null,null,null,null,0,null,2.7104017673125957]
[null,null,null,61,null,null,null,null,0,null,2.7104017673125957]
[null,null,null,62,null,null,null,null,0,null,2.7104017673125957]
[null,null,null,63,null,null,null,null,0,null,2.7104017673125957]
[null,null,null,64,null,null,null,null,0,null,2.7104017673125957]
[null,null,null,65,null,null,null,null,0,null,2.7104017673125957]
[null,null,null,66,null,null,null,null,0,null,2.7104017673125957]
[null,null,null,67,null,null,null,null,{"$f":"MAX(0,I83-H84)","v":0},null,{"$f":"K83+G84","v":2.7104017673125957}]
[null,null,null,68,null,null,null,null,0,null,2.7104017673125957]
[null,null,null,69,null,null,null,null,0,null,2.7104017673125957]
[null,null,null,70,null,null,null,null,0,null,2.7104017673125957]
[null,null,null,71,null,null,null,null,0,null,2.7104017673125957]
[null,null,null,72,null,null,null,null,0,null,2.7104017673125957]
[null,null,null,73,null,null,null,null,0,null,2.7104017673125957]
[null,null,null,74,null,null,null,null,0,null,2.7104017673125957]
[null,null,null,75,null,null,null,null,0,null,2.7104017673125957]
[null,null,null,76,null,null,null,null,0,null,2.7104017673125957]
[null,null,null,77,null,null,null,null,0,null,2.7104017673125957]
[null,null,null,78,null,null,null,null,0,null,2.7104017673125957]
[null,null,null,79,null,null,null,null,0,null,2.7104017673125957]
[null,null,null,80,null,null,null,null,0,null,2.7104017673125957]
[null,null,null,81,null,null,null,null,0,null,2.7104017673125957]
[null,null,null,82,null,null,null,null,0,null,2.7104017673125957]
[null,null,null,83,null,null,null,null,0,null,2.7104017673125957]
[null,null,null,84,null,null,null,null,0,null,2.7104017673125957]
[null,null,null,85,null,null,null,null,0,null,2.7104017673125957]
[null,null,null,86,null,null,null,null,0,null,2.7104017673125957]
[null,null,null,87,null,null,null,null,0,null,2.7104017673125957]
[null,null,null,88,null,null,null,null,0,null,2.7104017673125957]
[null,null,null,89,null,null,null,null,0,null,2.7104017673125957]
[null,null,null,90,null,null,null,null,0,null,2.7104017673125957]
[null,null,null,91,null,null,null,null,0,null,2.7104017673125957]
[null,null,null,92,null,null,null,null,0,null,2.7104017673125957]
[null,null,null,93,null,null,null,null,0,null,2.7104017673125957]
[null,null,null,94,null,null,null,null,0,null,2.7104017673125957]
[null,null,null,95,null,null,null,null,0,null,2.7104017673125957]
[null,null,null,96,null,null,null,null,0,null,2.7104017673125957]
[null,null,null,97,null,null,null,null,0,null,2.7104017673125957]
[null,null,null,98,null,null,null,null,0,null,2.7104017673125957]
[null,null,null,99,null,null,null,null,0,null,2.7104017673125957]
[null,null,null,100,null,null,null,null,0,null,2.7104017673125957]
[null,null,null,101,null,null,null,null,0,null,2.7104017673125957]
[null,null,null,102,null,null,null,null,0,null,2.7104017673125957]
[null,null,null,103,null,null,null,null,0,null,2.7104017673125957]
[null,null,null,104,null,null,null,null,0,null,2.7104017673125957]
[null,null,null,105,null,null,null,null,0,null,2.7104017673125957]
[null,null,null,106,null,null,null,null,0,null,2.7104017673125957]
[null,null,null,107,null,null,null,null,0,null,2.7104017673125957]
[null,null,null,108,null,null,null,null,0,null,2.7104017673125957]
[null,null,null,109,null,null,null,null,0,null,2.7104017673125957]
[null,null,null,110,null,null,null,null,0,null,2.7104017673125957]
[null,null,null,111,null,null,null,null,0,null,2.7104017673125957]
[null,null,null,112,null,null,null,null,0,null,2.7104017673125957]
[null,null,null,113,null,null,null,null,0,null,2.7104017673125957]
[null,null,null,114,null,null,null,null,0,null,2.7104017673125957]
[null,null,null,115,null,null,null,null,0,null,2.7104017673125957]
[null,null,null,116,null,null,null,null,0,null,2.7104017673125957]
[null,null,null,117,null,null,null,null,0,null,2.7104017673125957]
[null,null,null,118,null,null,null,null,0,null,2.7104017673125957]
[null,null,null,119,null,null,null,null,0,null,2.7104017673125957]
[null,null,null,120,null,null,null,null,0,null,2.7104017673125957]
[null,null,null,121,null,null,null,null,0,null,2.7104017673125957]
[null,null,null,122,null,null,null,null,0,null,2.7104017673125957]
[null,null,null,123,null,null,null,null,0,null,2.7104017673125957]
[null,null,null,124,null,null,null,null,0,null,2.7104017673125957]
[null,null,null,125,null,null,null,null,0,null,2.7104017673125957]
[null,null,null,126,null,null,null,null,0,null,2.7104017673125957]
[null,null,null,127,null,null,null,null,0,null,2.7104017673125957]
[null,null,null,128,null,null,null,null,0,null,2.7104017673125957]
[null,null,null,129,null,null,null,null,0,null,2.7104017673125957]
[null,null,null,130,null,null,null,null,0,null,2.7104017673125957]
[null,null,null,131,null,null,null,null,{"$f":"MAX(0,I147-H148)","v":0},null,{"$f":"K147+G148","v":2.7104017673125957}]
[null,null,null,132,null,null,null,null,0,null,2.7104017673125957]
[null,null,null,133,null,null,null,null,0,null,2.7104017673125957]
[null,null,null,134,null,null,null,null,0,null,2.7104017673125957]
[null,null,null,135,null,null,null,null,0,null,2.7104017673125957]
[null,null,null,136,null,null,null,null,0,null,2.7104017673125957]
[null,null,null,137,null,null,null,null,0,null,2.7104017673125957]
[null,null,null,138,null,null,null,null,0,null,2.7104017673125957]
[null,null,null,139,null,null,null,null,0,null,2.7104017673125957]
[null,null,null,140,null,null,null,null,0,null,2.7104017673125957]
[null,null,null,141,null,null,null,null,0,null,2.7104017673125957]
[null,null,null,142,null,null,null,null,0,null,2.7104017673125957]
[null,null,null,143,null,null,null,null,0,null,2.7104017673125957]
[null,null,null,144,null,null,null,null,0,null,2.7104017673125957]
[null,null,null,145,null,null,null,null,0,null,2.7104017673125957]
[null,null,null,146,null,null,null,null,0,null,2.7104017673125957]
[null,null,null,147,null,null,null,null,0,null,2.7104017673125957]
[null,null,null,148,null,null,null,null,0,null,2.7104017673125957]
[null,null,null,149,null,null,null,null,0,null,2.7104017673125957]
[null,null,null,150,null,null,null,null,0,null,2.7104017673125957]
[null,null,null,151,null,null,null,null,0,null,2.7104017673125957]
[null,null,null,152,null,null,null,null,0,null,2.7104017673125957]
[null,null,null,153,null,null,null,null,0,null,2.7104017673125957]
[null,null,null,154,null,null,null,null,0,null,2.7104017673125957]
[null,null,null,155,null,null,null,null,0,null,2.7104017673125957]
[null,null,null,156,null,null,null,null,0,null,2.7104017673125957]
[null,null,null,157,null,null,null,null,0,null,2.7104017673125957]
[null,null,null,158,null,null,null,null,0,null,2.7104017673125957]
[null,null,null,159,null,null,null,null,0,null,2.7104017673125957]
[null,null,null,160,null,null,null,null,0,null,2.7104017673125957]
[null,null,null,161,null,null,null,null,0,null,2.7104017673125957]
[null,null,null,162,null,null,null,null,0,null,2.7104017673125957]
[null,null,null,163,null,null,null,null,0,null,2.7104017673125957]
[null,null,null,164,null,null,null,null,0,null,2.7104017673125957]
[null,null,null,165,null,null,null,null,0,null,2.7104017673125957]
[null,null,null,166,null,null,null,null,0,null,2.7104017673125957]
[null,null,null,167,null,null,null,null,0,null,2.7104017673125957]
[null,null,null,168,null,null,null,null,0,null,2.7104017673125957]
[null,null,null,169,null,null,null,null,0,null,2.7104017673125957]
[null,null,null,170,null,null,null,null,0,null,2.7104017673125957]
[null,null,null,171,null,null,null,null,0,null,2.7104017673125957]
[null,null,null,172,null,null,null,null,0,null,2.7104017673125957]
[null,null,null,173,null,null,null,null,0,null,2.7104017673125957]
[null,null,null,174,null,null,null,null,0,null,2.7104017673125957]
[null,null,null,175,null,null,null,null,0,null,2.7104017673125957]
[null,null,null,176,null,null,null,null,0,null,2.7104017673125957]
[null,null,null,177,null,null,null,null,0,null,2.7104017673125957]
[null,null,null,178,null,null,null,null,0,null,2.7104017673125957]
[null,null,null,179,null,null,null,null,0,null,2.7104017673125957]
[null,null,null,180,null,null,null,null,0,null,2.7104017673125957]
[null,null,null,181,null,null,null,null,0,null,2.7104017673125957]
[null,null,null,182,null,null,null,null,0,null,2.7104017673125957]
[null,null,null,183,null,null,null,null,0,null,2.7104017673125957]
[null,null,null,184,null,null,null,null,0,null,2.7104017673125957]

{"sheet":"Impôts revenus","index":25,"n_rows":55,"n_cols":8,"rows_kept":55,"cut":false,"hidden":false,"merged":[[1,2,2,5]]}
[]
[null,null,"Impôts sur le revenu"]
[]
[]
[null,"Année","Revenus - abattements","Revenus imposables","Impôts nets","Part foncière","TOTAL","Taux moyen"]
[null,1,{"$f":"IF(Profil_Investisseur!B$116=\"Déficit foncier réel\",Impots_Tranches!B3,Impot_Tranches!$B$64)","v":54905.659116374816},{"$f":"IF(Profil_Investisseur!B$116=\"Déficit foncier réel\",Impots_Tranches!B3,Impot_Tranches!B3)","v":54905.659116374816},{"$f":"IF(Profil_Investisseur!B$116=\"Déficit foncier réel\",Impots_Tranches!K3,Impot_Tranches!K3)","v":3567.8522762924754},{"$f":"IF(Profil_Investisseur!B$116=\"Déficit foncier réel\",Impots_Tranches!L3,Impot_Tranches!L3)","v":3132.9972762924754},{"$f":"IF(Profil_Investisseur!B$116=\"Déficit foncier réel\",Impots_Tranches!N3,Impot_Tranches!N3)","v":4960.0789082760057},{"$f":"E6/D6","v":6.4981503431736698E-2}]
[null,2,{"$f":"IF(Profil_Investisseur!B$116=\"Déficit foncier réel\",Impots_Tranches!B4,Impot_Tranches!$B$64)","v":55412.330513107605},{"$f":"IF(Profil_Investisseur!B$116=\"Déficit foncier réel\",Impots_Tranches!B4,Impot_Tranches!B4)","v":55412.330513107605},{"$f":"IF(Profil_Investisseur!B$116=\"Déficit foncier réel\",Impots_Tranches!K4,Impot_Tranches!K4)","v":3638.7862718350652},{"$f":"IF(Profil_Investisseur!B$116=\"Déficit foncier réel\",Impots_Tranches!L4,Impot_Tranches!L4)","v":3159.8312718350662},{"$f":"IF(Profil_Investisseur!B$116=\"Déficit foncier réel\",Impots_Tranches!N4,Impot_Tranches!N4)","v":4998.0454235805555},{"$f":"E7/D7","v":6.5667446904697904E-2}]
[null,3,{"$f":"IF(Profil_Investisseur!B$116=\"Déficit foncier réel\",Impots_Tranches!B5,Impot_Tranches!$B$64)","v":58494.12688831197},{"$f":"IF(Profil_Investisseur!B$116=\"Déficit foncier réel\",Impots_Tranches!B5,Impot_Tranches!B5)","v":58494.12688831197},{"$f":"IF(Profil_Investisseur!B$116=\"Déficit foncier réel\",Impots_Tranches!K5,Impot_Tranches!K5)","v":4070.2377643636764},{"$f":"IF(Profil_Investisseur!B$116=\"Déficit foncier réel\",Impots_Tranches!L5,Impot_Tranches!L5)","v":3546.9622643636781},{"$f":"IF(Profil_Investisseur!B$116=\"Déficit foncier réel\",Impots_Tranches!N5,Impot_Tranches!N5)","v":4953.8788395740157},6.9583699781267661E-2]
[null,4,{"$f":"IF(Profil_Investisseur!B$116=\"Déficit foncier réel\",Impots_Tranches!B6,Impot_Tranches!$B$64)","v":56609.23763676815},{"$f":"IF(Profil_Investisseur!B$116=\"Déficit foncier réel\",Impots_Tranches!B6,Impot_Tranches!B6)","v":56609.23763676815},{"$f":"IF(Profil_Investisseur!B$116=\"Déficit foncier réel\",Impots_Tranches!K6,Impot_Tranches!K6)","v":3806.3532691475416},{"$f":"IF(Profil_Investisseur!B$116=\"Déficit foncier réel\",Impots_Tranches!L6,Impot_Tranches!L6)","v":3238.5356666475454},{"$f":"IF(Profil_Investisseur!B$116=\"Déficit foncier réel\",Impots_Tranches!N6,Impot_Tranches!N6)","v":5068.9184501234113},6.7239083726421442E-2]
[null,5,{"$f":"IF(Profil_Investisseur!B$116=\"Déficit foncier réel\",Impots_Tranches!B7,Impot_Tranches!$B$64)","v":60613.147535962467},{"$f":"IF(Profil_Investisseur!B$116=\"Déficit foncier réel\",Impots_Tranches!B7,Impot_Tranches!B7)","v":60613.147535962467},{"$f":"IF(Profil_Investisseur!B$116=\"Déficit foncier réel\",Impots_Tranches!K7,Impot_Tranches!K7)","v":4366.9006550347458},{"$f":"IF(Profil_Investisseur!B$116=\"Déficit foncier réel\",Impots_Tranches!L7,Impot_Tranches!L7)","v":3754.3182395222502},{"$f":"IF(Profil_Investisseur!B$116=\"Déficit foncier réel\",Impots_Tranches!N7,Impot_Tranches!N7)","v":3738.0112064477976},7.2045436222295076E-2]
[null,6,{"$f":"IF(Profil_Investisseur!B$116=\"Déficit foncier réel\",Impots_Tranches!B8,Impot_Tranches!$B$64)","v":57828.274489763782},{"$f":"IF(Profil_Investisseur!B$116=\"Déficit foncier réel\",Impots_Tranches!B8,Impot_Tranches!B8)","v":57828.274489763782},{"$f":"IF(Profil_Investisseur!B$116=\"Déficit foncier réel\",Impots_Tranches!K8,Impot_Tranches!K8)","v":3977.0184285669302},{"$f":"IF(Profil_Investisseur!B$116=\"Déficit foncier réel\",Impots_Tranches!L8,Impot_Tranches!L8)","v":3319.4473759768757},{"$f":"IF(Profil_Investisseur!B$116=\"Déficit foncier réel\",Impots_Tranches!N8,Impot_Tranches!N8)","v":5140.1777952239099},6.8772905013289032E-2]
[null,7,{"$f":"IF(Profil_Investisseur!B$116=\"Déficit foncier réel\",Impots_Tranches!B9,Impot_Tranches!$B$64)","v":57137.893101663547},{"$f":"IF(Profil_Investisseur!B$116=\"Déficit foncier réel\",Impots_Tranches!B9,Impot_Tranches!B9)","v":57137.893101663547},{"$f":"IF(Profil_Investisseur!B$116=\"Déficit foncier réel\",Impots_Tranches!K9,Impot_Tranches!K9)","v":3880.365034232897},{"$f":"IF(Profil_Investisseur!B$116=\"Déficit foncier réel\",Impots_Tranches!L9,Impot_Tranches!L9)","v":3177.5804013798934},{"$f":"IF(Profil_Investisseur!B$116=\"Déficit foncier réel\",Impots_Tranches!N9,Impot_Tranches!N9)","v":5217.8181125375968},6.7912287688464343E-2]
[null,8,{"$f":"IF(Profil_Investisseur!B$116=\"Déficit foncier réel\",Impots_Tranches!B10,Impot_Tranches!$B$64)","v":57324.183902739729},{"$f":"IF(Profil_Investisseur!B$116=\"Déficit foncier réel\",Impots_Tranches!B10,Impot_Tranches!B10)","v":57324.183902739729},{"$f":"IF(Profil_Investisseur!B$116=\"Déficit foncier réel\",Impots_Tranches!K10,Impot_Tranches!K10)","v":3906.4457463835624},{"$f":"IF(Profil_Investisseur!B$116=\"Déficit foncier réel\",Impots_Tranches!L10,Impot_Tranches!L10)","v":3158.2214653662945},{"$f":"IF(Profil_Investisseur!B$116=\"Déficit foncier réel\",Impots_Tranches!N10,Impot_Tranches!N10)","v":5267.6826603621121},6.8146556661173141E-2]
[null,9,{"$f":"IF(Profil_Investisseur!B$116=\"Déficit foncier réel\",Impots_Tranches!B11,Impot_Tranches!$B$64)","v":57509.348825790978},{"$f":"IF(Profil_Investisseur!B$116=\"Déficit foncier réel\",Impots_Tranches!B11,Impot_Tranches!B11)","v":57509.348825790978},{"$f":"IF(Profil_Investisseur!B$116=\"Déficit foncier réel\",Impots_Tranches!K11,Impot_Tranches!K11)","v":3932.3688356107377},{"$f":"IF(Profil_Investisseur!B$116=\"Déficit foncier réel\",Impots_Tranches!L11,Impot_Tranches!L11)","v":3138.4777081883849},{"$f":"IF(Profil_Investisseur!B$116=\"Déficit foncier réel\",Impots_Tranches!N11,Impot_Tranches!N11)","v":5317.8623655507181},6.8377905782289167E-2]
[null,10,{"$f":"IF(Profil_Investisseur!B$116=\"Déficit foncier réel\",Impots_Tranches!B12,Impot_Tranches!$B$64)","v":57693.341027427814},{"$f":"IF(Profil_Investisseur!B$116=\"Déficit foncier réel\",Impots_Tranches!B12,Impot_Tranches!B12)","v":57693.341027427814},{"$f":"IF(Profil_Investisseur!B$116=\"Déficit foncier réel\",Impots_Tranches!K12,Impot_Tranches!K12)","v":3958.1277438398952},{"$f":"IF(Profil_Investisseur!B$116=\"Déficit foncier réel\",Impots_Tranches!L12,Impot_Tranches!L12)","v":3118.3414357804309},{"$f":"IF(Profil_Investisseur!B$116=\"Déficit foncier réel\",Impots_Tranches!N12,Impot_Tranches!N12)","v":5368.3601227382251},6.8606318742368791E-2]
[null,11,{"$f":"IF(Profil_Investisseur!B$116=\"Déficit foncier réel\",Impots_Tranches!B13,Impot_Tranches!$B$64)","v":57876.112605696457},{"$f":"IF(Profil_Investisseur!B$116=\"Déficit foncier réel\",Impots_Tranches!B13,Impot_Tranches!B13)","v":57876.112605696457},{"$f":"IF(Profil_Investisseur!B$116=\"Déficit foncier réel\",Impots_Tranches!K13,Impot_Tranches!K13)","v":3983.7157647975046},{"$f":"IF(Profil_Investisseur!B$116=\"Déficit foncier réel\",Impots_Tranches!L13,Impot_Tranches!L13)","v":3097.8048001977454},{"$f":"IF(Profil_Investisseur!B$116=\"Déficit foncier réel\",Impots_Tranches!N13,Impot_Tranches!N13)","v":5419.1788674117042},6.8831778525591705E-2]
[null,12,{"$f":"IF(Profil_Investisseur!B$116=\"Déficit foncier réel\",Impots_Tranches!B14,Impot_Tranches!$B$64)","v":58057.614578299042},{"$f":"IF(Profil_Investisseur!B$116=\"Déficit foncier réel\",Impots_Tranches!B14,Impot_Tranches!B14)","v":58057.614578299042},{"$f":"IF(Profil_Investisseur!B$116=\"Déficit foncier réel\",Impots_Tranches!K14,Impot_Tranches!K14)","v":4009.1260409618662},{"$f":"IF(Profil_Investisseur!B$116=\"Déficit foncier réel\",Impots_Tranches!L14,Impot_Tranches!L14)","v":3076.8597965391073},{"$f":"IF(Profil_Investisseur!B$116=\"Déficit foncier réel\",Impots_Tranches!N14,Impot_Tranches!N14)","v":5470.3215766423864},6.9054267387355081E-2]
[null,13,{"$f":"IF(Profil_Investisseur!B$116=\"Déficit foncier réel\",Impots_Tranches!B15,Impot_Tranches!$B$64)","v":58237.796860375034},{"$f":"IF(Profil_Investisseur!B$116=\"Déficit foncier réel\",Impots_Tranches!B15,Impot_Tranches!B15)","v":58237.796860375034},{"$f":"IF(Profil_Investisseur!B$116=\"Déficit foncier réel\",Impots_Tranches!K15,Impot_Tranches!K15)","v":4034.3515604525055},{"$f":"IF(Profil_Investisseur!B$116=\"Déficit foncier réel\",Impots_Tranches!L15,Impot_Tranches!L15)","v":3055.4982598076376},{"$f":"IF(Profil_Investisseur!B$116=\"Déficit foncier réel\",Impots_Tranches!N15,Impot_Tranches!N15)","v":5521.7912698316959},6.9273766830926883E-2]
[null,14,{"$f":"IF(Profil_Investisseur!B$116=\"Déficit foncier réel\",Impots_Tranches!B16,Impot_Tranches!$B$64)","v":58416.608241835456},{"$f":"IF(Profil_Investisseur!B$116=\"Déficit foncier réel\",Impots_Tranches!B16,Impot_Tranches!B16)","v":58416.608241835456},{"$f":"IF(Profil_Investisseur!B$116=\"Déficit foncier réel\",Impots_Tranches!K16,Impot_Tranches!K16)","v":4059.3851538569652},{"$f":"IF(Profil_Investisseur!B$116=\"Déficit foncier réel\",Impots_Tranches!L16,Impot_Tranches!L16)","v":3033.7118617088727},{"$f":"IF(Profil_Investisseur!B$116=\"Déficit foncier réel\",Impots_Tranches!N16,Impot_Tranches!N16)","v":5573.5910094717856},6.9490257583113293E-2]
[null,15,{"$f":"IF(Profil_Investisseur!B$116=\"Déficit foncier réel\",Impots_Tranches!B17,Impot_Tranches!$B$64)","v":58593.996364240476},{"$f":"IF(Profil_Investisseur!B$116=\"Déficit foncier réel\",Impots_Tranches!B17,Impot_Tranches!B17)","v":58593.996364240476},{"$f":"IF(Profil_Investisseur!B$116=\"Déficit foncier réel\",Impots_Tranches!K17,Impot_Tranches!K17)","v":4084.219490993667},{"$f":"IF(Profil_Investisseur!B$116=\"Déficit foncier réel\",Impots_Tranches!L17,Impot_Tranches!L17)","v":3011.4921073848345},{"$f":"IF(Profil_Investisseur!B$116=\"Déficit foncier réel\",Impots_Tranches!N17,Impot_Tranches!N17)","v":5625.7239019208673},6.9703719568891515E-2]
[null,16,{"$f":"IF(Profil_Investisseur!B$116=\"Déficit foncier réel\",Impots_Tranches!B18,Impot_Tranches!$B$64)","v":58769.907697211689},{"$f":"IF(Profil_Investisseur!B$116=\"Déficit foncier réel\",Impots_Tranches!B18,Impot_Tranches!B18)","v":58769.907697211689},{"$f":"IF(Profil_Investisseur!B$116=\"Déficit foncier réel\",Impots_Tranches!K18,Impot_Tranches!K18)","v":4108.8470776096365},{"$f":"IF(Profil_Investisseur!B$116=\"Déficit foncier réel\",Impots_Tranches!L18,Impot_Tranches!L18)","v":2988.8303320827627},{"$f":"IF(Profil_Investisseur!B$116=\"Déficit foncier réel\",Impots_Tranches!N18,Impot_Tranches!N18)","v":5678.1930981936666},6.9914131884957487E-2]
[null,17,{"$f":"IF(Profil_Investisseur!B$116=\"Déficit foncier réel\",Impots_Tranches!B19,Impot_Tranches!$B$64)","v":58944.287514369324},{"$f":"IF(Profil_Investisseur!B$116=\"Déficit foncier réel\",Impots_Tranches!B19,Impot_Tranches!B19)","v":58944.287514369324},{"$f":"IF(Profil_Investisseur!B$116=\"Déficit foncier réel\",Impots_Tranches!K19,Impot_Tranches!K19)","v":4133.2602520117052},{"$f":"IF(Profil_Investisseur!B$116=\"Déficit foncier réel\",Impots_Tranches!L19,Impot_Tranches!L19)","v":2965.7176977571971},{"$f":"IF(Profil_Investisseur!B$116=\"Déficit foncier réel\",Impots_Tranches!N19,Impot_Tranches!N19)","v":5731.0017947671449},7.0121472772134319E-2]
[null,18,{"$f":"IF(Profil_Investisseur!B$116=\"Déficit foncier réel\",Impots_Tranches!B20,Impot_Tranches!$B$64)","v":59117.079868785251},{"$f":"IF(Profil_Investisseur!B$116=\"Déficit foncier réel\",Impots_Tranches!B20,Impot_Tranches!B20)","v":59117.079868785251},{"$f":"IF(Profil_Investisseur!B$116=\"Déficit foncier réel\",Impots_Tranches!K20,Impot_Tranches!K20)","v":4157.4511816299364},{"$f":"IF(Profil_Investisseur!B$116=\"Déficit foncier réel\",Impots_Tranches!L20,Impot_Tranches!L20)","v":2942.1451896041572},{"$f":"IF(Profil_Investisseur!B$116=\"Déficit foncier réel\",Impots_Tranches!N20,Impot_Tranches!N20)","v":5784.1532344019761},7.0325719586584928E-2]
[null,19,{"$f":"IF(Profil_Investisseur!B$116=\"Déficit foncier réel\",Impots_Tranches!B21,Impot_Tranches!$B$64)","v":59288.227567941773},{"$f":"IF(Profil_Investisseur!B$116=\"Déficit foncier réel\",Impots_Tranches!B21,Impot_Tranches!B21)","v":59288.227567941773},{"$f":"IF(Profil_Investisseur!B$116=\"Déficit foncier réel\",Impots_Tranches!K21,Impot_Tranches!K21)","v":4181.4118595118489},{"$f":"IF(Profil_Investisseur!B$116=\"Déficit foncier réel\",Impots_Tranches!L21,Impot_Tranches!L21)","v":2918.1036125259434},{"$f":"IF(Profil_Investisseur!B$116=\"Déficit foncier réel\",Impots_Tranches!N21,Impot_Tranches!N21)","v":5837.6507069799791},7.0526848769768502E-2]
[null,20,{"$f":"IF(Profil_Investisseur!B$116=\"Déficit foncier réel\",Impots_Tranches!B22,Impot_Tranches!$B$64)","v":59457.672148186641},{"$f":"IF(Profil_Investisseur!B$116=\"Déficit foncier réel\",Impots_Tranches!B22,Impot_Tranches!B22)","v":59457.672148186641},{"$f":"IF(Profil_Investisseur!B$116=\"Déficit foncier réel\",Impots_Tranches!K22,Impot_Tranches!K22)","v":4205.1341007461297},{"$f":"IF(Profil_Investisseur!B$116=\"Déficit foncier réel\",Impots_Tranches!L22,Impot_Tranches!L22)","v":2893.5835875252951},{"$f":"IF(Profil_Investisseur!B$116=\"Déficit foncier réel\",Impots_Tranches!N22,Impot_Tranches!N22)","v":5891.4975503579099},7.0724835817077628E-2]
[null,21,{"$f":"IF(Profil_Investisseur!B$116=\"Déficit foncier réel\",Impots_Tranches!B23,Impot_Tranches!$B$64)","v":69608.421362763838},{"$f":"IF(Profil_Investisseur!B$116=\"Déficit foncier réel\",Impots_Tranches!B23,Impot_Tranches!B23)","v":69608.421362763838},{"$f":"IF(Profil_Investisseur!B$116=\"Déficit foncier réel\",Impots_Tranches!K23,Impot_Tranches!K23)","v":6415.0464088291519},{"$f":"IF(Profil_Investisseur!B$116=\"Déficit foncier réel\",Impots_Tranches!L23,Impot_Tranches!L23)","v":5055.0124180422144},{"$f":"IF(Profil_Investisseur!B$116=\"Déficit foncier réel\",Impots_Tranches!N23,Impot_Tranches!N23)","v":6415.0464088291519},9.215905609175043E-2]
[null,22,{"$f":"IF(Profil_Investisseur!B$116=\"Déficit foncier réel\",Impots_Tranches!B24,Impot_Tranches!$B$64)","v":69956.463469577633},{"$f":"IF(Profil_Investisseur!B$116=\"Déficit foncier réel\",Impots_Tranches!B24,Impot_Tranches!B24)","v":69956.463469577633},{"$f":"IF(Profil_Investisseur!B$116=\"Déficit foncier réel\",Impots_Tranches!K24,Impot_Tranches!K24)","v":6519.4590408732911},{"$f":"IF(Profil_Investisseur!B$116=\"Déficit foncier réel\",Impots_Tranches!L24,Impot_Tranches!L24)","v":5110.6991551324227},{"$f":"IF(Profil_Investisseur!B$116=\"Déficit foncier réel\",Impots_Tranches!N24,Impot_Tranches!N24)","v":6519.4590408732911},9.3193090638557588E-2]
[null,23,{"$f":"IF(Profil_Investisseur!B$116=\"Déficit foncier réel\",Impots_Tranches!B25,Impot_Tranches!$B$64)","v":70306.245786925516},{"$f":"IF(Profil_Investisseur!B$116=\"Déficit foncier réel\",Impots_Tranches!B25,Impot_Tranches!B25)","v":70306.245786925516},{"$f":"IF(Profil_Investisseur!B$116=\"Déficit foncier réel\",Impots_Tranches!K25,Impot_Tranches!K25)","v":6624.3937360776545},{"$f":"IF(Profil_Investisseur!B$116=\"Déficit foncier réel\",Impots_Tranches!L25,Impot_Tranches!L25)","v":5166.6643259080838},{"$f":"IF(Profil_Investisseur!B$116=\"Déficit foncier réel\",Impots_Tranches!N25,Impot_Tranches!N25)","v":6624.3937360776545},9.4221980734883137E-2]
[null,24,{"$f":"IF(Profil_Investisseur!B$116=\"Déficit foncier réel\",Impots_Tranches!B26,Impot_Tranches!$B$64)","v":70657.77701586012},{"$f":"IF(Profil_Investisseur!B$116=\"Déficit foncier réel\",Impots_Tranches!B26,Impot_Tranches!B26)","v":70657.77701586012},{"$f":"IF(Profil_Investisseur!B$116=\"Déficit foncier réel\",Impots_Tranches!K26,Impot_Tranches!K26)","v":6729.8531047580364},{"$f":"IF(Profil_Investisseur!B$116=\"Déficit foncier réel\",Impots_Tranches!L26,Impot_Tranches!L26)","v":5222.9093225376182},{"$f":"IF(Profil_Investisseur!B$116=\"Déficit foncier réel\",Impots_Tranches!N26,Impot_Tranches!N26)","v":6729.8531047580364},9.5245751975008036E-2]
[null,25,{"$f":"IF(Profil_Investisseur!B$116=\"Déficit foncier réel\",Impots_Tranches!B27,Impot_Tranches!$B$64)","v":71011.065900939429},{"$f":"IF(Profil_Investisseur!B$116=\"Déficit foncier réel\",Impots_Tranches!B27,Impot_Tranches!B27)","v":71011.065900939429},{"$f":"IF(Profil_Investisseur!B$116=\"Déficit foncier réel\",Impots_Tranches!K27,Impot_Tranches!K27)","v":6835.8397702818293},{"$f":"IF(Profil_Investisseur!B$116=\"Déficit foncier réel\",Impots_Tranches!L27,Impot_Tranches!L27)","v":5279.4355441503085},{"$f":"IF(Profil_Investisseur!B$116=\"Déficit foncier réel\",Impots_Tranches!N27,Impot_Tranches!N27)","v":6835.8397702818293},9.626442982587867E-2]
[null,26,{"$f":"IF(Profil_Investisseur!B$116=\"Déficit foncier réel\",Impots_Tranches!B28,Impot_Tranches!$B$64)","v":71366.121230444114},{"$f":"IF(Profil_Investisseur!B$116=\"Déficit foncier réel\",Impots_Tranches!B28,Impot_Tranches!B28)","v":71366.121230444114},{"$f":"IF(Profil_Investisseur!B$116=\"Déficit foncier réel\",Impots_Tranches!K28,Impot_Tranches!K28)","v":6942.3563691332347},{"$f":"IF(Profil_Investisseur!B$116=\"Déficit foncier réel\",Impots_Tranches!L28,Impot_Tranches!L28)","v":5352.0066706977059},{"$f":"IF(Profil_Investisseur!B$116=\"Déficit foncier réel\",Impots_Tranches!N28,Impot_Tranches!N28)","v":6942.3563691332347},9.7278039627739926E-2]
[null,27,{"$f":"IF(Profil_Investisseur!B$116=\"Déficit foncier réel\",Impots_Tranches!B29,Impot_Tranches!$B$64)","v":71722.95183659633},{"$f":"IF(Profil_Investisseur!B$116=\"Déficit foncier réel\",Impots_Tranches!B29,Impot_Tranches!B29)","v":71722.95183659633},{"$f":"IF(Profil_Investisseur!B$116=\"Déficit foncier réel\",Impots_Tranches!K29,Impot_Tranches!K29)","v":7049.4055509788996},{"$f":"IF(Profil_Investisseur!B$116=\"Déficit foncier réel\",Impots_Tranches!L29,Impot_Tranches!L29)","v":5430.509404051194},{"$f":"IF(Profil_Investisseur!B$116=\"Déficit foncier réel\",Impots_Tranches!N29,Impot_Tranches!N29)","v":7049.4055509788996},9.8286606594766096E-2]
[null,28,{"$f":"IF(Profil_Investisseur!B$116=\"Déficit foncier réel\",Impots_Tranches!B30,Impot_Tranches!$B$64)","v":72081.566595779295},{"$f":"IF(Profil_Investisseur!B$116=\"Déficit foncier réel\",Impots_Tranches!B30,Impot_Tranches!B30)","v":72081.566595779295},{"$f":"IF(Profil_Investisseur!B$116=\"Déficit foncier réel\",Impots_Tranches!K30,Impot_Tranches!K30)","v":7156.989978733789},{"$f":"IF(Profil_Investisseur!B$116=\"Déficit foncier réel\",Impots_Tranches!L30,Impot_Tranches!L30)","v":5509.4046510714452},{"$f":"IF(Profil_Investisseur!B$116=\"Déficit foncier réel\",Impots_Tranches!N30,Impot_Tranches!N30)","v":7156.989978733789},9.9290155815687606E-2]
[null,29,{"$f":"IF(Profil_Investisseur!B$116=\"Déficit foncier réel\",Impots_Tranches!B31,Impot_Tranches!$B$64)","v":72441.974428758185},{"$f":"IF(Profil_Investisseur!B$116=\"Déficit foncier réel\",Impots_Tranches!B31,Impot_Tranches!B31)","v":72441.974428758185},{"$f":"IF(Profil_Investisseur!B$116=\"Déficit foncier réel\",Impots_Tranches!K31,Impot_Tranches!K31)","v":7265.112328627456},{"$f":"IF(Profil_Investisseur!B$116=\"Déficit foncier réel\",Impots_Tranches!L31,Impot_Tranches!L31)","v":5588.6943743268012},{"$f":"IF(Profil_Investisseur!B$116=\"Déficit foncier réel\",Impots_Tranches!N31,Impot_Tranches!N31)","v":7265.112328627456},0.1002887122544155]
[null,30,{"$f":"IF(Profil_Investisseur!B$116=\"Déficit foncier réel\",Impots_Tranches!B32,Impot_Tranches!$B$64)","v":72804.18430090195},{"$f":"IF(Profil_Investisseur!B$116=\"Déficit foncier réel\",Impots_Tranches!B32,Impot_Tranches!B32)","v":72804.18430090195},{"$f":"IF(Profil_Investisseur!B$116=\"Déficit foncier réel\",Impots_Tranches!K32,Impot_Tranches!K32)","v":7373.775290270587},{"$f":"IF(Profil_Investisseur!B$116=\"Déficit foncier réel\",Impots_Tranches!L32,Impot_Tranches!L32)","v":5668.3805461984302},{"$f":"IF(Profil_Investisseur!B$116=\"Déficit foncier réel\",Impots_Tranches!N32,Impot_Tranches!N32)","v":7373.775290270587},0.10128230075066215]
[null,31,{"$f":"IF(Profil_Investisseur!B$116=\"Déficit foncier réel\",Impots_Tranches!B33,Impot_Tranches!$B$64)","v":73168.205222406454},{"$f":"IF(Profil_Investisseur!B$116=\"Déficit foncier réel\",Impots_Tranches!B33,Impot_Tranches!B33)","v":73168.205222406454},{"$f":"IF(Profil_Investisseur!B$116=\"Déficit foncier réel\",Impots_Tranches!K33,Impot_Tranches!K33)","v":7482.9815667219373},{"$f":"IF(Profil_Investisseur!B$116=\"Déficit foncier réel\",Impots_Tranches!L33,Impot_Tranches!L33)","v":5748.465148929421},{"$f":"IF(Profil_Investisseur!B$116=\"Déficit foncier réel\",Impots_Tranches!N33,Impot_Tranches!N33)","v":7482.9815667219373},0.10227094602055932]
[null,32,{"$f":"IF(Profil_Investisseur!B$116=\"Déficit foncier réel\",Impots_Tranches!B34,Impot_Tranches!$B$64)","v":73534.046248518454},{"$f":"IF(Profil_Investisseur!B$116=\"Déficit foncier réel\",Impots_Tranches!B34,Impot_Tranches!B34)","v":73534.046248518454},{"$f":"IF(Profil_Investisseur!B$116=\"Déficit foncier réel\",Impots_Tranches!K34,Impot_Tranches!K34)","v":7592.7338745555371},{"$f":"IF(Profil_Investisseur!B$116=\"Déficit foncier réel\",Impots_Tranches!L34,Impot_Tranches!L34)","v":5828.9501746740598},{"$f":"IF(Profil_Investisseur!B$116=\"Déficit foncier réel\",Impots_Tranches!N34,Impot_Tranches!N34)","v":7592.7338745555371},0.10325467265727287]
[null,33,{"$f":"IF(Profil_Investisseur!B$116=\"Déficit foncier réel\",Impots_Tranches!B35,Impot_Tranches!$B$64)","v":73901.716479761046},{"$f":"IF(Profil_Investisseur!B$116=\"Déficit foncier réel\",Impots_Tranches!B35,Impot_Tranches!B35)","v":73901.716479761046},{"$f":"IF(Profil_Investisseur!B$116=\"Déficit foncier réel\",Impots_Tranches!K35,Impot_Tranches!K35)","v":7703.0349439283145},{"$f":"IF(Profil_Investisseur!B$116=\"Déficit foncier réel\",Impots_Tranches!L35,Impot_Tranches!L35)","v":5909.8376255474304},{"$f":"IF(Profil_Investisseur!B$116=\"Déficit foncier réel\",Impots_Tranches!N35,Impot_Tranches!N35)","v":7703.0349439283145},0.10423350513161479]
[null,34,{"$f":"IF(Profil_Investisseur!B$116=\"Déficit foncier réel\",Impots_Tranches!B36,Impot_Tranches!$B$64)","v":74271.22506215985},{"$f":"IF(Profil_Investisseur!B$116=\"Déficit foncier réel\",Impots_Tranches!B36,Impot_Tranches!B36)","v":74271.22506215985},{"$f":"IF(Profil_Investisseur!B$116=\"Déficit foncier réel\",Impots_Tranches!K36,Impot_Tranches!K36)","v":7813.8875186479563},{"$f":"IF(Profil_Investisseur!B$116=\"Déficit foncier réel\",Impots_Tranches!L36,Impot_Tranches!L36)","v":5991.1295136751687},{"$f":"IF(Profil_Investisseur!B$116=\"Déficit foncier réel\",Impots_Tranches!N36,Impot_Tranches!N36)","v":7813.8875186479563},0.10520746779265154]
[null,35,{"$f":"IF(Profil_Investisseur!B$116=\"Déficit foncier réel\",Impots_Tranches!B37,Impot_Tranches!$B$64)","v":74642.581187470641},{"$f":"IF(Profil_Investisseur!B$116=\"Déficit foncier réel\",Impots_Tranches!B37,Impot_Tranches!B37)","v":74642.581187470641},{"$f":"IF(Profil_Investisseur!B$116=\"Déficit foncier réel\",Impots_Tranches!K37,Impot_Tranches!K37)","v":7925.2943562411929},{"$f":"IF(Profil_Investisseur!B$116=\"Déficit foncier réel\",Impots_Tranches!L37,Impot_Tranches!L37)","v":6072.8278612435424},{"$f":"IF(Profil_Investisseur!B$116=\"Déficit foncier réel\",Impots_Tranches!N37,Impot_Tranches!N37)","v":7925.2943562411929},0.10617658486830996]
[null,36,{"$f":"IF(Profil_Investisseur!B$116=\"Déficit foncier réel\",Impots_Tranches!B38,Impot_Tranches!$B$64)","v":75015.794093407982},{"$f":"IF(Profil_Investisseur!B$116=\"Déficit foncier réel\",Impots_Tranches!B38,Impot_Tranches!B38)","v":75015.794093407982},{"$f":"IF(Profil_Investisseur!B$116=\"Déficit foncier réel\",Impots_Tranches!K38,Impot_Tranches!K38)","v":8037.2582280223942},{"$f":"IF(Profil_Investisseur!B$116=\"Déficit foncier réel\",Impots_Tranches!L38,Impot_Tranches!L38)","v":6154.9347005497557},{"$f":"IF(Profil_Investisseur!B$116=\"Déficit foncier réel\",Impots_Tranches!N38,Impot_Tranches!N38)","v":8037.2582280223942},0.10714088046598001]
[null,37,{"$f":"IF(Profil_Investisseur!B$116=\"Déficit foncier réel\",Impots_Tranches!B39,Impot_Tranches!$B$64)","v":75390.873063875013},{"$f":"IF(Profil_Investisseur!B$116=\"Déficit foncier réel\",Impots_Tranches!B39,Impot_Tranches!B39)","v":75390.873063875013},{"$f":"IF(Profil_Investisseur!B$116=\"Déficit foncier réel\",Impots_Tranches!K39,Impot_Tranches!K39)","v":8149.7819191625058},{"$f":"IF(Profil_Investisseur!B$116=\"Déficit foncier réel\",Impots_Tranches!L39,Impot_Tranches!L39)","v":6237.4520740525058},{"$f":"IF(Profil_Investisseur!B$116=\"Déficit foncier réel\",Impots_Tranches!N39,Impot_Tranches!N39)","v":8149.7819191625058},0.10810037857311446]
[null,38,{"$f":"IF(Profil_Investisseur!B$116=\"Déficit foncier réel\",Impots_Tranches!B40,Impot_Tranches!$B$64)","v":75767.827429194367},{"$f":"IF(Profil_Investisseur!B$116=\"Déficit foncier réel\",Impots_Tranches!B40,Impot_Tranches!B40)","v":75767.827429194367},{"$f":"IF(Profil_Investisseur!B$116=\"Déficit foncier réel\",Impots_Tranches!K40,Impot_Tranches!K40)","v":8262.8682287583106},{"$f":"IF(Profil_Investisseur!B$116=\"Déficit foncier réel\",Impots_Tranches!L40,Impot_Tranches!L40)","v":6320.3820344227606},{"$f":"IF(Profil_Investisseur!B$116=\"Déficit foncier réel\",Impots_Tranches!N40,Impot_Tranches!N40)","v":8262.8682287583106},0.10905510305782525]
[null,39,{"$f":"IF(Profil_Investisseur!B$116=\"Déficit foncier réel\",Impots_Tranches!B41,Impot_Tranches!$B$64)","v":76146.666566340326},{"$f":"IF(Profil_Investisseur!B$116=\"Déficit foncier réel\",Impots_Tranches!B41,Impot_Tranches!B41)","v":76146.666566340326},{"$f":"IF(Profil_Investisseur!B$116=\"Déficit foncier réel\",Impots_Tranches!K41,Impot_Tranches!K41)","v":8376.5199699020995},{"$f":"IF(Profil_Investisseur!B$116=\"Déficit foncier réel\",Impots_Tranches!L41,Impot_Tranches!L41)","v":6403.7266445948735},{"$f":"IF(Profil_Investisseur!B$116=\"Déficit foncier réel\",Impots_Tranches!N41,Impot_Tranches!N41)","v":8376.5199699020995},0.11000507766947784]
[null,40,{"$f":"IF(Profil_Investisseur!B$116=\"Déficit foncier réel\",Impots_Tranches!B42,Impot_Tranches!$B$64)","v":76527.399899172015},{"$f":"IF(Profil_Investisseur!B$116=\"Déficit foncier réel\",Impots_Tranches!B42,Impot_Tranches!B42)","v":76527.399899172015},{"$f":"IF(Profil_Investisseur!B$116=\"Déficit foncier réel\",Impots_Tranches!K42,Impot_Tranches!K42)","v":8490.7399697516048},{"$f":"IF(Profil_Investisseur!B$116=\"Déficit foncier réel\",Impots_Tranches!L42,Impot_Tranches!L42)","v":6487.4879778178429},{"$f":"IF(Profil_Investisseur!B$116=\"Déficit foncier réel\",Impots_Tranches!N42,Impot_Tranches!N42)","v":8490.7399697516048},0.11095032603928139]
[null,41,{"$f":"IF(Profil_Investisseur!B$116=\"Déficit foncier réel\",Impots_Tranches!B43,Impot_Tranches!$B$64)","v":76910.036898667866},{"$f":"IF(Profil_Investisseur!B$116=\"Déficit foncier réel\",Impots_Tranches!B43,Impot_Tranches!B43)","v":76910.036898667866},{"$f":"IF(Profil_Investisseur!B$116=\"Déficit foncier réel\",Impots_Tranches!K43,Impot_Tranches!K43)","v":8605.5310696003617},{"$f":"IF(Profil_Investisseur!B$116=\"Déficit foncier réel\",Impots_Tranches!L43,Impot_Tranches!L43)","v":6571.6681177069313},{"$f":"IF(Profil_Investisseur!B$116=\"Déficit foncier réel\",Impots_Tranches!N43,Impot_Tranches!N43)","v":8605.5310696003617},0.111890871680877]
[null,42,{"$f":"IF(Profil_Investisseur!B$116=\"Déficit foncier réel\",Impots_Tranches!B44,Impot_Tranches!$B$64)","v":77294.587083161197},{"$f":"IF(Profil_Investisseur!B$116=\"Déficit foncier réel\",Impots_Tranches!B44,Impot_Tranches!B44)","v":77294.587083161197},{"$f":"IF(Profil_Investisseur!B$116=\"Déficit foncier réel\",Impots_Tranches!K44,Impot_Tranches!K44)","v":8720.89612494836},{"$f":"IF(Profil_Investisseur!B$116=\"Déficit foncier réel\",Impots_Tranches!L44,Impot_Tranches!L44)","v":6656.2691582954631},{"$f":"IF(Profil_Investisseur!B$116=\"Déficit foncier réel\",Impots_Tranches!N44,Impot_Tranches!N44)","v":8720.89612494836},0.11282673799092235]
[null,43,{"$f":"IF(Profil_Investisseur!B$116=\"Déficit foncier réel\",Impots_Tranches!B45,Impot_Tranches!$B$64)","v":77681.060018576987},{"$f":"IF(Profil_Investisseur!B$116=\"Déficit foncier réel\",Impots_Tranches!B45,Impot_Tranches!B45)","v":77681.060018576987},{"$f":"IF(Profil_Investisseur!B$116=\"Déficit foncier réel\",Impots_Tranches!K45,Impot_Tranches!K45)","v":8836.8380055730959},{"$f":"IF(Profil_Investisseur!B$116=\"Déficit foncier réel\",Impots_Tranches!L45,Impot_Tranches!L45)","v":6741.2932040869364},{"$f":"IF(Profil_Investisseur!B$116=\"Déficit foncier réel\",Impots_Tranches!N45,Impot_Tranches!N45)","v":8836.8380055730959},0.11375794824967393]
[null,44,{"$f":"IF(Profil_Investisseur!B$116=\"Déficit foncier réel\",Impots_Tranches!B46,Impot_Tranches!$B$64)","v":78069.465318669871},{"$f":"IF(Profil_Investisseur!B$116=\"Déficit foncier réel\",Impots_Tranches!B46,Impot_Tranches!B46)","v":78069.465318669871},{"$f":"IF(Profil_Investisseur!B$116=\"Déficit foncier réel\",Impots_Tranches!K46,Impot_Tranches!K46)","v":8953.3595956009631},{"$f":"IF(Profil_Investisseur!B$116=\"Déficit foncier réel\",Impots_Tranches!L46,Impot_Tranches!L46)","v":6826.7423701073731},{"$f":"IF(Profil_Investisseur!B$116=\"Déficit foncier réel\",Impots_Tranches!N46,Impot_Tranches!N46)","v":8953.3595956009631},0.11468452562156613]
[null,45,{"$f":"IF(Profil_Investisseur!B$116=\"Déficit foncier réel\",Impots_Tranches!B47,Impot_Tranches!$B$64)","v":78459.812645263213},{"$f":"IF(Profil_Investisseur!B$116=\"Déficit foncier réel\",Impots_Tranches!B47,Impot_Tranches!B47)","v":78459.812645263213},{"$f":"IF(Profil_Investisseur!B$116=\"Déficit foncier réel\",Impots_Tranches!K47,Impot_Tranches!K47)","v":9070.4637935789651},{"$f":"IF(Profil_Investisseur!B$116=\"Déficit foncier réel\",Impots_Tranches!L47,Impot_Tranches!L47)","v":6912.61878195791},{"$f":"IF(Profil_Investisseur!B$116=\"Déficit foncier réel\",Impots_Tranches!N47,Impot_Tranches!N47)","v":9070.4637935789651},0.11560649315578717]
[null,46,{"$f":"IF(Profil_Investisseur!B$116=\"Déficit foncier réel\",Impots_Tranches!B48,Impot_Tranches!$B$64)","v":78852.111708489509},{"$f":"IF(Profil_Investisseur!B$116=\"Déficit foncier réel\",Impots_Tranches!B48,Impot_Tranches!B48)","v":78852.111708489509},{"$f":"IF(Profil_Investisseur!B$116=\"Déficit foncier réel\",Impots_Tranches!K48,Impot_Tranches!K48)","v":9188.1535125468527},{"$f":"IF(Profil_Investisseur!B$116=\"Déficit foncier réel\",Impots_Tranches!L48,Impot_Tranches!L48)","v":6998.9245758676925},{"$f":"IF(Profil_Investisseur!B$116=\"Déficit foncier réel\",Impots_Tranches!N48,Impot_Tranches!N48)","v":9188.1535125468527},0.11652387378685285]
[null,47,{"$f":"IF(Profil_Investisseur!B$116=\"Déficit foncier réel\",Impots_Tranches!B49,Impot_Tranches!$B$64)","v":79246.372267031955},{"$f":"IF(Profil_Investisseur!B$116=\"Déficit foncier réel\",Impots_Tranches!B49,Impot_Tranches!B49)","v":79246.372267031955},{"$f":"IF(Profil_Investisseur!B$116=\"Déficit foncier réel\",Impots_Tranches!K49,Impot_Tranches!K49)","v":9306.4316801095865},{"$f":"IF(Profil_Investisseur!B$116=\"Déficit foncier réel\",Impots_Tranches!L49,Impot_Tranches!L49)","v":7085.661898747031},{"$f":"IF(Profil_Investisseur!B$116=\"Déficit foncier réel\",Impots_Tranches!N49,Impot_Tranches!N49)","v":9306.4316801095865},0.11743669033517695]
[null,48,{"$f":"IF(Profil_Investisseur!B$116=\"Déficit foncier réel\",Impots_Tranches!B50,Impot_Tranches!$B$64)","v":79642.604128367078},{"$f":"IF(Profil_Investisseur!B$116=\"Déficit foncier réel\",Impots_Tranches!B50,Impot_Tranches!B50)","v":79642.604128367078},{"$f":"IF(Profil_Investisseur!B$116=\"Déficit foncier réel\",Impots_Tranches!K50,Impot_Tranches!K50)","v":9425.3012385101247},{"$f":"IF(Profil_Investisseur!B$116=\"Déficit foncier réel\",Impots_Tranches!L50,Impot_Tranches!L50)","v":7172.8329082407581},{"$f":"IF(Profil_Investisseur!B$116=\"Déficit foncier réel\",Impots_Tranches!N50,Impot_Tranches!N50)","v":9425.3012385101247},0.11834496550763869]
[null,49,{"$f":"IF(Profil_Investisseur!B$116=\"Déficit foncier réel\",Impots_Tranches!B51,Impot_Tranches!$B$64)","v":80040.817149008901},{"$f":"IF(Profil_Investisseur!B$116=\"Déficit foncier réel\",Impots_Tranches!B51,Impot_Tranches!B51)","v":80040.817149008901},{"$f":"IF(Profil_Investisseur!B$116=\"Déficit foncier réel\",Impots_Tranches!K51,Impot_Tranches!K51)","v":9544.765144702671},{"$f":"IF(Profil_Investisseur!B$116=\"Déficit foncier réel\",Impots_Tranches!L51,Impot_Tranches!L51)","v":7260.4397727819587},{"$f":"IF(Profil_Investisseur!B$116=\"Déficit foncier réel\",Impots_Tranches!N51,Impot_Tranches!N51)","v":9544.765144702671},0.11924872189814792]
[null,50,{"$f":"IF(Profil_Investisseur!B$116=\"Déficit foncier réel\",Impots_Tranches!B52,Impot_Tranches!$B$64)","v":80441.021234753949},{"$f":"IF(Profil_Investisseur!B$116=\"Déficit foncier réel\",Impots_Tranches!B52,Impot_Tranches!B52)","v":80441.021234753949},{"$f":"IF(Profil_Investisseur!B$116=\"Déficit foncier réel\",Impots_Tranches!K52,Impot_Tranches!K52)","v":9664.8263704261844},{"$f":"IF(Profil_Investisseur!B$116=\"Déficit foncier réel\",Impots_Tranches!L52,Impot_Tranches!L52)","v":7348.4846716458687},{"$f":"IF(Profil_Investisseur!B$116=\"Déficit foncier réel\",Impots_Tranches!N52,Impot_Tranches!N52)","v":9664.8263704261844},0.12014798198820688]

{"sheet":"Recup_BienImmobilier","index":26,"n_rows":59,"n_cols":10,"rows_kept":59,"cut":false,"hidden":true,"merged":[]}
[]
[]
[null,null,null,null,null,"Type de bien","Appartement"]
[null,"Bien immobilier",null,null,null,"Etat du bien","Ancien"]
[]
[null,"Prix du bien (frais d'agence inclus)",{"$f":"Profil_Investisseur!G111","v":180000}]
[null,"Travaux de rénovation (TTC)",{"$f":"Profil_Investisseur!B114","v":6000}]
[null,"Loyer mensuel (Hors charge)",0]
[null,"ou annuel",{"$f":"C8*12","v":0},{"$f":"IF(Recup_BienImmobilier!G26=\"Pinel 6 ans\",)","v":false}]
[]
[]
[null,null,null,{"$f":"SUM(D7:D11)+D13-Recup_BienImmobilier!C34","v":-4000},null,null,null,null,"Surface",50]
[null,null,null,null,null,null,null,null,"Ville","Paris"]
[null,null,null,null,null,null,null,null,"Zone","AB"]
[]
[null,"Charges"]
[]
[null,"Charges totale (par an)",{"$f":"C19*12","v":600},{"$f":"D12-D19-Recup_BienImmobilier!C34-Recup_BienImmobilier!C34","v":-12000}]
[null,"Charges totale (par mois)",{"$f":"Profil_Investisseur!D114","v":50}]
[null,"dont charges locataires (par mois)",0]
[null,"Charges non prévues estimées",0]
[null,"Taxe Foncière (par an)",{"$f":"Profil_Investisseur!J109","v":881}]
[]
[null,"Impôts"]
[]
[null,"Régime fiscal d'imposition","Neuf Pinel 9 ans"]
[null,"Vos revenus net (par an)",{"$f":"Profil_Investisseur!B11","v":40000},{"$f":"Profil_Investisseur!B12","v":0}]
[null,"Nombre de parts",3]
[null,"Nombre d'enfant(s)",2]
[]
[]
[null,"Emprunt Bancaire",null,null,null,"Tout vos précédents biens"]
[null,null,null,null,null,"Combien de biens avez-vous (avant ce nouveau) ?",1]
[null,"Apport personnel",{"$f":"Profil_Investisseur!F109","v":4000}]
[null,"Frais de notaire (votre apport)",{"$f":"Profil_Investisseur!A114","v":15175},null,7476.6355140186915]
[null,"Taux nominal(%)",{"$f":"Profil_Investisseur!D109","v":1.7000000000000001E-2}]
[null,"Assurance (%)",{"$f":"Profil_Investisseur!H109","v":2E-3}]
[null,"ou assurance (€/mois)",69.529166666666669]
[null,"Garantie Crédit Logement",{"$f":"Profil_Investisseur!I109","v":300},null,null,"Hypothèses exogènes"]
[null,"Durée",15,null,null,"Augmentation annuelle du loyer (%)",1E-3]
[null,"Frais de dossier",0,{"$f":"IF(C42<>0,IF(C42*C6<=950,C42*C6,950),IF(0.1*C6<=950,0.1*C6,950))","v":950},null,"Augmentation annuelle des charges (%)",0.02]
[null,"ou % de frais de dossier",null,null,null,"Augmentation annuelle des revenus (%)",5.0000000000000001E-3]
[null,null,null,null,null,"Taux de prélèvements sociaux",0.17199999999999999]
[null,"Paramètres avancés pour ce bien"]
[null,"Revente après n années",20]
[null,"Prix de revente",{"$f":"Profil_Investisseur!G111","v":180000}]
[]
[]
[]
[]
[]
[null,"Voulez-vous revendre ?","Oui"]
[null,"Type d'emprunt","Amortissable"]
[null,"Assurance propriétaire non occupant (PNO)",100]
[null,"Frais Agence à l'achat (% du net vendeur)",7.0000000000000007E-2]
[null,"Frais de gestion par l'agence hors taxe (% loyer HC)",7.0000000000000007E-2]
[null,"Frais agence propriétaire à la (re-)location (%loyer annuel)",8.3299999999999999E-2]
[null,"GRL/GLI - Assurance loyers impayés HT (% du loyer HC)",0.03]
[null,"Vacance locative en mois toutes les n années",3,2]

{"sheet":"Impot_Tranches","index":27,"n_rows":64,"n_cols":14,"rows_kept":64,"cut":false,"hidden":false,"merged":[]}
[null,null,null,null,9807,27086,72617,153783]
["Année","Revenu net","Revenu/part","Tranche 1 (0%)","Tranche 2 (14%)","Tranche 3 (30%)","Tranche 4 (41%)","Tranche 5 (45%)","Impot Net","Decote","Final","Part Foncier","Prel. Sociaux","TOTAL"]
[1,{"$f":"(Profil_Investisseur!B11+Profil_Investisseur!B12)","v":40000},{"$f":"B3/Recup_BienImmobilier!C$28","v":13333.333333333334},{"$f":"IF($C3>$E$1,$E$1,$E$1-$C3)","v":9807},{"$f":"IF($C3<$E$1,0,IF($C3>$F$1,$F$1-$E$1,$C3-$E$1))","v":3526.3333333333339},{"$f":"IF($C3<$F$1,0,IF($C3>$G$1,$G$1-$F$1,$C3-$F$1))","v":0},{"$f":"IF($C3<$G$1,0,IF($C3>$H$1,$H$1-$G$1,$C3-$G$1))","v":0},{"$f":"MAX(0,C3-$H$1)","v":0},{"$f":"(E3*0.14+F3*0.3+G3*0.41+H3*0.45)*Recup_BienImmobilier!$C$28","v":1481.0600000000004},{"$f":"IF(Recup_BienImmobilier!D$27=0,IF(I3<1569,1177-3/4*I3,0),IF(I3<2585,1939-3/4*I3,0))","v":66.2049999999997},{"$f":"I3-J3","v":1414.8550000000007},{"$f":"K3-$K$64","v":980.00000000000045},{"$f":"0.172*(Impot_Tranches!C3)","v":2293.333333333333},{"$f":"M3+K3","v":3708.1883333333335}]
[2,{"$f":"B3*1.03","v":41200},{"$f":"B4/Recup_BienImmobilier!C$28","v":13733.333333333334},9807,3926.3333333333339,0,0,0,{"$f":"(E4*0.14+F4*0.3+G4*0.41+H4*0.45)*Recup_BienImmobilier!$C$28","v":1649.0600000000004},{"$f":"IF(Recup_BienImmobilier!D$27=0,IF(I4<1569,1177-3/4*I4,0),IF(I4<2585,1939-3/4*I4,0))","v":0},1649.0600000000004,1214.2050000000002,{"$f":"0.172*(Impot_Tranches!C4)","v":2362.1333333333332},4011.1933333333336]
[3,{"$f":"B4*1.03","v":42436},{"$f":"B5/Recup_BienImmobilier!C$28","v":14145.333333333334},9807,4338.3333333333339,0,0,0,{"$f":"(E5*0.14+F5*0.3+G5*0.41+H5*0.45)*Recup_BienImmobilier!$C$28","v":1822.1000000000004},{"$f":"IF(Recup_BienImmobilier!D$27=0,IF(I5<1569,1177-3/4*I5,0),IF(I5<2585,1939-3/4*I5,0))","v":0},1822.1000000000004,1387.2450000000001,{"$f":"0.172*(Impot_Tranches!C5)","v":2432.9973333333332},4255.0973333333332]
[4,43709.08,{"$f":"B6/Recup_BienImmobilier!C$28","v":14569.693333333335},9807,4762.6933333333345,0,0,0,{"$f":"(E6*0.14+F6*0.3+G6*0.41+H6*0.45)*Recup_BienImmobilier!$C$28","v":2000.3312000000005},{"$f":"IF(Recup_BienImmobilier!D$27=0,IF(I6<1569,1177-3/4*I6,0),IF(I6<2585,1939-3/4*I6,0))","v":0},2000.3312000000005,1565.4762000000003,{"$f":"0.172*(Impot_Tranches!C6)","v":2505.9872533333332},4506.3184533333333]
[5,45020.352400000003,{"$f":"B7/Recup_BienImmobilier!C$28","v":15006.784133333334},9807,5199.7841333333345,0,0,0,{"$f":"(E7*0.14+F7*0.3+G7*0.41+H7*0.45)*Recup_BienImmobilier!$C$28","v":2183.9093360000006},{"$f":"IF(Recup_BienImmobilier!D$27=0,IF(I7<1569,1177-3/4*I7,0),IF(I7<2585,1939-3/4*I7,0))","v":0},2183.9093360000006,1749.0543360000004,{"$f":"0.172*(Impot_Tranches!C7)","v":2581.1668709333335},4765.0762069333341]
[6,46370.962972000001,{"$f":"B8/Recup_BienImmobilier!C$28","v":15456.987657333333},9807,5649.9876573333331,0,0,0,{"$f":"(E8*0.14+F8*0.3+G8*0.41+H8*0.45)*Recup_BienImmobilier!$C$28","v":2372.9948160800004},{"$f":"IF(Recup_BienImmobilier!D$27=0,IF(I8<1569,1177-3/4*I8,0),IF(I8<2585,1939-3/4*I8,0))","v":0},2372.9948160800004,1938.1398160800002,{"$f":"0.172*(Impot_Tranches!C8)","v":2658.6018770613332},5031.5966931413332]
[7,47762.091861159999,{"$f":"B9/Recup_BienImmobilier!C$28","v":15920.697287053334},9807,6113.6972870533336,0,0,0,{"$f":"(E9*0.14+F9*0.3+G9*0.41+H9*0.45)*Recup_BienImmobilier!$C$28","v":2567.7528605624002},{"$f":"IF(Recup_BienImmobilier!D$27=0,IF(I9<1569,1177-3/4*I9,0),IF(I9<2585,1939-3/4*I9,0))","v":0},2567.7528605624002,2132.8978605623997,{"$f":"0.172*(Impot_Tranches!C9)","v":2738.3599333731731},5306.1127939355738]
[8,49194.954616994801,{"$f":"B10/Recup_BienImmobilier!C$28","v":16398.318205664935},9807,6591.3182056649348,0,0,0,{"$f":"(E10*0.14+F10*0.3+G10*0.41+H10*0.45)*Recup_BienImmobilier!$C$28","v":2768.353646379273},{"$f":"IF(Recup_BienImmobilier!D$27=0,IF(I10<1569,1177-3/4*I10,0),IF(I10<2585,1939-3/4*I10,0))","v":0},2768.353646379273,2333.4986463792729,{"$f":"0.172*(Impot_Tranches!C10)","v":2820.5107313743683},5588.8643777536417]
[9,50670.803255504645,{"$f":"B11/Recup_BienImmobilier!C$28","v":16890.267751834883},9807,7083.2677518348828,0,0,0,{"$f":"(E11*0.14+F11*0.3+G11*0.41+H11*0.45)*Recup_BienImmobilier!$C$28","v":2974.9724557706509},{"$f":"IF(Recup_BienImmobilier!D$27=0,IF(I11<1569,1177-3/4*I11,0),IF(I11<2585,1939-3/4*I11,0))","v":0},2974.9724557706509,2540.1174557706508,{"$f":"0.172*(Impot_Tranches!C11)","v":2905.1260533155996},5880.0985090862505]
[10,52190.927353169784,{"$f":"B12/Recup_BienImmobilier!C$28","v":17396.975784389928},9807,7589.9757843899279,0,0,0,{"$f":"(E12*0.14+F12*0.3+G12*0.41+H12*0.45)*Recup_BienImmobilier!$C$28","v":3187.78982944377},{"$f":"IF(Recup_BienImmobilier!D$27=0,IF(I12<1569,1177-3/4*I12,0),IF(I12<2585,1939-3/4*I12,0))","v":0},3187.78982944377,2752.9348294437696,{"$f":"0.172*(Impot_Tranches!C12)","v":2992.2798349150676},6180.0696643588381]
[11,53756.655173764877,{"$f":"B13/Recup_BienImmobilier!C$28","v":17918.885057921627},9807,8111.8850579216269,0,0,0,{"$f":"(E13*0.14+F13*0.3+G13*0.41+H13*0.45)*Recup_BienImmobilier!$C$28","v":3406.9917243270838},{"$f":"IF(Recup_BienImmobilier!D$27=0,IF(I13<1569,1177-3/4*I13,0),IF(I13<2585,1939-3/4*I13,0))","v":0},3406.9917243270838,2972.1367243270834,{"$f":"0.172*(Impot_Tranches!C13)","v":3082.0482299625196},6489.039954289603]
[12,55369.354828977826,{"$f":"B14/Recup_BienImmobilier!C$28","v":18456.451609659274},9807,8649.4516096592743,0,0,0,{"$f":"(E14*0.14+F14*0.3+G14*0.41+H14*0.45)*Recup_BienImmobilier!$C$28","v":3632.7696760568952},{"$f":"IF(Recup_BienImmobilier!D$27=0,IF(I14<1569,1177-3/4*I14,0),IF(I14<2585,1939-3/4*I14,0))","v":0},3632.7696760568952,3197.9146760568947,{"$f":"0.172*(Impot_Tranches!C14)","v":3174.5096768613948},6807.27935291829]
[13,57030.435473847159,{"$f":"B15/Recup_BienImmobilier!C$28","v":19010.145157949053},9807,9203.1451579490531,0,0,0,{"$f":"(E15*0.14+F15*0.3+G15*0.41+H15*0.45)*Recup_BienImmobilier!$C$28","v":3865.3209663386024},{"$f":"IF(Recup_BienImmobilier!D$27=0,IF(I15<1569,1177-3/4*I15,0),IF(I15<2585,1939-3/4*I15,0))","v":0},3865.3209663386024,3430.4659663386019,{"$f":"0.172*(Impot_Tranches!C15)","v":3269.7449671672371},7135.065933505839]
[14,58741.348538062579,{"$f":"B16/Recup_BienImmobilier!C$28","v":19580.449512687526},9807,9773.4495126875263,0,0,0,{"$f":"(E16*0.14+F16*0.3+G16*0.41+H16*0.45)*Recup_BienImmobilier!$C$28","v":4104.8487953287622},{"$f":"IF(Recup_BienImmobilier!D$27=0,IF(I16<1569,1177-3/4*I16,0),IF(I16<2585,1939-3/4*I16,0))","v":0},4104.8487953287622,3669.9937953287617,{"$f":"0.172*(Impot_Tranches!C16)","v":3367.8373161822542},7472.6861115110169]
[15,60503.58899420446,{"$f":"B17/Recup_BienImmobilier!C$28","v":20167.862998068154},9807,10360.862998068154,0,0,0,{"$f":"(E17*0.14+F17*0.3+G17*0.41+H17*0.45)*Recup_BienImmobilier!$C$28","v":4351.5624591886253},{"$f":"IF(Recup_BienImmobilier!D$27=0,IF(I17<1569,1177-3/4*I17,0),IF(I17<2585,1939-3/4*I17,0))","v":0},4351.5624591886253,3916.7074591886249,{"$f":"0.172*(Impot_Tranches!C17)","v":3468.8724356677221},7820.4348948563475]
[16,62318.696664030598,{"$f":"B18/Recup_BienImmobilier!C$28","v":20772.898888010201},9807,10965.898888010201,0,0,0,{"$f":"(E18*0.14+F18*0.3+G18*0.41+H18*0.45)*Recup_BienImmobilier!$C$28","v":4605.6775329642842},{"$f":"IF(Recup_BienImmobilier!D$27=0,IF(I18<1569,1177-3/4*I18,0),IF(I18<2585,1939-3/4*I18,0))","v":0},4605.6775329642842,4170.8225329642837,{"$f":"0.172*(Impot_Tranches!C18)","v":3572.9386087377543},8178.6161417020385]
[17,64188.25756395152,{"$f":"B19/Recup_BienImmobilier!C$28","v":21396.085854650508},9807,11589.085854650508,0,0,0,{"$f":"(E19*0.14+F19*0.3+G19*0.41+H19*0.45)*Recup_BienImmobilier!$C$28","v":4867.416058953213},{"$f":"IF(Recup_BienImmobilier!D$27=0,IF(I19<1569,1177-3/4*I19,0),IF(I19<2585,1939-3/4*I19,0))","v":0},4867.416058953213,4432.5610589532125,{"$f":"0.172*(Impot_Tranches!C19)","v":3680.126766999887},8547.5428259531]
[18,66113.905290870069,{"$f":"B20/Recup_BienImmobilier!C$28","v":22037.968430290024},9807,12230.968430290024,0,0,0,{"$f":"(E20*0.14+F20*0.3+G20*0.41+H20*0.45)*Recup_BienImmobilier!$C$28","v":5137.0067407218103},{"$f":"IF(Recup_BienImmobilier!D$27=0,IF(I20<1569,1177-3/4*I20,0),IF(I20<2585,1939-3/4*I20,0))","v":0},5137.0067407218103,4702.1517407218098,{"$f":"0.172*(Impot_Tranches!C20)","v":3790.5305700098838},8927.5373107316937]
[19,68097.322449596177,{"$f":"B21/Recup_BienImmobilier!C$28","v":22699.107483198724},9807,12892.107483198724,0,0,0,{"$f":"(E21*0.14+F21*0.3+G21*0.41+H21*0.45)*Recup_BienImmobilier!$C$28","v":5414.6851429434646},{"$f":"IF(Recup_BienImmobilier!D$27=0,IF(I21<1569,1177-3/4*I21,0),IF(I21<2585,1939-3/4*I21,0))","v":0},5414.6851429434646,4979.8301429434641,{"$f":"0.172*(Impot_Tranches!C21)","v":3904.2464871101802},9318.9316300536448]
[20,70140.24212308407,{"$f":"B22/Recup_BienImmobilier!C$28","v":23380.080707694691},9807,13573.080707694691,0,0,0,{"$f":"(E22*0.14+F22*0.3+G22*0.41+H22*0.45)*Recup_BienImmobilier!$C$28","v":5700.6938972317712},{"$f":"IF(Recup_BienImmobilier!D$27=0,IF(I22<1569,1177-3/4*I22,0),IF(I22<2585,1939-3/4*I22,0))","v":0},5700.6938972317712,5265.8388972317707,{"$f":"0.172*(Impot_Tranches!C22)","v":4021.3738817234866},9722.0677789552574]
[21,72244.4493867766,{"$f":"B23/Recup_BienImmobilier!C$28","v":24081.483128925534},9807,14274.483128925534,0,0,0,{"$f":"(E23*0.14+F23*0.3+G23*0.41+H23*0.45)*Recup_BienImmobilier!$C$28","v":5995.2829141487255},{"$f":"IF(Recup_BienImmobilier!D$27=0,IF(I23<1569,1177-3/4*I23,0),IF(I23<2585,1939-3/4*I23,0))","v":0},5995.2829141487255,5560.427914148725,0,5995.2829141487255]
[22,74411.782868379902,{"$f":"B24/Recup_BienImmobilier!C$28","v":24803.927622793301},9807,14996.927622793301,0,0,0,{"$f":"(E24*0.14+F24*0.3+G24*0.41+H24*0.45)*Recup_BienImmobilier!$C$28","v":6298.7096015731868},{"$f":"IF(Recup_BienImmobilier!D$27=0,IF(I24<1569,1177-3/4*I24,0),IF(I24<2585,1939-3/4*I24,0))","v":0},6298.7096015731868,5863.8546015731863,0,6298.7096015731868]
[23,76644.136354431306,{"$f":"B25/Recup_BienImmobilier!C$28","v":25548.045451477101},9807,15741.045451477101,0,0,0,{"$f":"(E25*0.14+F25*0.3+G25*0.41+H25*0.45)*Recup_BienImmobilier!$C$28","v":6611.2390896203833},{"$f":"IF(Recup_BienImmobilier!D$27=0,IF(I25<1569,1177-3/4*I25,0),IF(I25<2585,1939-3/4*I25,0))","v":0},6611.2390896203833,6176.3840896203828,0,6611.2390896203833]
[24,78943.460445064251,{"$f":"B26/Recup_BienImmobilier!C$28","v":26314.486815021417},9807,16507.486815021417,0,0,0,{"$f":"(E26*0.14+F26*0.3+G26*0.41+H26*0.45)*Recup_BienImmobilier!$C$28","v":6933.1444623089956},{"$f":"IF(Recup_BienImmobilier!D$27=0,IF(I26<1569,1177-3/4*I26,0),IF(I26<2585,1939-3/4*I26,0))","v":0},6933.1444623089956,6498.2894623089951,0,6933.1444623089956]
[25,81311.76425841618,{"$f":"B27/Recup_BienImmobilier!C$28","v":27103.921419472059},9807,17279,17.921419472058915,0,0,{"$f":"(E27*0.14+F27*0.3+G27*0.41+H27*0.45)*Recup_BienImmobilier!$C$28","v":7273.3092775248542},{"$f":"IF(Recup_BienImmobilier!D$27=0,IF(I27<1569,1177-3/4*I27,0),IF(I27<2585,1939-3/4*I27,0))","v":0},7273.3092775248542,6838.4542775248538,0,7273.3092775248542]
[26,83751.117186168674,{"$f":"B28/Recup_BienImmobilier!C$28","v":27917.039062056225},9807,17279,831.03906205622479,0,0,{"$f":"(E28*0.14+F28*0.3+G28*0.41+H28*0.45)*Recup_BienImmobilier!$C$28","v":8005.1151558506035},{"$f":"IF(Recup_BienImmobilier!D$27=0,IF(I28<1569,1177-3/4*I28,0),IF(I28<2585,1939-3/4*I28,0))","v":0},8005.1151558506035,7570.260155850603,0,8005.1151558506035]
[27,86263.650701753737,{"$f":"B29/Recup_BienImmobilier!C$28","v":28754.550233917911},9807,17279,1668.5502339179111,0,0,{"$f":"(E29*0.14+F29*0.3+G29*0.41+H29*0.45)*Recup_BienImmobilier!$C$28","v":8758.875210526121},{"$f":"IF(Recup_BienImmobilier!D$27=0,IF(I29<1569,1177-3/4*I29,0),IF(I29<2585,1939-3/4*I29,0))","v":0},8758.875210526121,8324.0202105261214,0,8758.875210526121]
[28,88851.560222806351,{"$f":"B30/Recup_BienImmobilier!C$28","v":29617.186740935449},9807,17279,2531.1867409354491,0,0,{"$f":"(E30*0.14+F30*0.3+G30*0.41+H30*0.45)*Recup_BienImmobilier!$C$28","v":9535.2480668419048},{"$f":"IF(Recup_BienImmobilier!D$27=0,IF(I30<1569,1177-3/4*I30,0),IF(I30<2585,1939-3/4*I30,0))","v":0},9535.2480668419048,9100.3930668419052,0,9535.2480668419048]
[29,91517.107029490537,{"$f":"B31/Recup_BienImmobilier!C$28","v":30505.702343163513},9807,17279,3419.7023431635134,0,0,{"$f":"(E31*0.14+F31*0.3+G31*0.41+H31*0.45)*Recup_BienImmobilier!$C$28","v":10334.912108847164},{"$f":"IF(Recup_BienImmobilier!D$27=0,IF(I31<1569,1177-3/4*I31,0),IF(I31<2585,1939-3/4*I31,0))","v":0},10334.912108847164,9900.0571088471643,0,10334.912108847164]
[30,94262.620240375254,{"$f":"B32/Recup_BienImmobilier!C$28","v":31420.873413458419},9807,17279,4334.8734134584192,0,0,{"$f":"(E32*0.14+F32*0.3+G32*0.41+H32*0.45)*Recup_BienImmobilier!$C$28","v":11158.566072112579},{"$f":"IF(Recup_BienImmobilier!D$27=0,IF(I32<1569,1177-3/4*I32,0),IF(I32<2585,1939-3/4*I32,0))","v":0},11158.566072112579,10723.711072112579,0,11158.566072112579]
[31,97090.49884758651,{"$f":"B33/Recup_BienImmobilier!C$28","v":32363.499615862169},9807,17279,5277.4996158621689,0,0,{"$f":"(E33*0.14+F33*0.3+G33*0.41+H33*0.45)*Recup_BienImmobilier!$C$28","v":12006.929654275951},{"$f":"IF(Recup_BienImmobilier!D$27=0,IF(I33<1569,1177-3/4*I33,0),IF(I33<2585,1939-3/4*I33,0))","v":0},12006.929654275951,11572.074654275952,0,12006.929654275951]
[32,100003.21381301411,{"$f":"B34/Recup_BienImmobilier!C$28","v":33334.404604338037},9807,17279,6248.4046043380367,0,0,{"$f":"(E34*0.14+F34*0.3+G34*0.41+H34*0.45)*Recup_BienImmobilier!$C$28","v":12880.744143904234},{"$f":"IF(Recup_BienImmobilier!D$27=0,IF(I34<1569,1177-3/4*I34,0),IF(I34<2585,1939-3/4*I34,0))","v":0},12880.744143904234,12445.889143904235,0,12880.744143904234]
[33,103003.31022740454,{"$f":"B35/Recup_BienImmobilier!C$28","v":34334.436742468177},{"$f":"IF($C35>$E$1,$E$1,$E$1-$C35)","v":9807},{"$f":"IF($C35<$E$1,0,IF($C35>$F$1,$F$1-$E$1,$C35-$E$1))","v":17279},{"$f":"IF($C35<$F$1,0,IF($C35>$G$1,$G$1-$F$1,$C35-$F$1))","v":7248.4367424681768},{"$f":"IF($C35<$G$1,0,IF($C35>$H$1,$H$1-$G$1,$C35-$G$1))","v":0},{"$f":"MAX(0,C35-$H$1)","v":0},{"$f":"(E35*0.14+F35*0.3+G35*0.41+H35*0.45)*Recup_BienImmobilier!$C$28","v":13780.773068221359},{"$f":"IF(Recup_BienImmobilier!D$27=0,IF(I35<1569,1177-3/4*I35,0),IF(I35<2585,1939-3/4*I35,0))","v":0},{"$f":"I35-J35","v":13780.773068221359},{"$f":"K35-$K$64","v":13345.918068221359},0,{"$f":"M35+K35","v":13780.773068221359}]
[34,106093.40953422668,{"$f":"B36/Recup_BienImmobilier!C$28","v":35364.469844742227},9807,17279,8278.469844742227,0,0,{"$f":"(E36*0.14+F36*0.3+G36*0.41+H36*0.45)*Recup_BienImmobilier!$C$28","v":14707.802860268006},{"$f":"IF(Recup_BienImmobilier!D$27=0,IF(I36<1569,1177-3/4*I36,0),IF(I36<2585,1939-3/4*I36,0))","v":0},14707.802860268006,14272.947860268006,0,14707.802860268006]
[35,109276.21182025349,{"$f":"B37/Recup_BienImmobilier!C$28","v":36425.403940084499},9807,17279,9339.4039400844995,0,0,{"$f":"(E37*0.14+F37*0.3+G37*0.41+H37*0.45)*Recup_BienImmobilier!$C$28","v":15662.643546076051},{"$f":"IF(Recup_BienImmobilier!D$27=0,IF(I37<1569,1177-3/4*I37,0),IF(I37<2585,1939-3/4*I37,0))","v":0},15662.643546076051,15227.788546076052,0,15662.643546076051]
[36,112554.4981748611,{"$f":"B38/Recup_BienImmobilier!C$28","v":37518.166058287032},9807,17279,10432.166058287032,0,0,{"$f":"(E38*0.14+F38*0.3+G38*0.41+H38*0.45)*Recup_BienImmobilier!$C$28","v":16646.129452458328},{"$f":"IF(Recup_BienImmobilier!D$27=0,IF(I38<1569,1177-3/4*I38,0),IF(I38<2585,1939-3/4*I38,0))","v":0},16646.129452458328,16211.274452458329,0,16646.129452458328]
[37,115931.13312010694,{"$f":"B39/Recup_BienImmobilier!C$28","v":38643.711040035647},9807,17279,11557.711040035647,0,0,{"$f":"(E39*0.14+F39*0.3+G39*0.41+H39*0.45)*Recup_BienImmobilier!$C$28","v":17659.119936032082},{"$f":"IF(Recup_BienImmobilier!D$27=0,IF(I39<1569,1177-3/4*I39,0),IF(I39<2585,1939-3/4*I39,0))","v":0},17659.119936032082,17224.264936032083,0,17659.119936032082]
[38,119409.06711371015,{"$f":"B40/Recup_BienImmobilier!C$28","v":39803.022371236715},9807,17279,12717.022371236715,0,0,{"$f":"(E40*0.14+F40*0.3+G40*0.41+H40*0.45)*Recup_BienImmobilier!$C$28","v":18702.500134113045},{"$f":"IF(Recup_BienImmobilier!D$27=0,IF(I40<1569,1177-3/4*I40,0),IF(I40<2585,1939-3/4*I40,0))","v":0},18702.500134113045,18267.645134113045,0,18702.500134113045]
[39,122991.33912712145,{"$f":"B41/Recup_BienImmobilier!C$28","v":40997.113042373814},9807,17279,13911.113042373814,0,0,{"$f":"(E41*0.14+F41*0.3+G41*0.41+H41*0.45)*Recup_BienImmobilier!$C$28","v":19777.181738136434},{"$f":"IF(Recup_BienImmobilier!D$27=0,IF(I41<1569,1177-3/4*I41,0),IF(I41<2585,1939-3/4*I41,0))","v":0},19777.181738136434,19342.326738136435,0,19777.181738136434]
[40,126681.07930093509,{"$f":"B42/Recup_BienImmobilier!C$28","v":42227.026433645027},9807,17279,15141.026433645027,0,0,{"$f":"(E42*0.14+F42*0.3+G42*0.41+H42*0.45)*Recup_BienImmobilier!$C$28","v":20884.103790280526},{"$f":"IF(Recup_BienImmobilier!D$27=0,IF(I42<1569,1177-3/4*I42,0),IF(I42<2585,1939-3/4*I42,0))","v":0},20884.103790280526,20449.248790280526,0,20884.103790280526]
[41,130481.51167996315,{"$f":"B43/Recup_BienImmobilier!C$28","v":43493.837226654381},9807,17279,16407.837226654381,0,0,{"$f":"(E43*0.14+F43*0.3+G43*0.41+H43*0.45)*Recup_BienImmobilier!$C$28","v":22024.233503988944},{"$f":"IF(Recup_BienImmobilier!D$27=0,IF(I43<1569,1177-3/4*I43,0),IF(I43<2585,1939-3/4*I43,0))","v":0},22024.233503988944,21589.378503988944,0,22024.233503988944]
[42,134395.95703036204,{"$f":"B44/Recup_BienImmobilier!C$28","v":44798.652343454014},9807,17279,17712.652343454014,0,0,{"$f":"(E44*0.14+F44*0.3+G44*0.41+H44*0.45)*Recup_BienImmobilier!$C$28","v":23198.567109108611},{"$f":"IF(Recup_BienImmobilier!D$27=0,IF(I44<1569,1177-3/4*I44,0),IF(I44<2585,1939-3/4*I44,0))","v":0},23198.567109108611,22763.712109108612,0,23198.567109108611]
[43,138427.83574127289,{"$f":"B45/Recup_BienImmobilier!C$28","v":46142.611913757632},9807,17279,19056.611913757632,0,0,{"$f":"(E45*0.14+F45*0.3+G45*0.41+H45*0.45)*Recup_BienImmobilier!$C$28","v":24408.130722381869},{"$f":"IF(Recup_BienImmobilier!D$27=0,IF(I45<1569,1177-3/4*I45,0),IF(I45<2585,1939-3/4*I45,0))","v":0},24408.130722381869,23973.27572238187,0,24408.130722381869]
[44,142580.6708135111,{"$f":"B46/Recup_BienImmobilier!C$28","v":47526.890271170363},9807,17279,20440.890271170363,0,0,{"$f":"(E46*0.14+F46*0.3+G46*0.41+H46*0.45)*Recup_BienImmobilier!$C$28","v":25653.981244053324},{"$f":"IF(Recup_BienImmobilier!D$27=0,IF(I46<1569,1177-3/4*I46,0),IF(I46<2585,1939-3/4*I46,0))","v":0},25653.981244053324,25219.126244053325,0,25653.981244053324]
[45,146858.09093791642,{"$f":"B47/Recup_BienImmobilier!C$28","v":48952.696979305474},9807,17279,21866.696979305474,0,0,{"$f":"(E47*0.14+F47*0.3+G47*0.41+H47*0.45)*Recup_BienImmobilier!$C$28","v":26937.207281374926},{"$f":"IF(Recup_BienImmobilier!D$27=0,IF(I47<1569,1177-3/4*I47,0),IF(I47<2585,1939-3/4*I47,0))","v":0},26937.207281374926,26502.352281374926,0,26937.207281374926]
[46,151263.83366605392,{"$f":"B48/Recup_BienImmobilier!C$28","v":50421.277888684643},9807,17279,23335.277888684643,0,0,{"$f":"(E48*0.14+F48*0.3+G48*0.41+H48*0.45)*Recup_BienImmobilier!$C$28","v":28258.930099816178},{"$f":"IF(Recup_BienImmobilier!D$27=0,IF(I48<1569,1177-3/4*I48,0),IF(I48<2585,1939-3/4*I48,0))","v":0},28258.930099816178,27824.075099816178,0,28258.930099816178]
[47,155801.74867603555,{"$f":"B49/Recup_BienImmobilier!C$28","v":51933.916225345187},9807,17279,24847.916225345187,0,0,{"$f":"(E49*0.14+F49*0.3+G49*0.41+H49*0.45)*Recup_BienImmobilier!$C$28","v":29620.304602810666},{"$f":"IF(Recup_BienImmobilier!D$27=0,IF(I49<1569,1177-3/4*I49,0),IF(I49<2585,1939-3/4*I49,0))","v":0},29620.304602810666,29185.449602810666,0,29620.304602810666]
[48,160475.80113631662,{"$f":"B50/Recup_BienImmobilier!C$28","v":53491.933712105536},9807,17279,26405.933712105536,0,0,{"$f":"(E50*0.14+F50*0.3+G50*0.41+H50*0.45)*Recup_BienImmobilier!$C$28","v":31022.520340894982},{"$f":"IF(Recup_BienImmobilier!D$27=0,IF(I50<1569,1177-3/4*I50,0),IF(I50<2585,1939-3/4*I50,0))","v":0},31022.520340894982,30587.665340894982,0,31022.520340894982]
[49,165290.07517040611,{"$f":"B51/Recup_BienImmobilier!C$28","v":55096.691723468706},9807,17279,28010.691723468706,0,0,{"$f":"(E51*0.14+F51*0.3+G51*0.41+H51*0.45)*Recup_BienImmobilier!$C$28","v":32466.802551121833},{"$f":"IF(Recup_BienImmobilier!D$27=0,IF(I51<1569,1177-3/4*I51,0),IF(I51<2585,1939-3/4*I51,0))","v":0},32466.802551121833,32031.947551121833,0,32466.802551121833]
[50,170248.77742551829,{"$f":"B52/Recup_BienImmobilier!C$28","v":56749.592475172765},9807,17279,29663.592475172765,0,0,{"$f":"(E52*0.14+F52*0.3+G52*0.41+H52*0.45)*Recup_BienImmobilier!$C$28","v":33954.413227655488},{"$f":"IF(Recup_BienImmobilier!D$27=0,IF(I52<1569,1177-3/4*I52,0),IF(I52<2585,1939-3/4*I52,0))","v":0},33954.413227655488,33519.558227655485,0,33954.413227655488]
[]
[]
[]
[]
[]
[]
[]
[]
[]
["sans foncier"]
["Année","Revenu net","Revenu/part","Tranche 1 (0%)","Tranche 2 (14%)","Tranche 3 (30%)","Tranche 4 (41%)","Tranche 5 (45%)","Impot Net","Decote","Final"]
[1,{"$f":"Recup_BienImmobilier!C27+Recup_BienImmobilier!D27-0.1*(Recup_BienImmobilier!C27+Recup_BienImmobilier!D27)","v":36000},{"$f":"B64/Recup_BienImmobilier!C$28","v":12000},{"$f":"IF($C64>$E$1,$E$1,$E$1-$C64)","v":9807},{"$f":"IF($C64<$E$1,0,IF($C64>$F$1,$F$1-$E$1,$C64-$E$1))","v":2193},{"$f":"IF($C64<$F$1,0,IF($C64>$G$1,$G$1-$F$1,$C64-$F$1))","v":0},{"$f":"IF($C64<$G$1,0,IF($C64>$H$1,$H$1-$G$1,$C64-$G$1))","v":0},{"$f":"MAX(0,C64-$H$1)","v":0},{"$f":"(E64*0.14+F64*0.3+G64*0.41+H64*0.45)*Recup_BienImmobilier!C$28","v":921.06000000000017},{"$f":"IF(Recup_BienImmobilier!D$27=0,IF(I64<1569,1177-3/4*I64,0),IF(I64<2585,1939-3/4*I64,0))","v":486.20499999999993},{"$f":"I64-J64","v":434.85500000000025}]

{"sheet":"Impots_Tranches","index":28,"n_rows":115,"n_cols":24,"rows_kept":115,"cut":false,"hidden":true,"merged":[]}
[null,null,null,null,9807,27086,72617,153783,null,null,null,null,null,null,null,"Plaffonement familial"]
["Année","Revenu net","Revenu/part","Tranche 1 (0%)","Tranche 2 (14%)","Tranche 3 (30%)","Tranche 4 (41%)","Tranche 5 (45%)","Impot Net","Decote","Final","Part Foncier","Prel. Sociaux","TOTAL",null,"Revenu parents","Tranche 1 (0%)","Tranche 2 (14%)","Tranche 3 (30%)","Tranche 4 (41%)","Tranche 5 (45%)","Impot Net","gain enfant","Final"]
[1,54905.659116374816,{"$f":"B3/Recup_BienImmobilier!C$28","v":18301.88637212494},{"$f":"IF($C3>$E$1,$E$1,$E$1-$C3)","v":9807},{"$f":"IF($C3<$E$1,0,IF($C3>$F$1,$F$1-$E$1,$C3-$E$1))","v":8494.88637212494},{"$f":"IF($C3<$F$1,0,IF($C3>$G$1,$G$1-$F$1,$C3-$F$1))","v":0},{"$f":"IF($C3<$G$1,0,IF($C3>$H$1,$H$1-$G$1,$C3-$G$1))","v":0},{"$f":"MAX(0,C3-$H$1)","v":0},{"$f":"(E3*0.14+F3*0.3+G3*0.41+H3*0.45)*Recup_BienImmobilier!$C$28","v":3567.8522762924754},{"$f":"IF(Recup_BienImmobilier!D$27=0,IF(I3<1569,1177-3/4*I3,0),IF(I3<2585,1939-3/4*I3,0))","v":0},{"$f":"IF(I3-J3<0,0,IF((I3-J3)>X3,I3-J3,X3))","v":3567.8522762924754},{"$f":"(K3-$K66)","v":3132.9972762924754},{"$f":"ABS(-1392.22663198353)","v":1392.2266319835301},{"$f":"M3+K3","v":4960.0789082760057},null,{"$f":"B3/2","v":27452.829558187408},{"$f":"IF($P3>$E$1,$E$1,$E$1-$P3)","v":9807},{"$f":"IF($P3<$E$1,0,IF($P3>$F$1,$F$1-$E$1,$P3-$E$1))","v":17279},{"$f":"IF($P3<$F$1,0,IF($P3>$G$1,$G$1-$F$1,$P3-$F$1))","v":366.82955818740811},{"$f":"IF($P3<$G$1,0,IF($P3>$H$1,$H$1-$G$1,$P3-$G$1))","v":0},{"$f":"MAX(0,P3-$H$1)","v":0},{"$f":"(R3*0.14+S3*0.3+T3*0.41+U3*0.45)*2","v":5058.2177349124458},{"$f":"1527*2","v":3054},{"$f":"IF(V3-W3<0,0,V3-W3)","v":2004.2177349124458}]
[2,55412.330513107605,{"$f":"B4/Recup_BienImmobilier!C$28","v":18470.776837702535},9807,8663.776837702535,0,0,0,{"$f":"(E4*0.14+F4*0.3+G4*0.41+H4*0.45)*Recup_BienImmobilier!$C$28","v":3638.7862718350652},{"$f":"IF(Recup_BienImmobilier!D$27=0,IF(I4<1569,1177-3/4*I4,0),IF(I4<2585,1939-3/4*I4,0))","v":0},3638.7862718350652,{"$f":"(K4-$K67)","v":3159.8312718350662},{"$f":"ABS(-1359.25915174549)","v":1359.25915174549},4998.0454235805555,null,27706.165256553802,9807,17279,620.16525655380246,0,0,5210.2191539322821,3054,2156.2191539322821]
[3,58494.12688831197,{"$f":"B5/Recup_BienImmobilier!C$28","v":19498.042296103991},9807,9691.0422961039912,0,0,0,{"$f":"(E5*0.14+F5*0.3+G5*0.41+H5*0.45)*Recup_BienImmobilier!$C$28","v":4070.2377643636764},{"$f":"IF(Recup_BienImmobilier!D$27=0,IF(I5<1569,1177-3/4*I5,0),IF(I5<2585,1939-3/4*I5,0))","v":0},4070.2377643636764,3546.9622643636781,{"$f":"ABS(-883.641075210339)","v":883.64107521033895},4953.8788395740157,null,29247.063444155985,9807,17279,2161.0634441559851,0,0,6134.7580664935922,3054,3080.7580664935922]
[4,56609.23763676815,{"$f":"B6/Recup_BienImmobilier!C$28","v":18869.745878922717},9807,9062.7458789227167,0,0,0,{"$f":"(E6*0.14+F6*0.3+G6*0.41+H6*0.45)*Recup_BienImmobilier!$C$28","v":3806.3532691475416},{"$f":"IF(Recup_BienImmobilier!D$27=0,IF(I6<1569,1177-3/4*I6,0),IF(I6<2585,1939-3/4*I6,0))","v":0},3806.3532691475416,3238.5356666475454,{"$f":"ABS(-1262.56518097587)","v":1262.5651809758699},5068.9184501234113,null,28304.618818384075,9807,17279,1218.618818384075,0,0,5569.2912910304458,3054,2515.2912910304458]
[5,60613.147535962467,{"$f":"B7/Recup_BienImmobilier!C$28","v":20204.382511987489},9807,10397.382511987489,0,0,0,{"$f":"(E7*0.14+F7*0.3+G7*0.41+H7*0.45)*Recup_BienImmobilier!$C$28","v":4366.9006550347458},{"$f":"IF(Recup_BienImmobilier!D$27=0,IF(I7<1569,1177-3/4*I7,0),IF(I7<2585,1939-3/4*I7,0))","v":0},4366.9006550347458,3754.3182395222502,-628.88944858694811,3738.0112064477976,null,30306.573767981234,9807,17279,3220.5737679812337,0,0,6770.4642607887408,3054,3716.4642607887408]
[6,57828.274489763782,{"$f":"B8/Recup_BienImmobilier!C$28","v":19276.091496587927},9807,9469.0914965879274,0,0,0,{"$f":"(E8*0.14+F8*0.3+G8*0.41+H8*0.45)*Recup_BienImmobilier!$C$28","v":3977.0184285669302},{"$f":"IF(Recup_BienImmobilier!D$27=0,IF(I8<1569,1177-3/4*I8,0),IF(I8<2585,1939-3/4*I8,0))","v":0},3977.0184285669302,3319.4473759768757,{"$f":"ABS(-1163.15936665698)","v":1163.15936665698},5140.1777952239099,null,28914.137244881891,9807,17279,1828.1372448818911,0,0,5935.0023469291355,3054,2881.0023469291355]
[7,57137.893101663547,{"$f":"B9/Recup_BienImmobilier!C$28","v":19045.964367221182},9807,9238.9643672211823,0,0,0,{"$f":"(E9*0.14+F9*0.3+G9*0.41+H9*0.45)*Recup_BienImmobilier!$C$28","v":3880.365034232897},{"$f":"IF(Recup_BienImmobilier!D$27=0,IF(I9<1569,1177-3/4*I9,0),IF(I9<2585,1939-3/4*I9,0))","v":0},3880.365034232897,3177.5804013798934,{"$f":"ABS(-1337.4530783047)","v":1337.4530783047001},5217.8181125375968,null,28568.946550831773,9807,17279,1482.9465508317735,0,0,5727.8879304990651,3054,2673.8879304990651]
[8,57324.183902739729,{"$f":"B10/Recup_BienImmobilier!C$28","v":19108.061300913243},9807,9301.061300913243,0,0,0,{"$f":"(E10*0.14+F10*0.3+G10*0.41+H10*0.45)*Recup_BienImmobilier!$C$28","v":3906.4457463835624},{"$f":"IF(Recup_BienImmobilier!D$27=0,IF(I10<1569,1177-3/4*I10,0),IF(I10<2585,1939-3/4*I10,0))","v":0},3906.4457463835624,3158.2214653662945,{"$f":"ABS(-1361.23691397855)","v":1361.2369139785501},5267.6826603621121,null,28662.091951369865,9807,17279,1576.0919513698645,0,0,5783.7751708219193,3054,2729.7751708219193]
[9,57509.348825790978,{"$f":"B11/Recup_BienImmobilier!C$28","v":19169.782941930327},9807,9362.7829419303271,0,0,0,{"$f":"(E11*0.14+F11*0.3+G11*0.41+H11*0.45)*Recup_BienImmobilier!$C$28","v":3932.3688356107377},{"$f":"IF(Recup_BienImmobilier!D$27=0,IF(I11<1569,1177-3/4*I11,0),IF(I11<2585,1939-3/4*I11,0))","v":0},3932.3688356107377,3138.4777081883849,{"$f":"ABS(-1385.49352993998)","v":1385.4935299399799},5317.8623655507181,null,28754.674412895489,9807,17279,1668.6744128954888,0,0,5839.3246477372941,3054,2785.3246477372941]
[10,57693.341027427814,{"$f":"B12/Recup_BienImmobilier!C$28","v":19231.113675809273},9807,9424.1136758092725,0,0,0,{"$f":"(E12*0.14+F12*0.3+G12*0.41+H12*0.45)*Recup_BienImmobilier!$C$28","v":3958.1277438398952},{"$f":"IF(Recup_BienImmobilier!D$27=0,IF(I12<1569,1177-3/4*I12,0),IF(I12<2585,1939-3/4*I12,0))","v":0},3958.1277438398952,3118.3414357804309,{"$f":"ABS(-1410.23237889833)","v":1410.2323788983299},5368.3601227382251,null,28846.670513713907,9807,17279,1760.670513713907,0,0,5894.5223082283446,3054,2840.5223082283446]
[11,57876.112605696457,{"$f":"B13/Recup_BienImmobilier!C$28","v":19292.037535232153},9807,9485.0375352321535,0,0,0,{"$f":"(E13*0.14+F13*0.3+G13*0.41+H13*0.45)*Recup_BienImmobilier!$C$28","v":3983.7157647975046},{"$f":"IF(Recup_BienImmobilier!D$27=0,IF(I13<1569,1177-3/4*I13,0),IF(I13<2585,1939-3/4*I13,0))","v":0},3983.7157647975046,3097.8048001977454,{"$f":"ABS(-1435.4631026142)","v":1435.4631026141999},5419.1788674117042,null,28938.056302848228,9807,17279,1852.0563028482284,0,0,5949.3537817089382,3054,2895.3537817089382]
[12,58057.614578299042,{"$f":"B14/Recup_BienImmobilier!C$28","v":19352.538192766347},9807,9545.5381927663475,0,0,0,{"$f":"(E14*0.14+F14*0.3+G14*0.41+H14*0.45)*Recup_BienImmobilier!$C$28","v":4009.1260409618662},{"$f":"IF(Recup_BienImmobilier!D$27=0,IF(I14<1569,1177-3/4*I14,0),IF(I14<2585,1939-3/4*I14,0))","v":0},4009.1260409618662,3076.8597965391073,{"$f":"ABS(-1461.19553568052)","v":1461.1955356805199},5470.3215766423864,null,29028.807289149521,9807,17279,1942.8072891495212,0,0,6003.8043734897137,3054,2949.8043734897137]
[13,58237.796860375034,{"$f":"B15/Recup_BienImmobilier!C$28","v":19412.598953458346},9807,9605.5989534583459,0,0,0,{"$f":"(E15*0.14+F15*0.3+G15*0.41+H15*0.45)*Recup_BienImmobilier!$C$28","v":4034.3515604525055},{"$f":"IF(Recup_BienImmobilier!D$27=0,IF(I15<1569,1177-3/4*I15,0),IF(I15<2585,1939-3/4*I15,0))","v":0},4034.3515604525055,3055.4982598076376,{"$f":"ABS(-1487.43970937919)","v":1487.4397093791899},5521.7912698316959,null,29118.898430187517,9807,17279,2032.8984301875171,0,0,6057.8590581125109,3054,3003.8590581125109]
[14,58416.608241835456,{"$f":"B16/Recup_BienImmobilier!C$28","v":19472.202747278487},9807,9665.2027472784866,0,0,0,{"$f":"(E16*0.14+F16*0.3+G16*0.41+H16*0.45)*Recup_BienImmobilier!$C$28","v":4059.3851538569652},{"$f":"IF(Recup_BienImmobilier!D$27=0,IF(I16<1569,1177-3/4*I16,0),IF(I16<2585,1939-3/4*I16,0))","v":0},4059.3851538569652,3033.7118617088727,{"$f":"ABS(-1514.20585561482)","v":1514.2058556148199},5573.5910094717856,null,29208.304120917728,9807,17279,2122.3041209177281,0,0,6111.5024725506373,3054,3057.5024725506373]
[15,58593.996364240476,{"$f":"B17/Recup_BienImmobilier!C$28","v":19531.332121413492},9807,9724.3321214134921,0,0,0,{"$f":"(E17*0.14+F17*0.3+G17*0.41+H17*0.45)*Recup_BienImmobilier!$C$28","v":4084.219490993667},{"$f":"IF(Recup_BienImmobilier!D$27=0,IF(I17<1569,1177-3/4*I17,0),IF(I17<2585,1939-3/4*I17,0))","v":0},4084.219490993667,3011.4921073848345,{"$f":"ABS(-1541.5044109272)","v":1541.5044109272001},5625.7239019208673,null,29296.998182120238,9807,17279,2210.9981821202382,0,0,6164.7189092721437,3054,3110.7189092721437]
[16,58769.907697211689,{"$f":"B18/Recup_BienImmobilier!C$28","v":19589.969232403895},9807,9782.9692324038951,0,0,0,{"$f":"(E18*0.14+F18*0.3+G18*0.41+H18*0.45)*Recup_BienImmobilier!$C$28","v":4108.8470776096365},{"$f":"IF(Recup_BienImmobilier!D$27=0,IF(I18<1569,1177-3/4*I18,0),IF(I18<2585,1939-3/4*I18,0))","v":0},4108.8470776096365,2988.8303320827627,{"$f":"ABS(-1569.34602058403)","v":1569.3460205840299},5678.1930981936666,null,29384.953848605845,9807,17279,2298.9538486058445,0,0,6217.4923091635073,3054,3163.4923091635073]
[17,58944.287514369324,{"$f":"B19/Recup_BienImmobilier!C$28","v":19648.095838123107},9807,9841.0958381231067,0,0,0,{"$f":"(E19*0.14+F19*0.3+G19*0.41+H19*0.45)*Recup_BienImmobilier!$C$28","v":4133.2602520117052},{"$f":"IF(Recup_BienImmobilier!D$27=0,IF(I19<1569,1177-3/4*I19,0),IF(I19<2585,1939-3/4*I19,0))","v":0},4133.2602520117052,2965.7176977571971,{"$f":"ABS(-1597.74154275544)","v":1597.7415427554399},5731.0017947671449,null,29472.143757184662,9807,17279,2386.1437571846618,0,0,6269.8062543107981,3054,3215.8062543107981]
[18,59117.079868785251,{"$f":"B20/Recup_BienImmobilier!C$28","v":19705.693289595085},9807,9898.6932895950849,0,0,0,{"$f":"(E20*0.14+F20*0.3+G20*0.41+H20*0.45)*Recup_BienImmobilier!$C$28","v":4157.4511816299364},{"$f":"IF(Recup_BienImmobilier!D$27=0,IF(I20<1569,1177-3/4*I20,0),IF(I20<2585,1939-3/4*I20,0))","v":0},4157.4511816299364,2942.1451896041572,{"$f":"ABS(-1626.70205277204)","v":1626.7020527720399},5784.1532344019761,null,29558.539934392626,9807,17279,2472.5399343926256,0,0,6321.6439606355761,3054,3267.6439606355761]
[19,59288.227567941773,{"$f":"B21/Recup_BienImmobilier!C$28","v":19762.742522647259},9807,9955.7425226472587,0,0,0,{"$f":"(E21*0.14+F21*0.3+G21*0.41+H21*0.45)*Recup_BienImmobilier!$C$28","v":4181.4118595118489},{"$f":"IF(Recup_BienImmobilier!D$27=0,IF(I21<1569,1177-3/4*I21,0),IF(I21<2585,1939-3/4*I21,0))","v":0},4181.4118595118489,2918.1036125259434,{"$f":"ABS(-1656.23884746813)","v":1656.23884746813},5837.6507069799791,null,29644.113783970886,9807,17279,2558.1137839708863,0,0,6372.9882703825324,3054,3318.9882703825324]
[20,59457.672148186641,{"$f":"B22/Recup_BienImmobilier!C$28","v":19819.224049395547},9807,10012.224049395547,0,0,0,{"$f":"(E22*0.14+F22*0.3+G22*0.41+H22*0.45)*Recup_BienImmobilier!$C$28","v":4205.1341007461297},{"$f":"IF(Recup_BienImmobilier!D$27=0,IF(I22<1569,1177-3/4*I22,0),IF(I22<2585,1939-3/4*I22,0))","v":0},4205.1341007461297,2893.5835875252951,{"$f":"ABS(-1686.36344961178)","v":1686.36344961178},5891.4975503579099,null,29728.83607409332,9807,17279,2642.8360740933203,0,0,6423.821644455993,3054,3369.821644455993]
[21,69608.421362763838,{"$f":"B23/Recup_BienImmobilier!C$28","v":23202.807120921279},9807,13395.807120921279,0,0,0,{"$f":"(E23*0.14+F23*0.3+G23*0.41+H23*0.45)*Recup_BienImmobilier!$C$28","v":5626.2389907869383},{"$f":"IF(Recup_BienImmobilier!D$27=0,IF(I23<1569,1177-3/4*I23,0),IF(I23<2585,1939-3/4*I23,0))","v":0},6415.0464088291519,5055.0124180422144,0,6415.0464088291519,null,34804.210681381919,9807,17279,7718.2106813819191,0,0,9469.0464088291519,3054,6415.0464088291519]
[22,69956.463469577633,{"$f":"B24/Recup_BienImmobilier!C$28","v":23318.821156525879},9807,13511.821156525879,0,0,0,{"$f":"(E24*0.14+F24*0.3+G24*0.41+H24*0.45)*Recup_BienImmobilier!$C$28","v":5674.9648857408702},{"$f":"IF(Recup_BienImmobilier!D$27=0,IF(I24<1569,1177-3/4*I24,0),IF(I24<2585,1939-3/4*I24,0))","v":0},6519.4590408732911,5110.6991551324227,0,6519.4590408732911,null,34978.231734788817,9807,17279,7892.2317347888165,0,0,9573.4590408732911,3054,6519.4590408732911]
[23,70306.245786925516,{"$f":"B25/Recup_BienImmobilier!C$28","v":23435.415262308506},9807,13628.415262308506,0,0,0,{"$f":"(E25*0.14+F25*0.3+G25*0.41+H25*0.45)*Recup_BienImmobilier!$C$28","v":5723.9344101695733},{"$f":"IF(Recup_BienImmobilier!D$27=0,IF(I25<1569,1177-3/4*I25,0),IF(I25<2585,1939-3/4*I25,0))","v":0},6624.3937360776545,5166.6643259080838,0,6624.3937360776545,null,35153.122893462758,9807,17279,8067.1228934627579,0,0,9678.3937360776545,3054,6624.3937360776545]
[24,70657.77701586012,{"$f":"B26/Recup_BienImmobilier!C$28","v":23552.592338620041},9807,13745.592338620041,0,0,0,{"$f":"(E26*0.14+F26*0.3+G26*0.41+H26*0.45)*Recup_BienImmobilier!$C$28","v":5773.1487822204181},{"$f":"IF(Recup_BienImmobilier!D$27=0,IF(I26<1569,1177-3/4*I26,0),IF(I26<2585,1939-3/4*I26,0))","v":0},6729.8531047580364,5222.9093225376182,0,6729.8531047580364,null,35328.88850793006,9807,17279,8242.8885079300599,0,0,9783.8531047580364,3054,6729.8531047580364]
[25,71011.065900939429,{"$f":"B27/Recup_BienImmobilier!C$28","v":23670.355300313142},9807,13863.355300313142,0,0,0,{"$f":"(E27*0.14+F27*0.3+G27*0.41+H27*0.45)*Recup_BienImmobilier!$C$28","v":5822.6092261315198},{"$f":"IF(Recup_BienImmobilier!D$27=0,IF(I27<1569,1177-3/4*I27,0),IF(I27<2585,1939-3/4*I27,0))","v":0},6835.8397702818293,5279.4355441503085,0,6835.8397702818293,null,35505.532950469715,9807,17279,8419.5329504697147,0,0,9889.8397702818293,3054,6835.8397702818293]
[26,71366.121230444114,{"$f":"B28/Recup_BienImmobilier!C$28","v":23788.707076814706},9807,13981.707076814706,0,0,0,{"$f":"(E28*0.14+F28*0.3+G28*0.41+H28*0.45)*Recup_BienImmobilier!$C$28","v":5872.3169722621769},{"$f":"IF(Recup_BienImmobilier!D$27=0,IF(I28<1569,1177-3/4*I28,0),IF(I28<2585,1939-3/4*I28,0))","v":0},6942.3563691332347,5352.0066706977059,0,6942.3563691332347,null,35683.060615222057,9807,17279,8597.0606152220571,0,0,9996.3563691332347,3054,6942.3563691332347]
[27,71722.95183659633,{"$f":"B29/Recup_BienImmobilier!C$28","v":23907.650612198777},9807,14100.650612198777,0,0,0,{"$f":"(E29*0.14+F29*0.3+G29*0.41+H29*0.45)*Recup_BienImmobilier!$C$28","v":5922.2732571234874},{"$f":"IF(Recup_BienImmobilier!D$27=0,IF(I29<1569,1177-3/4*I29,0),IF(I29<2585,1939-3/4*I29,0))","v":0},7049.4055509788996,5430.509404051194,0,7049.4055509788996,null,35861.475918298165,9807,17279,8775.4759182981652,0,0,10103.4055509789,3054,7049.4055509788996]
[28,72081.566595779295,{"$f":"B30/Recup_BienImmobilier!C$28","v":24027.188865259766},9807,14220.188865259766,0,0,0,{"$f":"(E30*0.14+F30*0.3+G30*0.41+H30*0.45)*Recup_BienImmobilier!$C$28","v":5972.479323409103},{"$f":"IF(Recup_BienImmobilier!D$27=0,IF(I30<1569,1177-3/4*I30,0),IF(I30<2585,1939-3/4*I30,0))","v":0},7156.989978733789,5509.4046510714452,0,7156.989978733789,null,36040.783297889648,9807,17279,8954.7832978896477,0,0,10210.989978733789,3054,7156.989978733789]
[29,72441.974428758185,{"$f":"B31/Recup_BienImmobilier!C$28","v":24147.324809586062},9807,14340.324809586062,0,0,0,{"$f":"(E31*0.14+F31*0.3+G31*0.41+H31*0.45)*Recup_BienImmobilier!$C$28","v":6022.9364200261471},{"$f":"IF(Recup_BienImmobilier!D$27=0,IF(I31<1569,1177-3/4*I31,0),IF(I31<2585,1939-3/4*I31,0))","v":0},7265.112328627456,5588.6943743268012,0,7265.112328627456,null,36220.987214379093,9807,17279,9134.9872143790926,0,0,10319.112328627456,3054,7265.112328627456]
[30,72804.18430090195,{"$f":"B32/Recup_BienImmobilier!C$28","v":24268.061433633982},9807,14461.061433633982,0,0,0,{"$f":"(E32*0.14+F32*0.3+G32*0.41+H32*0.45)*Recup_BienImmobilier!$C$28","v":6073.6458021262733},{"$f":"IF(Recup_BienImmobilier!D$27=0,IF(I32<1569,1177-3/4*I32,0),IF(I32<2585,1939-3/4*I32,0))","v":0},7373.775290270587,5668.3805461984302,0,7373.775290270587,null,36402.092150450975,9807,17279,9316.0921504509752,0,0,10427.775290270587,3054,7373.775290270587]
[31,73168.205222406454,{"$f":"B33/Recup_BienImmobilier!C$28","v":24389.40174080215},9807,14582.40174080215,0,0,0,{"$f":"(E33*0.14+F33*0.3+G33*0.41+H33*0.45)*Recup_BienImmobilier!$C$28","v":6124.6087311369038},{"$f":"IF(Recup_BienImmobilier!D$27=0,IF(I33<1569,1177-3/4*I33,0),IF(I33<2585,1939-3/4*I33,0))","v":0},7482.9815667219373,5748.465148929421,0,7482.9815667219373,null,36584.102611203227,9807,17279,9498.1026112032268,0,0,10536.981566721937,3054,7482.9815667219373]
[32,73534.046248518454,{"$f":"B34/Recup_BienImmobilier!C$28","v":24511.348749506153},9807,14704.348749506153,0,0,0,{"$f":"(E34*0.14+F34*0.3+G34*0.41+H34*0.45)*Recup_BienImmobilier!$C$28","v":6175.8264747925841},{"$f":"IF(Recup_BienImmobilier!D$27=0,IF(I34<1569,1177-3/4*I34,0),IF(I34<2585,1939-3/4*I34,0))","v":0},7592.7338745555371,5828.9501746740598,0,7592.7338745555371,null,36767.023124259227,9807,17279,9681.0231242592272,0,0,10646.733874555537,3054,7592.7338745555371]
[33,73901.716479761046,{"$f":"B35/Recup_BienImmobilier!C$28","v":24633.905493253682},{"$f":"IF($C35>$E$1,$E$1,$E$1-$C35)","v":9807},{"$f":"IF($C35<$E$1,0,IF($C35>$F$1,$F$1-$E$1,$C35-$E$1))","v":14826.905493253682},{"$f":"IF($C35<$F$1,0,IF($C35>$G$1,$G$1-$F$1,$C35-$F$1))","v":0},{"$f":"IF($C35<$G$1,0,IF($C35>$H$1,$H$1-$G$1,$C35-$G$1))","v":0},{"$f":"MAX(0,C35-$H$1)","v":0},{"$f":"(E35*0.14+F35*0.3+G35*0.41+H35*0.45)*Recup_BienImmobilier!$C$28","v":6227.300307166548},{"$f":"IF(Recup_BienImmobilier!D$27=0,IF(I35<1569,1177-3/4*I35,0),IF(I35<2585,1939-3/4*I35,0))","v":0},{"$f":"IF(I35-J35<0,0,IF((I35-J35)>X35,I35-J35,X35))","v":7703.0349439283145},5909.8376255474304,0,{"$f":"M35+K35","v":7703.0349439283145},null,{"$f":"B35/2","v":36950.858239880523},{"$f":"IF($P35>$E$1,$E$1,$E$1-$P35)","v":9807},{"$f":"IF($P35<$E$1,0,IF($P35>$F$1,$F$1-$E$1,$P35-$E$1))","v":17279},{"$f":"IF($P35<$F$1,0,IF($P35>$G$1,$G$1-$F$1,$P35-$F$1))","v":9864.8582398805229},{"$f":"IF($P35<$G$1,0,IF($P35>$H$1,$H$1-$G$1,$P35-$G$1))","v":0},{"$f":"MAX(0,P35-$H$1)","v":0},{"$f":"(R35*0.14+S35*0.3+T35*0.41+U35*0.45)*2","v":10757.034943928315},{"$f":"1527*2","v":3054},{"$f":"IF(V35-W35<0,0,V35-W35)","v":7703.0349439283145}]
[34,74271.22506215985,{"$f":"B36/Recup_BienImmobilier!C$28","v":24757.075020719949},9807,14950.075020719949,0,0,0,{"$f":"(E36*0.14+F36*0.3+G36*0.41+H36*0.45)*Recup_BienImmobilier!$C$28","v":6279.0315087023791},{"$f":"IF(Recup_BienImmobilier!D$27=0,IF(I36<1569,1177-3/4*I36,0),IF(I36<2585,1939-3/4*I36,0))","v":0},7813.8875186479563,5991.1295136751687,0,7813.8875186479563,null,37135.612531079925,9807,17279,10049.612531079925,0,0,10867.887518647956,3054,7813.8875186479563]
[35,74642.581187470641,{"$f":"B37/Recup_BienImmobilier!C$28","v":24880.860395823547},9807,15073.860395823547,0,0,0,{"$f":"(E37*0.14+F37*0.3+G37*0.41+H37*0.45)*Recup_BienImmobilier!$C$28","v":6331.02136624589},{"$f":"IF(Recup_BienImmobilier!D$27=0,IF(I37<1569,1177-3/4*I37,0),IF(I37<2585,1939-3/4*I37,0))","v":0},7925.2943562411929,6072.8278612435424,0,7925.2943562411929,null,37321.290593735321,9807,17279,10235.290593735321,0,0,10979.294356241193,3054,7925.2943562411929]
[36,75015.794093407982,{"$f":"B38/Recup_BienImmobilier!C$28","v":25005.264697802661},9807,15198.264697802661,0,0,0,{"$f":"(E38*0.14+F38*0.3+G38*0.41+H38*0.45)*Recup_BienImmobilier!$C$28","v":6383.271173077118},{"$f":"IF(Recup_BienImmobilier!D$27=0,IF(I38<1569,1177-3/4*I38,0),IF(I38<2585,1939-3/4*I38,0))","v":0},8037.2582280223942,6154.9347005497557,0,8037.2582280223942,null,37507.897046703991,9807,17279,10421.897046703991,0,0,11091.258228022394,3054,8037.2582280223942]
[37,75390.873063875013,{"$f":"B39/Recup_BienImmobilier!C$28","v":25130.291021291672},9807,15323.291021291672,0,0,0,{"$f":"(E39*0.14+F39*0.3+G39*0.41+H39*0.45)*Recup_BienImmobilier!$C$28","v":6435.7822289425039},{"$f":"IF(Recup_BienImmobilier!D$27=0,IF(I39<1569,1177-3/4*I39,0),IF(I39<2585,1939-3/4*I39,0))","v":0},8149.7819191625058,6237.4520740525058,0,8149.7819191625058,null,37695.436531937507,9807,17279,10609.436531937507,0,0,11203.781919162506,3054,8149.7819191625058]
[38,75767.827429194367,{"$f":"B40/Recup_BienImmobilier!C$28","v":25255.942476398122},9807,15448.942476398122,0,0,0,{"$f":"(E40*0.14+F40*0.3+G40*0.41+H40*0.45)*Recup_BienImmobilier!$C$28","v":6488.5558400872123},{"$f":"IF(Recup_BienImmobilier!D$27=0,IF(I40<1569,1177-3/4*I40,0),IF(I40<2585,1939-3/4*I40,0))","v":0},8262.8682287583106,6320.3820344227606,0,8262.8682287583106,null,37883.913714597184,9807,17279,10797.913714597184,0,0,11316.868228758311,3054,8262.8682287583106]
[39,76146.666566340326,{"$f":"B41/Recup_BienImmobilier!C$28","v":25382.22218878011},9807,15575.22218878011,0,0,0,{"$f":"(E41*0.14+F41*0.3+G41*0.41+H41*0.45)*Recup_BienImmobilier!$C$28","v":6541.5933192876464},{"$f":"IF(Recup_BienImmobilier!D$27=0,IF(I41<1569,1177-3/4*I41,0),IF(I41<2585,1939-3/4*I41,0))","v":0},8376.5199699020995,6403.7266445948735,0,8376.5199699020995,null,38073.333283170163,9807,17279,10987.333283170163,0,0,11430.5199699021,3054,8376.5199699020995]
[40,76527.399899172015,{"$f":"B42/Recup_BienImmobilier!C$28","v":25509.133299724006},9807,15702.133299724006,0,0,0,{"$f":"(E42*0.14+F42*0.3+G42*0.41+H42*0.45)*Recup_BienImmobilier!$C$28","v":6594.8959858840835},{"$f":"IF(Recup_BienImmobilier!D$27=0,IF(I42<1569,1177-3/4*I42,0),IF(I42<2585,1939-3/4*I42,0))","v":0},8490.7399697516048,6487.4879778178429,0,8490.7399697516048,null,38263.699949586007,9807,17279,11177.699949586007,0,0,11544.739969751605,3054,8490.7399697516048]
[41,76910.036898667866,{"$f":"B43/Recup_BienImmobilier!C$28","v":25636.678966222622},9807,15829.678966222622,0,0,0,{"$f":"(E43*0.14+F43*0.3+G43*0.41+H43*0.45)*Recup_BienImmobilier!$C$28","v":6648.4651658135026},{"$f":"IF(Recup_BienImmobilier!D$27=0,IF(I43<1569,1177-3/4*I43,0),IF(I43<2585,1939-3/4*I43,0))","v":0},8605.5310696003617,6571.6681177069313,0,8605.5310696003617,null,38455.018449333933,9807,17279,11369.018449333933,0,0,11659.531069600362,3054,8605.5310696003617]
[42,77294.587083161197,{"$f":"B44/Recup_BienImmobilier!C$28","v":25764.862361053732},9807,15957.862361053732,0,0,0,{"$f":"(E44*0.14+F44*0.3+G44*0.41+H44*0.45)*Recup_BienImmobilier!$C$28","v":6702.3021916425678},{"$f":"IF(Recup_BienImmobilier!D$27=0,IF(I44<1569,1177-3/4*I44,0),IF(I44<2585,1939-3/4*I44,0))","v":0},8720.89612494836,6656.2691582954631,0,8720.89612494836,null,38647.293541580599,9807,17279,11561.293541580599,0,0,11774.89612494836,3054,8720.89612494836]
[43,77681.060018576987,{"$f":"B45/Recup_BienImmobilier!C$28","v":25893.686672858996},9807,16086.686672858996,0,0,0,{"$f":"(E45*0.14+F45*0.3+G45*0.41+H45*0.45)*Recup_BienImmobilier!$C$28","v":6756.4084026007786},{"$f":"IF(Recup_BienImmobilier!D$27=0,IF(I45<1569,1177-3/4*I45,0),IF(I45<2585,1939-3/4*I45,0))","v":0},8836.8380055730959,6741.2932040869364,0,8836.8380055730959,null,38840.530009288494,9807,17279,11754.530009288494,0,0,11890.838005573096,3054,8836.8380055730959]
[44,78069.465318669871,{"$f":"B46/Recup_BienImmobilier!C$28","v":26023.15510622329},9807,16216.15510622329,0,0,0,{"$f":"(E46*0.14+F46*0.3+G46*0.41+H46*0.45)*Recup_BienImmobilier!$C$28","v":6810.785144613782},{"$f":"IF(Recup_BienImmobilier!D$27=0,IF(I46<1569,1177-3/4*I46,0),IF(I46<2585,1939-3/4*I46,0))","v":0},8953.3595956009631,6826.7423701073731,0,8953.3595956009631,null,39034.732659334935,9807,17279,11948.732659334935,0,0,12007.359595600963,3054,8953.3595956009631]
[45,78459.812645263213,{"$f":"B47/Recup_BienImmobilier!C$28","v":26153.270881754404},9807,16346.270881754404,0,0,0,{"$f":"(E47*0.14+F47*0.3+G47*0.41+H47*0.45)*Recup_BienImmobilier!$C$28","v":6865.433770336851},{"$f":"IF(Recup_BienImmobilier!D$27=0,IF(I47<1569,1177-3/4*I47,0),IF(I47<2585,1939-3/4*I47,0))","v":0},9070.4637935789651,6912.61878195791,0,9070.4637935789651,null,39229.906322631607,9807,17279,12143.906322631607,0,0,12124.463793578965,3054,9070.4637935789651]
[46,78852.111708489509,{"$f":"B48/Recup_BienImmobilier!C$28","v":26284.037236163171},9807,16477.037236163171,0,0,0,{"$f":"(E48*0.14+F48*0.3+G48*0.41+H48*0.45)*Recup_BienImmobilier!$C$28","v":6920.3556391885322},{"$f":"IF(Recup_BienImmobilier!D$27=0,IF(I48<1569,1177-3/4*I48,0),IF(I48<2585,1939-3/4*I48,0))","v":0},9188.1535125468527,6998.9245758676925,0,9188.1535125468527,null,39426.055854244754,9807,17279,12340.055854244754,0,0,12242.153512546853,3054,9188.1535125468527]
[47,79246.372267031955,{"$f":"B49/Recup_BienImmobilier!C$28","v":26415.457422343985},9807,16608.457422343985,0,0,0,{"$f":"(E49*0.14+F49*0.3+G49*0.41+H49*0.45)*Recup_BienImmobilier!$C$28","v":6975.5521173844736},{"$f":"IF(Recup_BienImmobilier!D$27=0,IF(I49<1569,1177-3/4*I49,0),IF(I49<2585,1939-3/4*I49,0))","v":0},9306.4316801095865,7085.661898747031,0,9306.4316801095865,null,39623.186133515977,9807,17279,12537.186133515977,0,0,12360.431680109587,3054,9306.4316801095865]
[48,79642.604128367078,{"$f":"B50/Recup_BienImmobilier!C$28","v":26547.534709455693},9807,16740.534709455693,0,0,0,{"$f":"(E50*0.14+F50*0.3+G50*0.41+H50*0.45)*Recup_BienImmobilier!$C$28","v":7031.0245779713914},{"$f":"IF(Recup_BienImmobilier!D$27=0,IF(I50<1569,1177-3/4*I50,0),IF(I50<2585,1939-3/4*I50,0))","v":0},9425.3012385101247,7172.8329082407581,0,9425.3012385101247,null,39821.302064183539,9807,17279,12735.302064183539,0,0,12479.301238510125,3054,9425.3012385101247]
[49,80040.817149008901,{"$f":"B51/Recup_BienImmobilier!C$28","v":26680.272383002968},9807,16873.272383002968,0,0,0,{"$f":"(E51*0.14+F51*0.3+G51*0.41+H51*0.45)*Recup_BienImmobilier!$C$28","v":7086.7744008612472},{"$f":"IF(Recup_BienImmobilier!D$27=0,IF(I51<1569,1177-3/4*I51,0),IF(I51<2585,1939-3/4*I51,0))","v":0},9544.765144702671,7260.4397727819587,0,9544.765144702671,null,40020.40857450445,9807,17279,12934.40857450445,0,0,12598.765144702671,3054,9544.765144702671]
[50,80441.021234753949,{"$f":"B52/Recup_BienImmobilier!C$28","v":26813.673744917982},9807,17006.673744917982,0,0,0,{"$f":"(E52*0.14+F52*0.3+G52*0.41+H52*0.45)*Recup_BienImmobilier!$C$28","v":7142.8029728655529},{"$f":"IF(Recup_BienImmobilier!D$27=0,IF(I52<1569,1177-3/4*I52,0),IF(I52<2585,1939-3/4*I52,0))","v":0},9664.8263704261844,7348.4846716458687,0,9664.8263704261844,null,40220.510617376975,9807,17279,13134.510617376975,0,0,12718.826370426184,3054,9664.8263704261844]
[]
[]
[]
[]
[]
[]
[]
[]
[]
[]
[]
["sans foncier"]
["Année","Revenu net","Revenu/part","Tranche 1 (0%)","Tranche 2 (14%)","Tranche 3 (30%)","Tranche 4 (41%)","Tranche 5 (45%)","Impot Net","Decote","Final",null,null,null,null,"Revenu parents","Tranche 1 (0%)","Tranche 2 (14%)","Tranche 3 (30%)","Tranche 4 (41%)","Tranche 5 (45%)","Impot Net","gain enfant","Final"]
[1,{"$f":"(Recup_BienImmobilier!C$27+Recup_BienImmobilier!D$27) - 0.1*(Recup_BienImmobilier!C$27+Recup_BienImmobilier!D$27)","v":36000},{"$f":"B66/Recup_BienImmobilier!C$28","v":12000},{"$f":"IF($C66>$E$1,$E$1,$E$1-$C66)","v":9807},{"$f":"IF($C66<$E$1,0,IF($C66>$F$1,$F$1-$E$1,$C66-$E$1))","v":2193},{"$f":"IF($C66<$F$1,0,IF($C66>$G$1,$G$1-$F$1,$C66-$F$1))","v":0},{"$f":"IF($C66<$G$1,0,IF($C66>$H$1,$H$1-$G$1,$C66-$G$1))","v":0},{"$f":"MAX(0,C66-$H$1)","v":0},{"$f":"(E66*0.14+F66*0.3+G66*0.41+H66*0.45)*Recup_BienImmobilier!C$28","v":921.06000000000017},{"$f":"IF(Recup_BienImmobilier!D$27=0,IF(I66<1569,1177-3/4*I66,0),IF(I66<2585,1939-3/4*I66,0))","v":486.20499999999993},{"$f":"IF(I66-J66<0,0,IF((I66-J66)>X66,I66-J66,X66))","v":434.85500000000025},null,null,null,null,{"$f":"B66/2","v":18000},{"$f":"IF($P66>$E$1,$E$1,$E$1-$P66)","v":9807},{"$f":"IF($P66<$E$1,0,IF($P66>$F$1,$F$1-$E$1,$P66-$E$1))","v":8193},{"$f":"IF($P66<$F$1,0,IF($P66>$G$1,$G$1-$F$1,$P66-$F$1))","v":0},{"$f":"IF($P66<$G$1,0,IF($P66>$H$1,$H$1-$G$1,$P66-$G$1))","v":0},{"$f":"MAX(0,P66-$H$1)","v":0},{"$f":"(R66*0.14+S66*0.3+T66*0.41+U66*0.45)*2","v":2294.0400000000004},{"$f":"1527*2","v":3054},{"$f":"IF(V66-W66<0,0,V66-W66)","v":0}]
[2,{"$f":"(Recup_BienImmobilier!C$27+Recup_BienImmobilier!D$27)*POWER((1+Recup_BienImmobilier!G$42),A66) - 0.1*(Recup_BienImmobilier!C$27+Recup_BienImmobilier!D$27)*POWER((1+Recup_BienImmobilier!G$42),A66)","v":36179.999999999993},{"$f":"B67/Recup_BienImmobilier!C$28","v":12059.999999999998},9807,2252.9999999999982,0,0,0,{"$f":"(E67*0.14+F67*0.3+G67*0.41+H67*0.45)*Recup_BienImmobilier!C$28","v":946.25999999999931},{"$f":"IF(Recup_BienImmobilier!D$27=0,IF(I67<1569,1177-3/4*I67,0),IF(I67<2585,1939-3/4*I67,0))","v":467.30500000000052},478.95499999999879,null,null,null,null,18089.999999999996,9807,8282.9999999999964,0,0,0,2319.2399999999993,3054,0]
[3,{"$f":"(Recup_BienImmobilier!C$27+Recup_BienImmobilier!D$27)*POWER((1+Recup_BienImmobilier!G$42),A67) - 0.1*(Recup_BienImmobilier!C$27+Recup_BienImmobilier!D$27)*POWER((1+Recup_BienImmobilier!G$42),A67)","v":36360.899999999994},{"$f":"B68/Recup_BienImmobilier!C$28","v":12120.299999999997},9807,2313.2999999999975,0,0,0,{"$f":"(E68*0.14+F68*0.3+G68*0.41+H68*0.45)*Recup_BienImmobilier!C$28","v":971.5859999999991},{"$f":"IF(Recup_BienImmobilier!D$27=0,IF(I68<1569,1177-3/4*I68,0),IF(I68<2585,1939-3/4*I68,0))","v":448.31050000000073},523.27549999999837,null,null,null,null,18180.449999999997,9807,8373.4499999999971,0,0,0,2344.5659999999993,3054,0]
[4,{"$f":"(Recup_BienImmobilier!C$27+Recup_BienImmobilier!D$27)*POWER((1+Recup_BienImmobilier!G$42),A68) - 0.1*(Recup_BienImmobilier!C$27+Recup_BienImmobilier!D$27)*POWER((1+Recup_BienImmobilier!G$42),A68)","v":36542.704499999985},{"$f":"B69/Recup_BienImmobilier!C$28","v":12180.901499999994},9807,2373.9014999999945,0,0,0,{"$f":"(E69*0.14+F69*0.3+G69*0.41+H69*0.45)*Recup_BienImmobilier!C$28","v":997.03862999999774},{"$f":"IF(Recup_BienImmobilier!D$27=0,IF(I69<1569,1177-3/4*I69,0),IF(I69<2585,1939-3/4*I69,0))","v":429.2210275000017},567.81760249999604,null,null,null,null,18271.352249999993,9807,8464.3522499999926,0,0,0,2370.0186299999982,3054,0]
[5,{"$f":"(Recup_BienImmobilier!C$27+Recup_BienImmobilier!D$27)*POWER((1+Recup_BienImmobilier!G$42),A69) - 0.1*(Recup_BienImmobilier!C$27+Recup_BienImmobilier!D$27)*POWER((1+Recup_BienImmobilier!G$42),A69)","v":36725.41802249998},{"$f":"B70/Recup_BienImmobilier!C$28","v":12241.806007499994},9807,2434.8060074999939,0,0,0,{"$f":"(E70*0.14+F70*0.3+G70*0.41+H70*0.45)*Recup_BienImmobilier!C$28","v":1022.6185231499976},{"$f":"IF(Recup_BienImmobilier!D$27=0,IF(I70<1569,1177-3/4*I70,0),IF(I70<2585,1939-3/4*I70,0))","v":410.0361076375018},612.5824155124958,null,null,null,null,18362.70901124999,9807,8555.70901124999,0,0,0,2395.5985231499976,3054,0]
[6,{"$f":"(Recup_BienImmobilier!C$27+Recup_BienImmobilier!D$27)*POWER((1+Recup_BienImmobilier!G$42),A70) - 0.1*(Recup_BienImmobilier!C$27+Recup_BienImmobilier!D$27)*POWER((1+Recup_BienImmobilier!G$42),A70)","v":36909.045112612468},{"$f":"B71/Recup_BienImmobilier!C$28","v":12303.015037537489},9807,2496.0150375374888,0,0,0,{"$f":"(E71*0.14+F71*0.3+G71*0.41+H71*0.45)*Recup_BienImmobilier!C$28","v":1048.3263157657454},{"$f":"IF(Recup_BienImmobilier!D$27=0,IF(I71<1569,1177-3/4*I71,0),IF(I71<2585,1939-3/4*I71,0))","v":390.75526317569097},657.57105259005448,null,null,null,null,18454.522556306234,9807,8647.522556306234,0,0,0,2421.3063157657457,3054,0]
[7,{"$f":"(Recup_BienImmobilier!C$27+Recup_BienImmobilier!D$27)*POWER((1+Recup_BienImmobilier!G$42),A71) - 0.1*(Recup_BienImmobilier!C$27+Recup_BienImmobilier!D$27)*POWER((1+Recup_BienImmobilier!G$42),A71)","v":37093.590338175527},{"$f":"B72/Recup_BienImmobilier!C$28","v":12364.530112725175},9807,2557.5301127251751,0,0,0,{"$f":"(E72*0.14+F72*0.3+G72*0.41+H72*0.45)*Recup_BienImmobilier!C$28","v":1074.1626473445735},{"$f":"IF(Recup_BienImmobilier!D$27=0,IF(I72<1569,1177-3/4*I72,0),IF(I72<2585,1939-3/4*I72,0))","v":371.37801449156984},702.7846328530037,null,null,null,null,18546.795169087763,9807,8739.7951690877635,0,0,0,2447.142647344574,3054,0]
[8,{"$f":"(Recup_BienImmobilier!C$27+Recup_BienImmobilier!D$27)*POWER((1+Recup_BienImmobilier!G$42),A72) - 0.1*(Recup_BienImmobilier!C$27+Recup_BienImmobilier!D$27)*POWER((1+Recup_BienImmobilier!G$42),A72)","v":37279.0582898664},{"$f":"B73/Recup_BienImmobilier!C$28","v":12426.3527632888},9807,2619.3527632887999,0,0,0,{"$f":"(E73*0.14+F73*0.3+G73*0.41+H73*0.45)*Recup_BienImmobilier!C$28","v":1100.128160581296},{"$f":"IF(Recup_BienImmobilier!D$27=0,IF(I73<1569,1177-3/4*I73,0),IF(I73<2585,1939-3/4*I73,0))","v":351.90387956402799},748.22428101726803,null,null,null,null,18639.5291449332,9807,8832.5291449331999,0,0,0,2473.108160581296,3054,0]
[9,{"$f":"(Recup_BienImmobilier!C$27+Recup_BienImmobilier!D$27)*POWER((1+Recup_BienImmobilier!G$42),A73) - 0.1*(Recup_BienImmobilier!C$27+Recup_BienImmobilier!D$27)*POWER((1+Recup_BienImmobilier!G$42),A73)","v":37465.453581315727},{"$f":"B74/Recup_BienImmobilier!C$28","v":12488.484527105242},9807,2681.4845271052418,0,0,0,{"$f":"(E74*0.14+F74*0.3+G74*0.41+H74*0.45)*Recup_BienImmobilier!C$28","v":1126.2235013842017},{"$f":"IF(Recup_BienImmobilier!D$27=0,IF(I74<1569,1177-3/4*I74,0),IF(I74<2585,1939-3/4*I74,0))","v":332.33237396184882},793.89112742235284,null,null,null,null,18732.726790657864,9807,8925.7267906578636,0,0,0,2499.2035013842019,3054,0]
[10,{"$f":"(Recup_BienImmobilier!C$27+Recup_BienImmobilier!D$27)*POWER((1+Recup_BienImmobilier!G$42),A74) - 0.1*(Recup_BienImmobilier!C$27+Recup_BienImmobilier!D$27)*POWER((1+Recup_BienImmobilier!G$42),A74)","v":37652.780849222305},{"$f":"B75/Recup_BienImmobilier!C$28","v":12550.926949740768},9807,2743.9269497407677,0,0,0,{"$f":"(E75*0.14+F75*0.3+G75*0.41+H75*0.45)*Recup_BienImmobilier!C$28","v":1152.4493188911224},{"$f":"IF(Recup_BienImmobilier!D$27=0,IF(I75<1569,1177-3/4*I75,0),IF(I75<2585,1939-3/4*I75,0))","v":312.6630108316582},839.7863080594642,null,null,null,null,18826.390424611152,9807,9019.3904246111524,0,0,0,2525.4293188911229,3054,0]
[11,{"$f":"(Recup_BienImmobilier!C$27+Recup_BienImmobilier!D$27)*POWER((1+Recup_BienImmobilier!G$42),A75) - 0.1*(Recup_BienImmobilier!C$27+Recup_BienImmobilier!D$27)*POWER((1+Recup_BienImmobilier!G$42),A75)","v":37841.044753468406},{"$f":"B76/Recup_BienImmobilier!C$28","v":12613.681584489468},9807,2806.6815844894682,0,0,0,{"$f":"(E76*0.14+F76*0.3+G76*0.41+H76*0.45)*Recup_BienImmobilier!C$28","v":1178.8062654855767},{"$f":"IF(Recup_BienImmobilier!D$27=0,IF(I76<1569,1177-3/4*I76,0),IF(I76<2585,1939-3/4*I76,0))","v":292.89530088581751},885.91096459975915,null,null,null,null,18920.522376734203,9807,9113.5223767342031,0,0,0,2551.7862654855771,3054,0]
[12,{"$f":"(Recup_BienImmobilier!C$27+Recup_BienImmobilier!D$27)*POWER((1+Recup_BienImmobilier!G$42),A76) - 0.1*(Recup_BienImmobilier!C$27+Recup_BienImmobilier!D$27)*POWER((1+Recup_BienImmobilier!G$42),A76)","v":38030.249977235748},{"$f":"B77/Recup_BienImmobilier!C$28","v":12676.749992411917},9807,2869.7499924119165,0,0,0,{"$f":"(E77*0.14+F77*0.3+G77*0.41+H77*0.45)*Recup_BienImmobilier!C$28","v":1205.2949968130051},{"$f":"IF(Recup_BienImmobilier!D$27=0,IF(I77<1569,1177-3/4*I77,0),IF(I77<2585,1939-3/4*I77,0))","v":273.02875239024615},932.26624442275897,null,null,null,null,19015.124988617874,9807,9208.1249886178739,0,0,0,2578.2749968130051,3054,0]
[13,{"$f":"(Recup_BienImmobilier!C$27+Recup_BienImmobilier!D$27)*POWER((1+Recup_BienImmobilier!G$42),A77) - 0.1*(Recup_BienImmobilier!C$27+Recup_BienImmobilier!D$27)*POWER((1+Recup_BienImmobilier!G$42),A77)","v":38220.401227121911},{"$f":"B78/Recup_BienImmobilier!C$28","v":12740.13374237397},9807,2933.1337423739697,0,0,0,{"$f":"(E78*0.14+F78*0.3+G78*0.41+H78*0.45)*Recup_BienImmobilier!C$28","v":1231.9161717970674},{"$f":"IF(Recup_BienImmobilier!D$27=0,IF(I78<1569,1177-3/4*I78,0),IF(I78<2585,1939-3/4*I78,0))","v":253.06287115219948},978.85330064486789,null,null,null,null,19110.200613560955,9807,9303.2006135609554,0,0,0,2604.8961717970678,3054,0]
[14,{"$f":"(Recup_BienImmobilier!C$27+Recup_BienImmobilier!D$27)*POWER((1+Recup_BienImmobilier!G$42),A78) - 0.1*(Recup_BienImmobilier!C$27+Recup_BienImmobilier!D$27)*POWER((1+Recup_BienImmobilier!G$42),A78)","v":38411.503233257521},{"$f":"B79/Recup_BienImmobilier!C$28","v":12803.83441108584},9807,2996.8344110858397,0,0,0,{"$f":"(E79*0.14+F79*0.3+G79*0.41+H79*0.45)*Recup_BienImmobilier!C$28","v":1258.6704526560529},{"$f":"IF(Recup_BienImmobilier!D$27=0,IF(I79<1569,1177-3/4*I79,0),IF(I79<2585,1939-3/4*I79,0))","v":232.9971605079603},1025.6732921480925,null,null,null,null,19205.751616628761,9807,9398.7516166287605,0,0,0,2631.6504526560534,3054,0]
[15,{"$f":"(Recup_BienImmobilier!C$27+Recup_BienImmobilier!D$27)*POWER((1+Recup_BienImmobilier!G$42),A79) - 0.1*(Recup_BienImmobilier!C$27+Recup_BienImmobilier!D$27)*POWER((1+Recup_BienImmobilier!G$42),A79)","v":38603.560749423807},{"$f":"B80/Recup_BienImmobilier!C$28","v":12867.853583141268},9807,3060.8535831412682,0,0,0,{"$f":"(E80*0.14+F80*0.3+G80*0.41+H80*0.45)*Recup_BienImmobilier!C$28","v":1285.5585049193328},{"$f":"IF(Recup_BienImmobilier!D$27=0,IF(I80<1569,1177-3/4*I80,0),IF(I80<2585,1939-3/4*I80,0))","v":212.83112131050041},1072.7273836088325,null,null,null,null,19301.780374711903,9807,9494.7803747119033,0,0,0,2658.5385049193333,3054,0]
[16,{"$f":"(Recup_BienImmobilier!C$27+Recup_BienImmobilier!D$27)*POWER((1+Recup_BienImmobilier!G$42),A80) - 0.1*(Recup_BienImmobilier!C$27+Recup_BienImmobilier!D$27)*POWER((1+Recup_BienImmobilier!G$42),A80)","v":38796.578553170912},{"$f":"B81/Recup_BienImmobilier!C$28","v":12932.192851056971},9807,3125.1928510569705,0,0,0,{"$f":"(E81*0.14+F81*0.3+G81*0.41+H81*0.45)*Recup_BienImmobilier!C$28","v":1312.5809974439278},{"$f":"IF(Recup_BienImmobilier!D$27=0,IF(I81<1569,1177-3/4*I81,0),IF(I81<2585,1939-3/4*I81,0))","v":192.56425191705421},1120.0167455268736,null,null,null,null,19398.289276585456,9807,9591.2892765854558,0,0,0,2685.560997443928,3054,0]
[17,{"$f":"(Recup_BienImmobilier!C$27+Recup_BienImmobilier!D$27)*POWER((1+Recup_BienImmobilier!G$42),A81) - 0.1*(Recup_BienImmobilier!C$27+Recup_BienImmobilier!D$27)*POWER((1+Recup_BienImmobilier!G$42),A81)","v":38990.561445936764},{"$f":"B82/Recup_BienImmobilier!C$28","v":12996.853815312255},9807,3189.8538153122554,0,0,0,{"$f":"(E82*0.14+F82*0.3+G82*0.41+H82*0.45)*Recup_BienImmobilier!C$28","v":1339.7386024311475},{"$f":"IF(Recup_BienImmobilier!D$27=0,IF(I82<1569,1177-3/4*I82,0),IF(I82<2585,1939-3/4*I82,0))","v":172.19604817663935},1167.5425542545081,null,null,null,null,19495.280722968382,9807,9688.2807229683822,0,0,0,2712.7186024311472,3054,0]
[18,{"$f":"(Recup_BienImmobilier!C$27+Recup_BienImmobilier!D$27)*POWER((1+Recup_BienImmobilier!G$42),A82) - 0.1*(Recup_BienImmobilier!C$27+Recup_BienImmobilier!D$27)*POWER((1+Recup_BienImmobilier!G$42),A82)","v":39185.514253166446},{"$f":"B83/Recup_BienImmobilier!C$28","v":13061.838084388815},9807,3254.8380843888153,0,0,0,{"$f":"(E83*0.14+F83*0.3+G83*0.41+H83*0.45)*Recup_BienImmobilier!C$28","v":1367.0319954433025},{"$f":"IF(Recup_BienImmobilier!D$27=0,IF(I83<1569,1177-3/4*I83,0),IF(I83<2585,1939-3/4*I83,0))","v":151.72600341752309},1215.3059920257795,null,null,null,null,19592.757126583223,9807,9785.757126583223,0,0,0,2740.0119954433026,3054,0]
[19,{"$f":"(Recup_BienImmobilier!C$27+Recup_BienImmobilier!D$27)*POWER((1+Recup_BienImmobilier!G$42),A83) - 0.1*(Recup_BienImmobilier!C$27+Recup_BienImmobilier!D$27)*POWER((1+Recup_BienImmobilier!G$42),A83)","v":39381.441824432266},{"$f":"B84/Recup_BienImmobilier!C$28","v":13127.147274810755},9807,3320.1472748107553,0,0,0,{"$f":"(E84*0.14+F84*0.3+G84*0.41+H84*0.45)*Recup_BienImmobilier!C$28","v":1394.4618554205174},{"$f":"IF(Recup_BienImmobilier!D$27=0,IF(I84<1569,1177-3/4*I84,0),IF(I84<2585,1939-3/4*I84,0))","v":131.1536084346119},1263.3082469859055,null,null,null,null,19690.720912216133,9807,9883.720912216133,0,0,0,2767.4418554205176,3054,0]
[20,{"$f":"(Recup_BienImmobilier!C$27+Recup_BienImmobilier!D$27)*POWER((1+Recup_BienImmobilier!G$42),A84) - 0.1*(Recup_BienImmobilier!C$27+Recup_BienImmobilier!D$27)*POWER((1+Recup_BienImmobilier!G$42),A84)","v":39578.349033554427},{"$f":"B85/Recup_BienImmobilier!C$28","v":13192.783011184809},9807,3385.7830111848089,0,0,0,{"$f":"(E85*0.14+F85*0.3+G85*0.41+H85*0.45)*Recup_BienImmobilier!C$28","v":1422.0288646976198},{"$f":"IF(Recup_BienImmobilier!D$27=0,IF(I85<1569,1177-3/4*I85,0),IF(I85<2585,1939-3/4*I85,0))","v":110.47835147678506},1311.5505132208348,null,null,null,null,19789.174516777213,9807,9982.1745167772133,0,0,0,2795.0088646976201,3054,0]
[21,{"$f":"(Recup_BienImmobilier!C$27+Recup_BienImmobilier!D$27)*POWER((1+Recup_BienImmobilier!G$42),A85) - 0.1*(Recup_BienImmobilier!C$27+Recup_BienImmobilier!D$27)*POWER((1+Recup_BienImmobilier!G$42),A85)","v":39776.240778722189},{"$f":"B86/Recup_BienImmobilier!C$28","v":13258.74692624073},9807,3451.7469262407303,0,0,0,{"$f":"(E86*0.14+F86*0.3+G86*0.41+H86*0.45)*Recup_BienImmobilier!C$28","v":1449.733709021107},{"$f":"IF(Recup_BienImmobilier!D$27=0,IF(I86<1569,1177-3/4*I86,0),IF(I86<2585,1939-3/4*I86,0))","v":89.699718234169723},1360.0339907869372,null,null,null,null,19888.120389361095,9807,10081.120389361095,0,0,0,2822.7137090211068,3054,0]
[22,{"$f":"(Recup_BienImmobilier!C$27+Recup_BienImmobilier!D$27)*POWER((1+Recup_BienImmobilier!G$42),A86) - 0.1*(Recup_BienImmobilier!C$27+Recup_BienImmobilier!D$27)*POWER((1+Recup_BienImmobilier!G$42),A86)","v":39975.12198261579},{"$f":"B87/Recup_BienImmobilier!C$28","v":13325.04066087193},9807,3518.0406608719295,0,0,0,{"$f":"(E87*0.14+F87*0.3+G87*0.41+H87*0.45)*Recup_BienImmobilier!C$28","v":1477.5770775662106},{"$f":"IF(Recup_BienImmobilier!D$27=0,IF(I87<1569,1177-3/4*I87,0),IF(I87<2585,1939-3/4*I87,0))","v":68.817191825341979},1408.7598857408686,null,null,null,null,19987.560991307895,9807,10180.560991307895,0,0,0,2850.5570775662109,3054,0]
[23,{"$f":"(Recup_BienImmobilier!C$27+Recup_BienImmobilier!D$27)*POWER((1+Recup_BienImmobilier!G$42),A87) - 0.1*(Recup_BienImmobilier!C$27+Recup_BienImmobilier!D$27)*POWER((1+Recup_BienImmobilier!G$42),A87)","v":40174.99759252886},{"$f":"B88/Recup_BienImmobilier!C$28","v":13391.665864176286},9807,3584.665864176286,0,0,0,{"$f":"(E88*0.14+F88*0.3+G88*0.41+H88*0.45)*Recup_BienImmobilier!C$28","v":1505.5596629540403},{"$f":"IF(Recup_BienImmobilier!D$27=0,IF(I88<1569,1177-3/4*I88,0),IF(I88<2585,1939-3/4*I88,0))","v":47.830252784469849},1457.7294101695704,null,null,null,null,20087.49879626443,9807,10280.49879626443,0,0,0,2878.5396629540405,3054,0]
[24,{"$f":"(Recup_BienImmobilier!C$27+Recup_BienImmobilier!D$27)*POWER((1+Recup_BienImmobilier!G$42),A88) - 0.1*(Recup_BienImmobilier!C$27+Recup_BienImmobilier!D$27)*POWER((1+Recup_BienImmobilier!G$42),A88)","v":40375.872580491501},{"$f":"B89/Recup_BienImmobilier!C$28","v":13458.624193497168},9807,3651.6241934971677,0,0,0,{"$f":"(E89*0.14+F89*0.3+G89*0.41+H89*0.45)*Recup_BienImmobilier!C$28","v":1533.6821612688104},{"$f":"IF(Recup_BienImmobilier!D$27=0,IF(I89<1569,1177-3/4*I89,0),IF(I89<2585,1939-3/4*I89,0))","v":26.738379048392289},1506.9437822204181,null,null,null,null,20187.936290245751,9807,10380.936290245751,0,0,0,2906.6621612688105,3054,0]
[25,{"$f":"(Recup_BienImmobilier!C$27+Recup_BienImmobilier!D$27)*POWER((1+Recup_BienImmobilier!G$42),A89) - 0.1*(Recup_BienImmobilier!C$27+Recup_BienImmobilier!D$27)*POWER((1+Recup_BienImmobilier!G$42),A89)","v":40577.75194339396},{"$f":"B90/Recup_BienImmobilier!C$28","v":13525.917314464654},9807,3718.9173144646538,0,0,0,{"$f":"(E90*0.14+F90*0.3+G90*0.41+H90*0.45)*Recup_BienImmobilier!C$28","v":1561.9452720751547},{"$f":"IF(Recup_BienImmobilier!D$27=0,IF(I90<1569,1177-3/4*I90,0),IF(I90<2585,1939-3/4*I90,0))","v":5.5410459436338897},1556.4042261315208,null,null,null,null,20288.87597169698,9807,10481.87597169698,0,0,0,2934.9252720751547,3054,0]
[26,{"$f":"(Recup_BienImmobilier!C$27+Recup_BienImmobilier!D$27)*POWER((1+Recup_BienImmobilier!G$42),A90) - 0.1*(Recup_BienImmobilier!C$27+Recup_BienImmobilier!D$27)*POWER((1+Recup_BienImmobilier!G$42),A90)","v":40780.640703110919},{"$f":"B91/Recup_BienImmobilier!C$28","v":13593.546901036972},9807,3786.5469010369725,0,0,0,{"$f":"(E91*0.14+F91*0.3+G91*0.41+H91*0.45)*Recup_BienImmobilier!C$28","v":1590.3496984355286},{"$f":"IF(Recup_BienImmobilier!D$27=0,IF(I91<1569,1177-3/4*I91,0),IF(I91<2585,1939-3/4*I91,0))","v":0},1590.3496984355286,null,null,null,null,20390.32035155546,9807,10583.32035155546,0,0,0,2963.3296984355288,3054,0]
[27,{"$f":"(Recup_BienImmobilier!C$27+Recup_BienImmobilier!D$27)*POWER((1+Recup_BienImmobilier!G$42),A91) - 0.1*(Recup_BienImmobilier!C$27+Recup_BienImmobilier!D$27)*POWER((1+Recup_BienImmobilier!G$42),A91)","v":40984.543906626466},{"$f":"B92/Recup_BienImmobilier!C$28","v":13661.514635542155},9807,3854.5146355421548,0,0,0,{"$f":"(E92*0.14+F92*0.3+G92*0.41+H92*0.45)*Recup_BienImmobilier!C$28","v":1618.8961469277051},{"$f":"IF(Recup_BienImmobilier!D$27=0,IF(I92<1569,1177-3/4*I92,0),IF(I92<2585,1939-3/4*I92,0))","v":0},1618.8961469277051,null,null,null,null,20492.271953313233,9807,10685.271953313233,0,0,0,2991.8761469277056,3054,0]
[28,{"$f":"(Recup_BienImmobilier!C$27+Recup_BienImmobilier!D$27)*POWER((1+Recup_BienImmobilier!G$42),A92) - 0.1*(Recup_BienImmobilier!C$27+Recup_BienImmobilier!D$27)*POWER((1+Recup_BienImmobilier!G$42),A92)","v":41189.466626159599},{"$f":"B93/Recup_BienImmobilier!C$28","v":13729.822208719866},9807,3922.8222087198665,0,0,0,{"$f":"(E93*0.14+F93*0.3+G93*0.41+H93*0.45)*Recup_BienImmobilier!C$28","v":1647.5853276623438},{"$f":"IF(Recup_BienImmobilier!D$27=0,IF(I93<1569,1177-3/4*I93,0),IF(I93<2585,1939-3/4*I93,0))","v":0},1647.5853276623438,null,null,null,null,20594.7333130798,9807,10787.7333130798,0,0,0,3020.5653276623443,3054,0]
[29,{"$f":"(Recup_BienImmobilier!C$27+Recup_BienImmobilier!D$27)*POWER((1+Recup_BienImmobilier!G$42),A93) - 0.1*(Recup_BienImmobilier!C$27+Recup_BienImmobilier!D$27)*POWER((1+Recup_BienImmobilier!G$42),A93)","v":41395.413959290388},{"$f":"B94/Recup_BienImmobilier!C$28","v":13798.471319763463},9807,3991.4713197634628,0,0,0,{"$f":"(E94*0.14+F94*0.3+G94*0.41+H94*0.45)*Recup_BienImmobilier!C$28","v":1676.4179543006546},{"$f":"IF(Recup_BienImmobilier!D$27=0,IF(I94<1569,1177-3/4*I94,0),IF(I94<2585,1939-3/4*I94,0))","v":0},1676.4179543006546,null,null,null,null,20697.706979645194,9807,10890.706979645194,0,0,0,3049.3979543006549,3054,0]
[30,{"$f":"(Recup_BienImmobilier!C$27+Recup_BienImmobilier!D$27)*POWER((1+Recup_BienImmobilier!G$42),A94) - 0.1*(Recup_BienImmobilier!C$27+Recup_BienImmobilier!D$27)*POWER((1+Recup_BienImmobilier!G$42),A94)","v":41602.391029086837},{"$f":"B95/Recup_BienImmobilier!C$28","v":13867.463676362278},9807,4060.4636763622784,0,0,0,{"$f":"(E95*0.14+F95*0.3+G95*0.41+H95*0.45)*Recup_BienImmobilier!C$28","v":1705.3947440721572},{"$f":"IF(Recup_BienImmobilier!D$27=0,IF(I95<1569,1177-3/4*I95,0),IF(I95<2585,1939-3/4*I95,0))","v":0},1705.3947440721572,null,null,null,null,20801.195514543419,9807,10994.195514543419,0,0,0,3078.3747440721577,3054,24.374744072157682]
[31,{"$f":"(Recup_BienImmobilier!C$27+Recup_BienImmobilier!D$27)*POWER((1+Recup_BienImmobilier!G$42),A95) - 0.1*(Recup_BienImmobilier!C$27+Recup_BienImmobilier!D$27)*POWER((1+Recup_BienImmobilier!G$42),A95)","v":41810.402984232256},{"$f":"B96/Recup_BienImmobilier!C$28","v":13936.800994744086},9807,4129.800994744086,0,0,0,{"$f":"(E96*0.14+F96*0.3+G96*0.41+H96*0.45)*Recup_BienImmobilier!C$28","v":1734.5164177925162},{"$f":"IF(Recup_BienImmobilier!D$27=0,IF(I96<1569,1177-3/4*I96,0),IF(I96<2585,1939-3/4*I96,0))","v":0},1734.5164177925162,null,null,null,null,20905.201492116128,9807,11098.201492116128,0,0,0,3107.4964177925162,3054,53.49641779251624]
[32,{"$f":"(Recup_BienImmobilier!C$27+Recup_BienImmobilier!D$27)*POWER((1+Recup_BienImmobilier!G$42),A96) - 0.1*(Recup_BienImmobilier!C$27+Recup_BienImmobilier!D$27)*POWER((1+Recup_BienImmobilier!G$42),A96)","v":42019.454999153408},{"$f":"B97/Recup_BienImmobilier!C$28","v":14006.484999717803},9807,4199.4849997178026,0,0,0,{"$f":"(E97*0.14+F97*0.3+G97*0.41+H97*0.45)*Recup_BienImmobilier!C$28","v":1763.7836998814771},{"$f":"IF(Recup_BienImmobilier!D$27=0,IF(I97<1569,1177-3/4*I97,0),IF(I97<2585,1939-3/4*I97,0))","v":0},1763.7836998814771,null,null,null,null,21009.727499576704,9807,11202.727499576704,0,0,0,3136.7636998814774,3054,82.763699881477351]
[33,{"$f":"(Recup_BienImmobilier!C$27+Recup_BienImmobilier!D$27)*POWER((1+Recup_BienImmobilier!G$42),A97) - 0.1*(Recup_BienImmobilier!C$27+Recup_BienImmobilier!D$27)*POWER((1+Recup_BienImmobilier!G$42),A97)","v":42229.552274149173},{"$f":"B98/Recup_BienImmobilier!C$28","v":14076.51742471639},{"$f":"IF($C98>$E$1,$E$1,$E$1-$C98)","v":9807},{"$f":"IF($C98<$E$1,0,IF($C98>$F$1,$F$1-$E$1,$C98-$E$1))","v":4269.5174247163905},{"$f":"IF($C98<$F$1,0,IF($C98>$G$1,$G$1-$F$1,$C98-$F$1))","v":0},{"$f":"IF($C98<$G$1,0,IF($C98>$H$1,$H$1-$G$1,$C98-$G$1))","v":0},{"$f":"MAX(0,C98-$H$1)","v":0},{"$f":"(E98*0.14+F98*0.3+G98*0.41+H98*0.45)*Recup_BienImmobilier!C$28","v":1793.1973183808841},{"$f":"IF(Recup_BienImmobilier!D$27=0,IF(I98<1569,1177-3/4*I98,0),IF(I98<2585,1939-3/4*I98,0))","v":0},{"$f":"IF(I98-J98<0,0,IF((I98-J98)>X98,I98-J98,X98))","v":1793.1973183808841},null,null,null,null,{"$f":"B98/2","v":21114.776137074587},{"$f":"IF($P98>$E$1,$E$1,$E$1-$P98)","v":9807},{"$f":"IF($P98<$E$1,0,IF($P98>$F$1,$F$1-$E$1,$P98-$E$1))","v":11307.776137074587},{"$f":"IF($P98<$F$1,0,IF($P98>$G$1,$G$1-$F$1,$P98-$F$1))","v":0},{"$f":"IF($P98<$G$1,0,IF($P98>$H$1,$H$1-$G$1,$P98-$G$1))","v":0},{"$f":"MAX(0,P98-$H$1)","v":0},{"$f":"(R98*0.14+S98*0.3+T98*0.41+U98*0.45)*2","v":3166.1773183808846},{"$f":"1527*2","v":3054},{"$f":"IF(V98-W98<0,0,V98-W98)","v":112.17731838088457}]
[34,{"$f":"(Recup_BienImmobilier!C$27+Recup_BienImmobilier!D$27)*POWER((1+Recup_BienImmobilier!G$42),A98) - 0.1*(Recup_BienImmobilier!C$27+Recup_BienImmobilier!D$27)*POWER((1+Recup_BienImmobilier!G$42),A98)","v":42440.700035519905},{"$f":"B99/Recup_BienImmobilier!C$28","v":14146.900011839969},9807,4339.900011839969,0,0,0,{"$f":"(E99*0.14+F99*0.3+G99*0.41+H99*0.45)*Recup_BienImmobilier!C$28","v":1822.7580049727871},{"$f":"IF(Recup_BienImmobilier!D$27=0,IF(I99<1569,1177-3/4*I99,0),IF(I99<2585,1939-3/4*I99,0))","v":0},1822.7580049727871,null,null,null,null,21220.350017759953,9807,11413.350017759953,0,0,0,3195.7380049727872,3054,141.73800497278717]
[35,{"$f":"(Recup_BienImmobilier!C$27+Recup_BienImmobilier!D$27)*POWER((1+Recup_BienImmobilier!G$42),A99) - 0.1*(Recup_BienImmobilier!C$27+Recup_BienImmobilier!D$27)*POWER((1+Recup_BienImmobilier!G$42),A99)","v":42652.903535697507},{"$f":"B100/Recup_BienImmobilier!C$28","v":14217.634511899169},9807,4410.6345118991685,0,0,0,{"$f":"(E100*0.14+F100*0.3+G100*0.41+H100*0.45)*Recup_BienImmobilier!C$28","v":1852.4664949976509},{"$f":"IF(Recup_BienImmobilier!D$27=0,IF(I100<1569,1177-3/4*I100,0),IF(I100<2585,1939-3/4*I100,0))","v":0},1852.4664949976509,null,null,null,null,21326.451767848754,9807,11519.451767848754,0,0,0,3225.4464949976514,3054,171.44649499765137]
[36,{"$f":"(Recup_BienImmobilier!C$27+Recup_BienImmobilier!D$27)*POWER((1+Recup_BienImmobilier!G$42),A100) - 0.1*(Recup_BienImmobilier!C$27+Recup_BienImmobilier!D$27)*POWER((1+Recup_BienImmobilier!G$42),A100)","v":42866.168053375986},{"$f":"B101/Recup_BienImmobilier!C$28","v":14288.722684458662},9807,4481.7226844586621,0,0,0,{"$f":"(E101*0.14+F101*0.3+G101*0.41+H101*0.45)*Recup_BienImmobilier!C$28","v":1882.3235274726385},{"$f":"IF(Recup_BienImmobilier!D$27=0,IF(I101<1569,1177-3/4*I101,0),IF(I101<2585,1939-3/4*I101,0))","v":0},1882.3235274726385,null,null,null,null,21433.084026687993,9807,11626.084026687993,0,0,0,3255.3035274726385,3054,201.30352747263851]
[37,{"$f":"(Recup_BienImmobilier!C$27+Recup_BienImmobilier!D$27)*POWER((1+Recup_BienImmobilier!G$42),A101) - 0.1*(Recup_BienImmobilier!C$27+Recup_BienImmobilier!D$27)*POWER((1+Recup_BienImmobilier!G$42),A101)","v":43080.498893642856},{"$f":"B102/Recup_BienImmobilier!C$28","v":14360.166297880953},9807,4553.1662978809527,0,0,0,{"$f":"(E102*0.14+F102*0.3+G102*0.41+H102*0.45)*Recup_BienImmobilier!C$28","v":1912.3298451100004},{"$f":"IF(Recup_BienImmobilier!D$27=0,IF(I102<1569,1177-3/4*I102,0),IF(I102<2585,1939-3/4*I102,0))","v":0},1912.3298451100004,null,null,null,null,21540.249446821428,9807,11733.249446821428,0,0,0,3285.30984511,3054,231.30984510999997]
[38,{"$f":"(Recup_BienImmobilier!C$27+Recup_BienImmobilier!D$27)*POWER((1+Recup_BienImmobilier!G$42),A102) - 0.1*(Recup_BienImmobilier!C$27+Recup_BienImmobilier!D$27)*POWER((1+Recup_BienImmobilier!G$42),A102)","v":43295.901388111066},{"$f":"B103/Recup_BienImmobilier!C$28","v":14431.967129370356},9807,4624.9671293703559,0,0,0,{"$f":"(E103*0.14+F103*0.3+G103*0.41+H103*0.45)*Recup_BienImmobilier!C$28","v":1942.4861943355497},{"$f":"IF(Recup_BienImmobilier!D$27=0,IF(I103<1569,1177-3/4*I103,0),IF(I103<2585,1939-3/4*I103,0))","v":0},1942.4861943355497,null,null,null,null,21647.950694055533,9807,11840.950694055533,0,0,0,3315.4661943355495,3054,261.46619433554952]
[39,{"$f":"(Recup_BienImmobilier!C$27+Recup_BienImmobilier!D$27)*POWER((1+Recup_BienImmobilier!G$42),A103) - 0.1*(Recup_BienImmobilier!C$27+Recup_BienImmobilier!D$27)*POWER((1+Recup_BienImmobilier!G$42),A103)","v":43512.380895051618},{"$f":"B104/Recup_BienImmobilier!C$28","v":14504.126965017205},9807,4697.1269650172053,0,0,0,{"$f":"(E104*0.14+F104*0.3+G104*0.41+H104*0.45)*Recup_BienImmobilier!C$28","v":1972.7933253072265},{"$f":"IF(Recup_BienImmobilier!D$27=0,IF(I104<1569,1177-3/4*I104,0),IF(I104<2585,1939-3/4*I104,0))","v":0},1972.7933253072265,null,null,null,null,21756.190447525809,9807,11949.190447525809,0,0,0,3345.773325307227,3054,291.77332530722697]
[40,{"$f":"(Recup_BienImmobilier!C$27+Recup_BienImmobilier!D$27)*POWER((1+Recup_BienImmobilier!G$42),A104) - 0.1*(Recup_BienImmobilier!C$27+Recup_BienImmobilier!D$27)*POWER((1+Recup_BienImmobilier!G$42),A104)","v":43729.942799526871},{"$f":"B105/Recup_BienImmobilier!C$28","v":14576.64759984229},9807,4769.6475998422902,0,0,0,{"$f":"(E105*0.14+F105*0.3+G105*0.41+H105*0.45)*Recup_BienImmobilier!C$28","v":2003.2519919337619},{"$f":"IF(Recup_BienImmobilier!D$27=0,IF(I105<1569,1177-3/4*I105,0),IF(I105<2585,1939-3/4*I105,0))","v":0},2003.2519919337619,null,null,null,null,21864.971399763435,9807,12057.971399763435,0,0,0,3376.2319919337624,3054,322.2319919337624]
[41,{"$f":"(Recup_BienImmobilier!C$27+Recup_BienImmobilier!D$27)*POWER((1+Recup_BienImmobilier!G$42),A105) - 0.1*(Recup_BienImmobilier!C$27+Recup_BienImmobilier!D$27)*POWER((1+Recup_BienImmobilier!G$42),A105)","v":43948.592513524498},{"$f":"B106/Recup_BienImmobilier!C$28","v":14649.530837841499},9807,4842.5308378414993,0,0,0,{"$f":"(E106*0.14+F106*0.3+G106*0.41+H106*0.45)*Recup_BienImmobilier!C$28","v":2033.8629518934299},{"$f":"IF(Recup_BienImmobilier!D$27=0,IF(I106<1569,1177-3/4*I106,0),IF(I106<2585,1939-3/4*I106,0))","v":0},2033.8629518934299,null,null,null,null,21974.296256762249,9807,12167.296256762249,0,0,0,3406.8429518934299,3054,352.84295189342993]
[42,{"$f":"(Recup_BienImmobilier!C$27+Recup_BienImmobilier!D$27)*POWER((1+Recup_BienImmobilier!G$42),A106) - 0.1*(Recup_BienImmobilier!C$27+Recup_BienImmobilier!D$27)*POWER((1+Recup_BienImmobilier!G$42),A106)","v":44168.335476092121},{"$f":"B107/Recup_BienImmobilier!C$28","v":14722.778492030708},9807,4915.7784920307076,0,0,0,{"$f":"(E107*0.14+F107*0.3+G107*0.41+H107*0.45)*Recup_BienImmobilier!C$28","v":2064.6269666528974},{"$f":"IF(Recup_BienImmobilier!D$27=0,IF(I107<1569,1177-3/4*I107,0),IF(I107<2585,1939-3/4*I107,0))","v":0},2064.6269666528974,null,null,null,null,22084.167738046061,9807,12277.167738046061,0,0,0,3437.6069666528974,3054,383.60696665289743]
[43,{"$f":"(Recup_BienImmobilier!C$27+Recup_BienImmobilier!D$27)*POWER((1+Recup_BienImmobilier!G$42),A107) - 0.1*(Recup_BienImmobilier!C$27+Recup_BienImmobilier!D$27)*POWER((1+Recup_BienImmobilier!G$42),A107)","v":44389.177153472563},{"$f":"B108/Recup_BienImmobilier!C$28","v":14796.392384490855},9807,4989.392384490855,0,0,0,{"$f":"(E108*0.14+F108*0.3+G108*0.41+H108*0.45)*Recup_BienImmobilier!C$28","v":2095.5448014861595},{"$f":"IF(Recup_BienImmobilier!D$27=0,IF(I108<1569,1177-3/4*I108,0),IF(I108<2585,1939-3/4*I108,0))","v":0},2095.5448014861595,null,null,null,null,22194.588576736282,9807,12387.588576736282,0,0,0,3468.524801486159,3054,414.52480148615905]
[44,{"$f":"(Recup_BienImmobilier!C$27+Recup_BienImmobilier!D$27)*POWER((1+Recup_BienImmobilier!G$42),A108) - 0.1*(Recup_BienImmobilier!C$27+Recup_BienImmobilier!D$27)*POWER((1+Recup_BienImmobilier!G$42),A108)","v":44611.12303923993},{"$f":"B109/Recup_BienImmobilier!C$28","v":14870.374346413309},9807,5063.3743464133095,0,0,0,{"$f":"(E109*0.14+F109*0.3+G109*0.41+H109*0.45)*Recup_BienImmobilier!C$28","v":2126.61722549359},{"$f":"IF(Recup_BienImmobilier!D$27=0,IF(I109<1569,1177-3/4*I109,0),IF(I109<2585,1939-3/4*I109,0))","v":0},2126.61722549359,null,null,null,null,22305.561519619965,9807,12498.561519619965,0,0,0,3499.5972254935905,3054,445.59722549359049]
[45,{"$f":"(Recup_BienImmobilier!C$27+Recup_BienImmobilier!D$27)*POWER((1+Recup_BienImmobilier!G$42),A109) - 0.1*(Recup_BienImmobilier!C$27+Recup_BienImmobilier!D$27)*POWER((1+Recup_BienImmobilier!G$42),A109)","v":44834.178654436109},{"$f":"B110/Recup_BienImmobilier!C$28","v":14944.72621814537},9807,5137.7262181453698,0,0,0,{"$f":"(E110*0.14+F110*0.3+G110*0.41+H110*0.45)*Recup_BienImmobilier!C$28","v":2157.8450116210552},{"$f":"IF(Recup_BienImmobilier!D$27=0,IF(I110<1569,1177-3/4*I110,0),IF(I110<2585,1939-3/4*I110,0))","v":0},2157.8450116210552,null,null,null,null,22417.089327218055,9807,12610.089327218055,0,0,0,3530.8250116210556,3054,476.82501162105564]
[46,{"$f":"(Recup_BienImmobilier!C$27+Recup_BienImmobilier!D$27)*POWER((1+Recup_BienImmobilier!G$42),A110) - 0.1*(Recup_BienImmobilier!C$27+Recup_BienImmobilier!D$27)*POWER((1+Recup_BienImmobilier!G$42),A110)","v":45058.349547708283},{"$f":"B111/Recup_BienImmobilier!C$28","v":15019.449849236094},9807,5212.4498492360945,0,0,0,{"$f":"(E111*0.14+F111*0.3+G111*0.41+H111*0.45)*Recup_BienImmobilier!C$28","v":2189.2289366791601},{"$f":"IF(Recup_BienImmobilier!D$27=0,IF(I111<1569,1177-3/4*I111,0),IF(I111<2585,1939-3/4*I111,0))","v":0},2189.2289366791601,null,null,null,null,22529.174773854142,9807,12722.174773854142,0,0,0,3562.2089366791602,3054,508.20893667916016]
[47,{"$f":"(Recup_BienImmobilier!C$27+Recup_BienImmobilier!D$27)*POWER((1+Recup_BienImmobilier!G$42),A111) - 0.1*(Recup_BienImmobilier!C$27+Recup_BienImmobilier!D$27)*POWER((1+Recup_BienImmobilier!G$42),A111)","v":45283.641295446825},{"$f":"B112/Recup_BienImmobilier!C$28","v":15094.547098482275},9807,5287.547098482275,0,0,0,{"$f":"(E112*0.14+F112*0.3+G112*0.41+H112*0.45)*Recup_BienImmobilier!C$28","v":2220.7697813625555},{"$f":"IF(Recup_BienImmobilier!D$27=0,IF(I112<1569,1177-3/4*I112,0),IF(I112<2585,1939-3/4*I112,0))","v":0},2220.7697813625555,null,null,null,null,22641.820647723413,9807,12834.820647723413,0,0,0,3593.749781362556,3054,539.74978136255595]
[48,{"$f":"(Recup_BienImmobilier!C$27+Recup_BienImmobilier!D$27)*POWER((1+Recup_BienImmobilier!G$42),A112) - 0.1*(Recup_BienImmobilier!C$27+Recup_BienImmobilier!D$27)*POWER((1+Recup_BienImmobilier!G$42),A112)","v":45510.059501924043},{"$f":"B113/Recup_BienImmobilier!C$28","v":15170.01983397468},9807,5363.0198339746803,0,0,0,{"$f":"(E113*0.14+F113*0.3+G113*0.41+H113*0.45)*Recup_BienImmobilier!C$28","v":2252.4683302693661},{"$f":"IF(Recup_BienImmobilier!D$27=0,IF(I113<1569,1177-3/4*I113,0),IF(I113<2585,1939-3/4*I113,0))","v":0},2252.4683302693661,null,null,null,null,22755.029750962021,9807,12948.029750962021,0,0,0,3625.4483302693661,3054,571.44833026936612]
[49,{"$f":"(Recup_BienImmobilier!C$27+Recup_BienImmobilier!D$27)*POWER((1+Recup_BienImmobilier!G$42),A113) - 0.1*(Recup_BienImmobilier!C$27+Recup_BienImmobilier!D$27)*POWER((1+Recup_BienImmobilier!G$42),A113)","v":45737.60979943366},{"$f":"B114/Recup_BienImmobilier!C$28","v":15245.869933144553},9807,5438.8699331445532,0,0,0,{"$f":"(E114*0.14+F114*0.3+G114*0.41+H114*0.45)*Recup_BienImmobilier!C$28","v":2284.3253719207123},{"$f":"IF(Recup_BienImmobilier!D$27=0,IF(I114<1569,1177-3/4*I114,0),IF(I114<2585,1939-3/4*I114,0))","v":0},2284.3253719207123,null,null,null,null,22868.80489971683,9807,13061.80489971683,0,0,0,3657.3053719207128,3054,603.30537192071279]
[50,{"$f":"(Recup_BienImmobilier!C$27+Recup_BienImmobilier!D$27)*POWER((1+Recup_BienImmobilier!G$42),A114) - 0.1*(Recup_BienImmobilier!C$27+Recup_BienImmobilier!D$27)*POWER((1+Recup_BienImmobilier!G$42),A114)","v":45966.297848430826},{"$f":"B115/Recup_BienImmobilier!C$28","v":15322.099282810275},9807,5515.0992828102753,0,0,0,{"$f":"(E115*0.14+F115*0.3+G115*0.41+H115*0.45)*Recup_BienImmobilier!C$28","v":2316.3416987803157},{"$f":"IF(Recup_BienImmobilier!D$27=0,IF(I115<1569,1177-3/4*I115,0),IF(I115<2585,1939-3/4*I115,0))","v":0},2316.3416987803157,null,null,null,null,22983.148924215413,9807,13176.148924215413,0,0,0,3689.3216987803162,3054,635.32169878031618]

{"sheet":"Niveau_AppetenceRisque","index":29,"n_rows":17,"n_cols":9,"rows_kept":17,"cut":false,"hidden":true,"merged":[]}
["Actif  à capital garanti",100,null,null,"Actif  à capital garanti",50]
["Actions",0,null,null,"Actions",50]
[]
[]
[]
[]
[]
[]
[]
[null,null,null,null,null,null,null,"Actif  à capital garanti",0]
[null,null,null,null,null,null,null,"Actions",100]
[]
[]
[]
[]
["Actif  à capital garanti",75,null,null,"Actif  à capital garanti",25]
["Actions",25,null,null,"Actions",75]

{"sheet":"Plus-value immobilière","index":30,"n_rows":29,"n_cols":6,"rows_kept":29,"cut":false,"hidden":true,"merged":[[10,4,11,4],[3,4,7,4],[26,0,26,4],[0,5,29,30],[0,0,1,4]]}
["Simulateur plus-value immobilière ",null,null,null,null,"https://www.corrigetonimpot.fr/"]
[]
[]
[]
[]
[]
[]
[]
[]
["Valeur acquisition",null,{"$f":"Profil_Investisseur!B109","v":170000}]
["Frais travaux",null,{"$f":"Profil_Investisseur!B114","v":6000}]
["Frais acquisition",null,{"$f":"Profil_Investisseur!A114","v":15175}]
[]
["Valeur de cession",null,{"$f":"Profil_Investisseur!G111","v":180000}]
[]
["Plus-value ",null,{"$f":"IF((C14-C10-C11-C12)>0, C14-C12-C11-C10, 0)","v":0}]
[]
["Année de détention",null,{"$f":"Profil_Investisseur!E114","v":20}]
["Abattement Impôt sur le revenu",null,{"$f":"VLOOKUP(C18, ImmobilierFeuille2!A3:B33, 2)","v":0.90000000000000036}]
["Abattement Prélèvements sociaux",null,{"$f":"VLOOKUP(C18, ImmobilierFeuille2!K3:L33, 2)","v":0.24750000000000011}]
[]
["Plus-value imposable IR",null,{"$f":" IF(D6=\"Oui\", (C16*(1-C19))*0.75, C16*(1-C19))","v":0}]
["Plus-value imposable PS",null,{"$f":"IF(D6=\"Oui\", (C16*(1-C20))*0.75, C16*(1-C20))","v":0}]
[]
["Fiscalité sur le revenu",null,{"$f":"C22*0.19","v":0}]
["Prélèvements sociaux",null,{"$f":"C23*0.172","v":0}]
[]
[]
[null,"Impôt total",{"$f":"SUM(C25:C26)","v":0}]

{"sheet":"ImmobilierFeuille1","index":31,"n_rows":36,"n_cols":23,"rows_kept":36,"cut":false,"hidden":true,"merged":[[0,0,0,9],[2,1,2,5],[18,1,18,5],[26,0,26,9]]}
["CELIBATAIRE DIVORCE VEUF"]
[null,null,null,null,null,null,null,"Année",1,2,3,4,5,6,7,8,9,10,11,12,13,14,15]
[null,"TMI 2017",null,null,null,null,null,"Revenu net imposable",{"$f":"#REF!","v":{"$error":"#REF!"}},{"$f":"#REF!","v":{"$error":"#REF!"}},{"$f":"#REF!","v":{"$error":"#REF!"}},{"$f":"#REF!","v":{"$error":"#REF!"}},{"$f":"#REF!","v":{"$error":"#REF!"}},{"$f":"#REF!","v":{"$error":"#REF!"}},{"$f":"#REF!","v":{"$error":"#REF!"}},{"$f":"#REF!","v":{"$error":"#REF!"}},{"$f":"#REF!","v":{"$error":"#REF!"}},{"$f":"#REF!","v":{"$error":"#REF!"}},{"$f":"#REF!","v":{"$error":"#REF!"}},{"$f":"#REF!","v":{"$error":"#REF!"}},{"$f":"#REF!","v":{"$error":"#REF!"}},{"$f":"#REF!","v":{"$error":"#REF!"}},{"$f":"#REF!","v":{"$error":"#REF!"}}]
[null,null,null,null,null,null,null,"nombre de part",null,{"$f":"#REF!","v":{"$error":"#REF!"}}]
[null,0,9964,{"$f":"0","v":0},{"$f":"0","v":0}]
[null,9964,27519,{"$f":"0.14","v":0.14000000000000001},{"$f":"(C6-B6)*D6","v":2457.7000000000003}]
[null,27519,73779,{"$f":"0.3","v":0.3},{"$f":"(C7-B7)*0.3","v":13878},{"$f":"E7+E6","v":16335.7}]
[null,73779,156244,0.41,{"$f":"(C8-B8)*D8","v":33810.65},{"$f":"SUM(E6:E8)","v":50146.350000000006}]
[null,null,null,{"$f":"0.45","v":0.45}]
[null,null,null,null,null,null,null,"Ir une part",{"$f":"IF(I3>=$C$8, (I3-$C$8)*$D$9+$E$8+$E$7+$E$6, IF(I3>=$C$7, (I3-$C$7)*$D$8+$E$7+$E$6, IF(I3>=$C$6, (I3-$C$6)*$D$7+$E$6, IF(I3>=$C$5, (I3-$C$5)*$D$6, 0))))","v":{"$error":"#REF!"}},{"$error":"#REF!"},{"$error":"#REF!"},{"$error":"#REF!"},{"$error":"#REF!"},{"$error":"#REF!"},{"$error":"#REF!"},{"$error":"#REF!"},{"$error":"#REF!"},{"$error":"#REF!"},{"$error":"#REF!"},{"$error":"#REF!"},{"$error":"#REF!"},{"$error":"#REF!"},{"$error":"#REF!"}]
[null,"Plafonnement quotient familial",null,null,null,null,null,"Ir selon parts",{"$f":"IF(I3>=$C$24, (I3-$C$24)*$D$25+$E$24+$E$23+$E$22, IF(I3>=$C$23, (I3-$C$23)*$D$24+$E$23+$E$22, IF(I3>=$C$22, (I3-$C$22)*$D$23+$E$22, IF(I3>=$C$21, (I3-$C$21)*$D$22, 0))))","v":{"$error":"#REF!"}},{"$error":"#REF!"},{"$error":"#REF!"},{"$error":"#REF!"},{"$error":"#REF!"},{"$error":"#REF!"},{"$error":"#REF!"},{"$error":"#REF!"},{"$error":"#REF!"},{"$error":"#REF!"},{"$error":"#REF!"},{"$error":"#REF!"},{"$error":"#REF!"},{"$error":"#REF!"},{"$error":"#REF!"}]
[null,null,null,null,null,null,null,"demi-parts au dessus de un",{"$f":"($J$4-1)*2","v":{"$error":"#REF!"}},{"$error":"#REF!"},{"$error":"#REF!"},{"$error":"#REF!"},{"$error":"#REF!"},{"$error":"#REF!"},{"$error":"#REF!"},{"$error":"#REF!"},{"$error":"#REF!"},{"$error":"#REF!"},{"$error":"#REF!"},{"$error":"#REF!"},{"$error":"#REF!"},{"$error":"#REF!"},{"$error":"#REF!"}]
[1551,"demi-part générale",null,null,null,null,null,"IR plafonné",{"$f":"I10-$A$13*I12","v":{"$error":"#REF!"}},{"$error":"#REF!"},{"$error":"#REF!"},{"$error":"#REF!"},{"$error":"#REF!"},{"$error":"#REF!"},{"$error":"#REF!"},{"$error":"#REF!"},{"$error":"#REF!"},{"$error":"#REF!"},{"$error":"#REF!"},{"$error":"#REF!"},{"$error":"#REF!"},{"$error":"#REF!"},{"$error":"#REF!"}]
[927,"Personnes seules élevé pendant cinq ans"]
[{"$f":"3660-1551","v":2109},"part entière premier enfant charge si on élève seul"]
[3098,"invalidité, combattant",null,null,null,null,null,"Impôt retenu",{"$f":"IF(I11>I13, I11, I13)","v":{"$error":"#REF!"}},{"$error":"#REF!"},{"$error":"#REF!"},{"$error":"#REF!"},{"$error":"#REF!"},{"$error":"#REF!"},{"$error":"#REF!"},{"$error":"#REF!"},{"$error":"#REF!"},{"$error":"#REF!"},{"$error":"#REF!"},{"$error":"#REF!"},{"$error":"#REF!"},{"$error":"#REF!"},{"$error":"#REF!"}]
[4702,"maintien quotient conjugal veuf",null,null,null,null,null,"Décôte",{"$f":"IF(I16<=1594, (1594*0.75-I16*0.75), 0)","v":{"$error":"#REF!"}},{"$error":"#REF!"},{"$error":"#REF!"},{"$error":"#REF!"},{"$error":"#REF!"},{"$error":"#REF!"},{"$error":"#REF!"},{"$error":"#REF!"},{"$error":"#REF!"},{"$error":"#REF!"},{"$error":"#REF!"},{"$error":"#REF!"},{"$error":"#REF!"},{"$error":"#REF!"},{"$error":"#REF!"}]
[null,null,null,null,null,null,null,"Impôt final",{"$f":"IF(I17>I16, 0, I16-I17)","v":{"$error":"#REF!"}},{"$error":"#REF!"},{"$error":"#REF!"},{"$error":"#REF!"},{"$error":"#REF!"},{"$error":"#REF!"},{"$error":"#REF!"},{"$error":"#REF!"},{"$error":"#REF!"},{"$error":"#REF!"},{"$error":"#REF!"},{"$error":"#REF!"},{"$error":"#REF!"},{"$error":"#REF!"},{"$error":"#REF!"}]
[null,"TMI 2016 avec parts"]
[]
[null,0,{"$f":"C5*$J$4","v":{"$error":"#REF!"}},{"$f":"0","v":0},{"$f":"0","v":0}]
[null,{"$f":"B6*$J$4","v":{"$error":"#REF!"}},{"$f":"C6*$J$4","v":{"$error":"#REF!"}},{"$f":"0.14","v":0.14000000000000001},{"$f":"(C22-B22)*D22","v":{"$error":"#REF!"}}]
[null,{"$f":"B7*$J$4","v":{"$error":"#REF!"}},{"$f":"C7*$J$4","v":{"$error":"#REF!"}},{"$f":"0.3","v":0.3},{"$f":"(C23-B23)*0.3","v":{"$error":"#REF!"}},{"$f":"E23+E22","v":{"$error":"#REF!"}}]
[null,{"$f":"B8*$J$4","v":{"$error":"#REF!"}},{"$f":"C8*$J$4","v":{"$error":"#REF!"}},0.41,{"$f":"(C24-B24)*D24","v":{"$error":"#REF!"}},{"$f":"SUM(E22:E24)","v":{"$error":"#REF!"}}]
[null,null,null,{"$f":"0.45","v":0.45}]
[]
["COUPLE PACS"]
[]
[null,{"$f":"0","v":0},{"$f":"C5*2","v":19928},0,0,null,null,"Ir deux parts",{"$f":"IF(I3>=$C$32, (I3-$C$32)*$D$33+$E$32+$E$31+$E$30, IF(I3>=$C$31, (I3-$C$31)*$D$32+$E$31+$E$30, IF(I3>=$C$30, (I3-$C$30)*$D$31+$E$30, IF(I3>=$C$29, (I3-$C$29)*$D$30, 0))))","v":{"$error":"#REF!"}},{"$error":"#REF!"},{"$error":"#REF!"},{"$error":"#REF!"},{"$error":"#REF!"},{"$error":"#REF!"},{"$error":"#REF!"},{"$error":"#REF!"},{"$error":"#REF!"},{"$error":"#REF!"},{"$error":"#REF!"},{"$error":"#REF!"},{"$error":"#REF!"},{"$error":"#REF!"},{"$error":"#REF!"}]
[null,{"$f":"C29","v":19928},{"$f":"C6*2","v":55038},0.14000000000000001,{"$f":"(C30-B30)*D30","v":4915.4000000000005},null,null,"Ir selon parts",{"$f":"IF(I3>=$C$24, (I3-$C$24)*$D$25+$E$24+$E$23+$E$22, IF(I3>=$C$23, (I3-$C$23)*$D$24+$E$23+$E$22, IF(I3>=$C$22, (I3-$C$22)*$D$23+$E$22, IF(I3>=$C$21, (I3-$C$21)*$D$22, 0))))","v":{"$error":"#REF!"}},{"$error":"#REF!"},{"$error":"#REF!"},{"$error":"#REF!"},{"$error":"#REF!"},{"$error":"#REF!"},{"$error":"#REF!"},{"$error":"#REF!"},{"$error":"#REF!"},{"$error":"#REF!"},{"$error":"#REF!"},{"$error":"#REF!"},{"$error":"#REF!"},{"$error":"#REF!"},{"$error":"#REF!"}]
[null,{"$f":"C30","v":55038},{"$f":"C7*2","v":147558},0.3,{"$f":"(C31-B31)*D31","v":27756},{"$f":"E31+E30","v":32671.4},null,"demi-parts au dessus de deux",{"$f":"($J$4-2)*2","v":{"$error":"#REF!"}},{"$error":"#REF!"},{"$error":"#REF!"},{"$error":"#REF!"},{"$error":"#REF!"},{"$error":"#REF!"},{"$error":"#REF!"},{"$error":"#REF!"},{"$error":"#REF!"},{"$error":"#REF!"},{"$error":"#REF!"},{"$error":"#REF!"},{"$error":"#REF!"},{"$error":"#REF!"},{"$error":"#REF!"}]
[null,{"$f":"C31","v":147558},{"$f":"C8*2","v":312488},0.41,{"$f":"(C32-B32)*D32","v":67621.3},{"$f":"E32+E31+E30","v":100292.7},null,"IR plafonné",{"$f":"I29-$A$13*I31","v":{"$error":"#REF!"}},{"$error":"#REF!"},{"$error":"#REF!"},{"$error":"#REF!"},{"$error":"#REF!"},{"$error":"#REF!"},{"$error":"#REF!"},{"$error":"#REF!"},{"$error":"#REF!"},{"$error":"#REF!"},{"$error":"#REF!"},{"$error":"#REF!"},{"$error":"#REF!"},{"$error":"#REF!"},{"$error":"#REF!"}]
[null,null,null,0.45]
[null,null,null,null,null,null,null,"Impôt retenu",{"$f":"IF(I30>I32, I30, I32)","v":{"$error":"#REF!"}},{"$error":"#REF!"},{"$error":"#REF!"},{"$error":"#REF!"},{"$error":"#REF!"},{"$error":"#REF!"},{"$error":"#REF!"},{"$error":"#REF!"},{"$error":"#REF!"},{"$error":"#REF!"},{"$error":"#REF!"},{"$error":"#REF!"},{"$error":"#REF!"},{"$error":"#REF!"},{"$error":"#REF!"}]
[null,null,null,null,null,null,null,"Décôte",{"$f":"IF(I34<=2626, 2626*0.75-I34*0.75, 0)","v":{"$error":"#REF!"}},{"$error":"#REF!"},{"$error":"#REF!"},{"$error":"#REF!"},{"$error":"#REF!"},{"$error":"#REF!"},{"$error":"#REF!"},{"$error":"#REF!"},{"$error":"#REF!"},{"$error":"#REF!"},{"$error":"#REF!"},{"$error":"#REF!"},{"$error":"#REF!"},{"$error":"#REF!"},{"$error":"#REF!"}]
[null,null,null,null,null,null,null,"Impôt final",{"$f":"IF(I35>I34, 0, I34-I35)","v":{"$error":"#REF!"}},{"$error":"#REF!"},{"$error":"#REF!"},{"$error":"#REF!"},{"$error":"#REF!"},{"$error":"#REF!"},{"$error":"#REF!"},{"$error":"#REF!"},{"$error":"#REF!"},{"$error":"#REF!"},{"$error":"#REF!"},{"$error":"#REF!"},{"$error":"#REF!"},{"$error":"#REF!"},{"$error":"#REF!"}]

{"sheet":"ImmobilierFeuille2","index":32,"n_rows":47,"n_cols":23,"rows_kept":47,"cut":false,"hidden":true,"merged":[]}
[null,"Durée de détention IR",null,null,"surtaxe",null,null,null,"Plus-value imposable = PV","Montant de la taxe",null,"Durée de détention PS"]
["Année","taux",null,null,null,null,null,null,null,null,"Année","taux",null,null,"Durée","CRD",null,null,null,"r/ch","revente"]
[0,0,null,null,null,null,null,null,"_______________________","______________________",0,0,null,null,{"$f":"0","v":0},{"$f":"#REF!","v":{"$error":"#REF!"}},null,0,{"$f":"T3+U3","v":{"$error":"#REF!"}},{"$f":"#REF!-Profil_Investisseur!B117","v":{"$error":"#REF!"}},{"$f":"IF(#REF!=R3,#REF! -#REF!-#REF!, 0)","v":{"$error":"#REF!"}},{"$f":"R3","v":0},{"$f":"IRR($S$3:S3,0.1)","v":{"$error":"#VALUE!"}}]
[1,0,null,null,{"$f":"0.02*'Plus-value immobilière'!C22-0.05*(60000-'Plus-value immobilière'!C22)","v":-3000},null,null,null,"De 50.001 à 60.000 €","2% PV – 5% (60.000 – PV)",1,0,null,null,{"$f":"O3+1","v":1},{"$f":"#REF!","v":{"$error":"#REF!"}},null,{"$f":"R3+1","v":1},{"$error":"#REF!"},{"$f":"#REF!","v":{"$error":"#REF!"}},{"$f":"IF(#REF!=R4,#REF! -#REF!-#REF!, 0)","v":{"$error":"#REF!"}},1,{"$f":"IRR($S$3:S4,0.1)","v":{"$error":"#VALUE!"}}]
[2,0,null,null,{"$f":"0.02*'Plus-value immobilière'!C22","v":0},null,null,null,"De 60.001 à 100.000 €"," 2% PV",2,0,null,null,2,{"$f":"#REF!","v":{"$error":"#REF!"}},null,2,{"$error":"#REF!"},{"$f":"#REF!","v":{"$error":"#REF!"}},{"$f":"IF(#REF!=R5,#REF! -#REF!-#REF!, 0)","v":{"$error":"#REF!"}},2,{"$f":"IRR($S$3:S5,0.1)","v":{"$error":"#VALUE!"}}]
[3,0,null,null,{"$f":"0.03*'Plus-value immobilière'!C22-0.1*(110000-'Plus-value immobilière'!C22)","v":-11000},null,null,null,"De 100.001 à 110.000 €"," 3% PV – 10% (110.000 – PV) ",3,0,null,null,3,{"$f":"#REF!","v":{"$error":"#REF!"}},null,3,{"$error":"#REF!"},{"$f":"#REF!","v":{"$error":"#REF!"}},{"$f":"IF(#REF!=R6,#REF! -#REF!-#REF!, 0)","v":{"$error":"#REF!"}},3,{"$f":"IRR($S$3:S6,0.1)","v":{"$error":"#VALUE!"}}]
[4,0,null,null,{"$f":"0.03*'Plus-value immobilière'!C22","v":0},null,null,null,"De 110.001 à 150.000 €"," 3% PV",4,0,null,null,4,{"$f":"#REF!","v":{"$error":"#REF!"}},null,4,{"$error":"#REF!"},{"$f":"#REF!","v":{"$error":"#REF!"}},{"$f":"IF(#REF!=R7,#REF! -#REF!-#REF!, 0)","v":{"$error":"#REF!"}},4,{"$f":"IRR($S$3:S7,0.1)","v":{"$error":"#VALUE!"}}]
[5,0,null,null,{"$f":"0.04*'Plus-value immobilière'!C22-0.15*(160000-'Plus-value immobilière'!C22)","v":-24000},null,null,null,"De 150.001 à 160.000 €"," 4% PV – 15% (160.000 – PV) ",5,0,null,null,5,{"$f":"#REF!","v":{"$error":"#REF!"}},null,5,{"$error":"#REF!"},{"$f":"#REF!","v":{"$error":"#REF!"}},{"$f":"IF(#REF!=R8,#REF! -#REF!-#REF!, 0)","v":{"$error":"#REF!"}},5,{"$f":"IRR($S$3:S8,0.1)","v":{"$error":"#VALUE!"}}]
[6,0.06,null,null,{"$f":"0.04*'Plus-value immobilière'!C22","v":0},null,null,null,"De 160.001 à 200.000 €"," 4% PV",6,1.6500000000000001E-2,null,null,6,{"$f":"#REF!","v":{"$error":"#REF!"}},null,6,{"$error":"#REF!"},{"$f":"#REF!","v":{"$error":"#REF!"}},{"$f":"IF(#REF!=R9,#REF! -#REF!-#REF!, 0)","v":{"$error":"#REF!"}},6,{"$f":"IRR($S$3:S9,0.1)","v":{"$error":"#VALUE!"}}]
[7,{"$f":"B9+0.06","v":0.12},null,null,{"$f":"0.05*'Plus-value immobilière'!C22-0.2*(210000-'Plus-value immobilière'!C22)","v":-42000},null,null,null,"De 200.001 à 210.000 €"," 5% PV – 20% (210.000 – PV)",7,{"$f":"L9+0.0165","v":3.3000000000000002E-2},null,null,7,{"$f":"#REF!","v":{"$error":"#REF!"}},null,7,{"$error":"#REF!"},{"$f":"#REF!","v":{"$error":"#REF!"}},{"$f":"IF(#REF!=R10,#REF! -#REF!-#REF!, 0)","v":{"$error":"#REF!"}},7,{"$f":"IRR($S$3:S10,0.1)","v":{"$error":"#VALUE!"}}]
[8,0.18,null,null,{"$f":"0.05*'Plus-value immobilière'!C22","v":0},null,null,null,"De 210.001 à 250.000 €","5% PV",8,4.9500000000000002E-2,null,null,8,{"$f":"#REF!","v":{"$error":"#REF!"}},null,8,{"$error":"#REF!"},{"$f":"#REF!","v":{"$error":"#REF!"}},{"$f":"IF(#REF!=R11,#REF! -#REF!-#REF!, 0)","v":{"$error":"#REF!"}},8,{"$f":"IRR($S$3:S11,0.1)","v":{"$error":"#VALUE!"}}]
[9,0.24,null,null,{"$f":"0.06*'Plus-value immobilière'!C22-0.2*(260000-'Plus-value immobilière'!C22)","v":-52000},null,null,null,"De 250.001 à 260.000 €","6% PV – 25% (260.000 – PV)",9,6.6000000000000003E-2,null,null,9,{"$f":"#REF!","v":{"$error":"#REF!"}},null,9,{"$error":"#REF!"},{"$f":"#REF!","v":{"$error":"#REF!"}},{"$f":"IF(#REF!=R12,#REF! -#REF!-#REF!, 0)","v":{"$error":"#REF!"}},9,{"$f":"IRR($S$3:S12,0.1)","v":{"$error":"#VALUE!"}}]
[10,0.3,null,null,{"$f":"0.06*'Plus-value immobilière'!C22","v":0},null,null,null,"Supérieur à 260.000 €"," 6% PV",10,8.2500000000000004E-2,null,null,10,{"$f":"#REF!","v":{"$error":"#REF!"}},null,10,{"$error":"#REF!"},{"$f":"#REF!","v":{"$error":"#REF!"}},{"$f":"IF(#REF!=R13,#REF! -#REF!-#REF!, 0)","v":{"$error":"#REF!"}},10,{"$f":"IRR($S$3:S13,0.1)","v":{"$error":"#VALUE!"}}]
[11,0.36,null,null,null,null,null,null,null,null,11,9.9000000000000005E-2,null,null,11,{"$f":"#REF!","v":{"$error":"#REF!"}},null,11,{"$error":"#REF!"},{"$f":"#REF!","v":{"$error":"#REF!"}},{"$f":"IF(#REF!=R14,#REF! -#REF!-#REF!, 0)","v":{"$error":"#REF!"}},11,{"$f":"IRR($S$3:S14,0.1)","v":{"$error":"#VALUE!"}}]
[12,0.42,null,null,null,null,null,null,null,null,12,0.11550000000000001,null,null,12,{"$f":"#REF!","v":{"$error":"#REF!"}},null,12,{"$error":"#REF!"},{"$f":"#REF!","v":{"$error":"#REF!"}},{"$f":"IF(#REF!=R15,#REF! -#REF!-#REF!, 0)","v":{"$error":"#REF!"}},12,{"$f":"IRR($S$3:S15,0.1)","v":{"$error":"#VALUE!"}}]
[13,0.48,null,null,null,null,null,null,null,null,13,0.13200000000000001,null,null,13,{"$f":"#REF!","v":{"$error":"#REF!"}},null,13,{"$error":"#REF!"},{"$f":"#REF!","v":{"$error":"#REF!"}},{"$f":"IF(#REF!=R16,#REF! -#REF!-#REF!, 0)","v":{"$error":"#REF!"}},13,{"$f":"IRR($S$3:S16,0.1)","v":{"$error":"#VALUE!"}}]
[14,0.54,null,null,null,null,null,null,null,null,14,0.14850000000000002,null,null,14,{"$f":"#REF!","v":{"$error":"#REF!"}},null,14,{"$error":"#REF!"},{"$f":"#REF!","v":{"$error":"#REF!"}},{"$f":"IF(#REF!=R17,#REF! -#REF!-#REF!, 0)","v":{"$error":"#REF!"}},14,{"$f":"IRR($S$3:S17,0.1)","v":{"$error":"#VALUE!"}}]
[15,0.60000000000000009,null,null,null,null,null,null,null,null,15,0.16500000000000004,null,null,15,{"$f":"#REF!","v":{"$error":"#REF!"}},null,15,{"$error":"#REF!"},{"$f":"#REF!","v":{"$error":"#REF!"}},{"$f":"IF(#REF!=R18,#REF! -#REF!-#REF!, 0)","v":{"$error":"#REF!"}},15,{"$f":"IRR($S$3:S18,0.1)","v":{"$error":"#VALUE!"}}]
[16,0.66000000000000014,null,null,null,null,null,null,null,null,16,0.18150000000000005,null,null,16,{"$f":"#REF!","v":{"$error":"#REF!"}},null,16,{"$error":"#REF!"},null,{"$f":"IF(#REF!=R19,#REF! -#REF!-#REF!, 0)","v":{"$error":"#REF!"}},16,{"$f":"\"Le simulateur ne prend pas en charge le TRI au-delà de 15 ans. Contactez nous si vous souhaitez un simulateur personnalisé.\"","v":"Le simulateur ne prend pas en charge le TRI au-delà de 15 ans. Contactez nous si vous souhaitez un simulateur personnalisé."}]
[17,0.7200000000000002,null,null,null,null,null,null,null,null,17,0.19800000000000006,null,null,17,{"$f":"#REF!","v":{"$error":"#REF!"}},null,17,{"$error":"#REF!"},null,{"$f":"IF(#REF!=R20,#REF! -#REF!-#REF!, 0)","v":{"$error":"#REF!"}},17,"Le simulateur ne prend pas en charge le TRI au-delà de 15 ans. Contactez nous si vous souhaitez un simulateur personnalisé."]
[18,0.78000000000000025,null,null,null,null,null,null,null,null,18,0.21450000000000008,null,null,18,{"$f":"#REF!","v":{"$error":"#REF!"}},null,18,{"$error":"#REF!"},null,{"$f":"IF(#REF!=R21,#REF! -#REF!-#REF!, 0)","v":{"$error":"#REF!"}},18,"Le simulateur ne prend pas en charge le TRI au-delà de 15 ans. Contactez nous si vous souhaitez un simulateur personnalisé."]
[19,0.8400000000000003,null,null,null,null,null,null,null,null,19,0.23100000000000009,null,null,19,{"$f":"#REF!","v":{"$error":"#REF!"}},null,19,{"$error":"#REF!"},null,{"$f":"IF(#REF!=R22,#REF! -#REF!-#REF!, 0)","v":{"$error":"#REF!"}},19,"Le simulateur ne prend pas en charge le TRI au-delà de 15 ans. Contactez nous si vous souhaitez un simulateur personnalisé."]
[20,0.90000000000000036,null,null,null,null,null,null,null,null,20,0.24750000000000011,null,null,20,{"$f":"#REF!","v":{"$error":"#REF!"}},null,20,{"$error":"#REF!"},null,{"$f":"IF(#REF!=R23,#REF! -#REF!-#REF!, 0)","v":{"$error":"#REF!"}},20,"Le simulateur ne prend pas en charge le TRI au-delà de 15 ans. Contactez nous si vous souhaitez un simulateur personnalisé."]
[21,0.96000000000000041,null,null,null,null,null,null,null,null,21,0.26400000000000012,null,null,21,{"$f":"#REF!","v":{"$error":"#REF!"}},null,21,{"$error":"#REF!"},null,{"$f":"IF(#REF!=R24,#REF! -#REF!-#REF!, 0)","v":{"$error":"#REF!"}},21,"Le simulateur ne prend pas en charge le TRI au-delà de 15 ans. Contactez nous si vous souhaitez un simulateur personnalisé."]
[22,{"$f":"B24+0.04","v":1.0000000000000004},null,null,null,null,null,null,null,null,22,{"$f":"L24+0.016","v":0.28000000000000014},null,null,22,{"$f":"#REF!","v":{"$error":"#REF!"}},null,22,{"$error":"#REF!"},null,{"$f":"IF(#REF!=R25,#REF! -#REF!-#REF!, 0)","v":{"$error":"#REF!"}},22,"Le simulateur ne prend pas en charge le TRI au-delà de 15 ans. Contactez nous si vous souhaitez un simulateur personnalisé."]
[23,{"$f":"B25","v":1.0000000000000004},null,null,null,null,null,null,null,null,23,{"$f":"L25+0.09","v":0.37000000000000011},null,null,23,{"$f":"#REF!","v":{"$error":"#REF!"}},null,23,{"$error":"#REF!"},null,{"$f":"IF(#REF!=R26,#REF! -#REF!-#REF!, 0)","v":{"$error":"#REF!"}},23,"Le simulateur ne prend pas en charge le TRI au-delà de 15 ans. Contactez nous si vous souhaitez un simulateur personnalisé."]
[24,1.0000000000000004,null,null,null,null,null,null,null,null,24,0.46000000000000008,null,null,24,{"$f":"#REF!","v":{"$error":"#REF!"}},null,24,{"$error":"#REF!"},null,{"$f":"IF(#REF!=R27,#REF! -#REF!-#REF!, 0)","v":{"$error":"#REF!"}},24,"Le simulateur ne prend pas en charge le TRI au-delà de 15 ans. Contactez nous si vous souhaitez un simulateur personnalisé."]
[25,1.0000000000000004,null,null,null,null,null,null,null,null,25,0.55000000000000004,null,null,25,{"$f":"#REF!","v":{"$error":"#REF!"}},null,25,{"$error":"#REF!"},null,{"$f":"IF(#REF!=R28,#REF! -#REF!-#REF!, 0)","v":{"$error":"#REF!"}},25,"Le simulateur ne prend pas en charge le TRI au-delà de 15 ans. Contactez nous si vous souhaitez un simulateur personnalisé."]
[26,1.0000000000000004,null,null,null,null,null,null,null,null,26,0.64,null,null,26,{"$f":"#REF!","v":{"$error":"#REF!"}},null,26,{"$error":"#REF!"},null,{"$f":"IF(#REF!=R29,#REF! -#REF!-#REF!, 0)","v":{"$error":"#REF!"}},26,"Le simulateur ne prend pas en charge le TRI au-delà de 15 ans. Contactez nous si vous souhaitez un simulateur personnalisé."]
[27,1.0000000000000004,null,null,null,null,null,null,null,null,27,0.73,null,null,27,{"$f":"#REF!","v":{"$error":"#REF!"}},null,27,{"$error":"#REF!"},null,{"$f":"IF(#REF!=R30,#REF! -#REF!-#REF!, 0)","v":{"$error":"#REF!"}},27,"Le simulateur ne prend pas en charge le TRI au-delà de 15 ans. Contactez nous si vous souhaitez un simulateur personnalisé."]
[28,1.0000000000000004,null,null,null,null,null,null,null,null,28,0.82,null,null,28,{"$f":"#REF!","v":{"$error":"#REF!"}},null,28,{"$error":"#REF!"},null,{"$f":"IF(#REF!=R31,#REF! -#REF!-#REF!, 0)","v":{"$error":"#REF!"}},28,"Le simulateur ne prend pas en charge le TRI au-delà de 15 ans. Contactez nous si vous souhaitez un simulateur personnalisé."]
[29,1.0000000000000004,null,null,null,null,null,null,null,null,29,0.90999999999999992,null,null,29,{"$f":"#REF!","v":{"$error":"#REF!"}},null,29,{"$error":"#REF!"},null,{"$f":"IF(#REF!=R32,#REF! -#REF!-#REF!, 0)","v":{"$error":"#REF!"}},29,"Le simulateur ne prend pas en charge le TRI au-delà de 15 ans. Contactez nous si vous souhaitez un simulateur personnalisé."]
[30,1.0000000000000004,null,null,null,null,null,null,null,null,30,0.99999999999999989,null,null,30,{"$f":"#REF!","v":{"$error":"#REF!"}},null,30,{"$error":"#REF!"},null,{"$f":"IF(#REF!=R33,#REF! -#REF!-#REF!, 0)","v":{"$error":"#REF!"}},30,"Le simulateur ne prend pas en charge le TRI au-delà de 15 ans. Contactez nous si vous souhaitez un simulateur personnalisé."]
[{"$f":"A33+1","v":31},1.0000000000000004,null,null,null,null,null,null,null,null,{"$f":"K33+1","v":31},{"$f":"L33","v":0.99999999999999989}]
[32,1.0000000000000004,null,null,null,null,null,null,null,null,32,0.99999999999999989]
[33,1.0000000000000004,null,null,null,null,null,null,null,null,33,0.99999999999999989]
[34,1.0000000000000004,null,null,null,null,null,null,null,null,34,0.99999999999999989]
[35,1.0000000000000004,null,null,null,null,null,null,null,null,35,0.99999999999999989]
[36,1.0000000000000004,null,null,null,null,null,null,null,null,36,0.99999999999999989]
[37,1.0000000000000004,null,null,null,null,null,null,null,null,37,0.99999999999999989]
[38,1.0000000000000004,null,null,null,null,null,null,null,null,38,0.99999999999999989]
[39,1.0000000000000004,null,null,null,null,null,null,null,null,39,0.99999999999999989]
[40,1.0000000000000004,null,null,null,null,null,null,null,null,40,0.99999999999999989]
[41,1.0000000000000004,null,null,null,null,null,null,null,null,41,0.99999999999999989]
[42,1.0000000000000004]
[43,1.0000000000000004]
[44,1.0000000000000004]

{"sheet":"ImmobilierFeuille3","index":33,"n_rows":46,"n_cols":23,"rows_kept":46,"cut":false,"hidden":true,"merged":[[2,1,2,5],[18,1,18,5],[0,0,0,9],[26,0,26,9]]}
["CELIBATAIRE DIVORCE VEUF"]
[null,null,null,null,null,null,null,"Année",1,2,3,4,5,6,7,8,9,10,11,12,13,14,15]
[null,"TMI 2017",null,null,null,null,null,"Revenu net imposable",{"$f":"#REF!","v":{"$error":"#REF!"}},{"$f":"#REF!","v":{"$error":"#REF!"}},{"$f":"#REF!","v":{"$error":"#REF!"}},{"$f":"#REF!","v":{"$error":"#REF!"}},{"$f":"#REF!","v":{"$error":"#REF!"}},{"$f":"#REF!","v":{"$error":"#REF!"}},{"$f":"#REF!","v":{"$error":"#REF!"}},{"$f":"#REF!","v":{"$error":"#REF!"}},{"$f":"#REF!","v":{"$error":"#REF!"}},{"$f":"#REF!","v":{"$error":"#REF!"}},{"$f":"#REF!","v":{"$error":"#REF!"}},{"$f":"#REF!","v":{"$error":"#REF!"}},{"$f":"#REF!","v":{"$error":"#REF!"}},{"$f":"#REF!","v":{"$error":"#REF!"}},{"$f":"#REF!","v":{"$error":"#REF!"}}]
[null,null,null,null,null,null,null,"nombre de part",null,{"$f":"#REF!","v":{"$error":"#REF!"}}]
[null,0,9964,{"$f":"0","v":0},{"$f":"0","v":0}]
[null,9964,27519,{"$f":"0.14","v":0.14000000000000001},{"$f":"(C6-B6)*D6","v":2457.7000000000003}]
[null,27519,73779,{"$f":"0.3","v":0.3},{"$f":"(C7-B7)*0.3","v":13878},{"$f":"E7+E6","v":16335.7}]
[null,73779,156244,0.41,{"$f":"(C8-B8)*D8","v":33810.65},{"$f":"SUM(E6:E8)","v":50146.350000000006}]
[null,null,null,{"$f":"0.45","v":0.45}]
[null,null,null,null,null,null,null,"Ir une part",{"$f":"IF(I3>=$C$8, (I3-$C$8)*$D$9+$E$8+$E$7+$E$6, IF(I3>=$C$7, (I3-$C$7)*$D$8+$E$7+$E$6, IF(I3>=$C$6, (I3-$C$6)*$D$7+$E$6, IF(I3>=$C$5, (I3-$C$5)*$D$6, 0))))","v":{"$error":"#REF!"}},{"$error":"#REF!"},{"$error":"#REF!"},{"$error":"#REF!"},{"$error":"#REF!"},{"$error":"#REF!"},{"$error":"#REF!"},{"$error":"#REF!"},{"$error":"#REF!"},{"$error":"#REF!"},{"$error":"#REF!"},{"$error":"#REF!"},{"$error":"#REF!"},{"$error":"#REF!"},{"$error":"#REF!"}]
[null,"Plafonnement quotient familial",null,null,null,null,null,"Ir selon parts",{"$f":"IF(I3>=$C$24, (I3-$C$24)*$D$25+$E$24+$E$23+$E$22, IF(I3>=$C$23, (I3-$C$23)*$D$24+$E$23+$E$22, IF(I3>=$C$22, (I3-$C$22)*$D$23+$E$22, IF(I3>=$C$21, (I3-$C$21)*$D$22, 0))))","v":{"$error":"#REF!"}},{"$error":"#REF!"},{"$error":"#REF!"},{"$error":"#REF!"},{"$error":"#REF!"},{"$error":"#REF!"},{"$error":"#REF!"},{"$error":"#REF!"},{"$error":"#REF!"},{"$error":"#REF!"},{"$error":"#REF!"},{"$error":"#REF!"},{"$error":"#REF!"},{"$error":"#REF!"},{"$error":"#REF!"}]
[null,null,null,null,null,null,null,"demi-parts au dessus de un",{"$f":"($J$4-1)*2","v":{"$error":"#REF!"}},{"$error":"#REF!"},{"$error":"#REF!"},{"$error":"#REF!"},{"$error":"#REF!"},{"$error":"#REF!"},{"$error":"#REF!"},{"$error":"#REF!"},{"$error":"#REF!"},{"$error":"#REF!"},{"$error":"#REF!"},{"$error":"#REF!"},{"$error":"#REF!"},{"$error":"#REF!"},{"$error":"#REF!"}]
[1551,"demi-part générale",null,null,null,null,null,"IR plafonné",{"$f":"I10-$A$13*I12","v":{"$error":"#REF!"}},{"$error":"#REF!"},{"$error":"#REF!"},{"$error":"#REF!"},{"$error":"#REF!"},{"$error":"#REF!"},{"$error":"#REF!"},{"$error":"#REF!"},{"$error":"#REF!"},{"$error":"#REF!"},{"$error":"#REF!"},{"$error":"#REF!"},{"$error":"#REF!"},{"$error":"#REF!"},{"$error":"#REF!"}]
[927,"Personnes seules élevé pendant cinq ans"]
[2109,"part entière premier enfant charge si on élève seul"]
[3098,"invalidité, combattant",null,null,null,null,null,"Impôt retenu",{"$f":"IF(I11>I13, I11, I13)","v":{"$error":"#REF!"}},{"$error":"#REF!"},{"$error":"#REF!"},{"$error":"#REF!"},{"$error":"#REF!"},{"$error":"#REF!"},{"$error":"#REF!"},{"$error":"#REF!"},{"$error":"#REF!"},{"$error":"#REF!"},{"$error":"#REF!"},{"$error":"#REF!"},{"$error":"#REF!"},{"$error":"#REF!"},{"$error":"#REF!"}]
[4702,"maintien quotient conjugal veuf",null,null,null,null,null,"Décôte",{"$f":"IF(I16<=1594, (1594*0.75-I16*0.75), 0)","v":{"$error":"#REF!"}},{"$error":"#REF!"},{"$error":"#REF!"},{"$error":"#REF!"},{"$error":"#REF!"},{"$error":"#REF!"},{"$error":"#REF!"},{"$error":"#REF!"},{"$error":"#REF!"},{"$error":"#REF!"},{"$error":"#REF!"},{"$error":"#REF!"},{"$error":"#REF!"},{"$error":"#REF!"},{"$error":"#REF!"}]
[null,null,null,null,null,null,null,"Impôt final",{"$f":"IF(I17>I16, 0, I16-I17)","v":{"$error":"#REF!"}},{"$error":"#REF!"},{"$error":"#REF!"},{"$error":"#REF!"},{"$error":"#REF!"},{"$error":"#REF!"},{"$error":"#REF!"},{"$error":"#REF!"},{"$error":"#REF!"},{"$error":"#REF!"},{"$error":"#REF!"},{"$error":"#REF!"},{"$error":"#REF!"},{"$error":"#REF!"},{"$error":"#REF!"}]
[null,"TMI 2016 avec parts"]
[]
[null,0,{"$f":"C5*$J$4","v":{"$error":"#REF!"}},{"$f":"0","v":0},{"$f":"0","v":0}]
[null,{"$f":"B6*$J$4","v":{"$error":"#REF!"}},{"$f":"C6*$J$4","v":{"$error":"#REF!"}},{"$f":"0.14","v":0.14000000000000001},{"$f":"(C22-B22)*D22","v":{"$error":"#REF!"}}]
[null,{"$f":"B7*$J$4","v":{"$error":"#REF!"}},{"$f":"C7*$J$4","v":{"$error":"#REF!"}},{"$f":"0.3","v":0.3},{"$f":"(C23-B23)*0.3","v":{"$error":"#REF!"}},{"$f":"E23+E22","v":{"$error":"#REF!"}}]
[null,{"$f":"B8*$J$4","v":{"$error":"#REF!"}},{"$f":"C8*$J$4","v":{"$error":"#REF!"}},0.41,{"$f":"(C24-B24)*D24","v":{"$error":"#REF!"}},{"$f":"SUM(E22:E24)","v":{"$error":"#REF!"}}]
[null,null,null,{"$f":"0.45","v":0.45}]
[]
["COUPLE PACS"]
[]
[null,{"$f":"B21*2","v":0},{"$f":"C5*2","v":19928},0,0,null,null,"Ir deux parts",{"$f":"IF(I3>=$C$32, (I3-$C$32)*$D$33+$E$32+$E$31+$E$30, IF(I3>=$C$31, (I3-$C$31)*$D$32+$E$31+$E$30, IF(I3>=$C$30, (I3-$C$30)*$D$31+$E$30, IF(I3>=$C$29, (I3-$C$29)*$D$30, 0))))","v":{"$error":"#REF!"}},{"$error":"#REF!"},{"$error":"#REF!"},{"$error":"#REF!"},{"$error":"#REF!"},{"$error":"#REF!"},{"$error":"#REF!"},{"$error":"#REF!"},{"$error":"#REF!"},{"$error":"#REF!"},{"$error":"#REF!"},{"$error":"#REF!"},{"$error":"#REF!"},{"$error":"#REF!"},{"$error":"#REF!"}]
[null,{"$f":"C29","v":19928},{"$f":"C6*2","v":55038},0.14000000000000001,{"$f":"(C30-B30)*D30","v":4915.4000000000005},null,null,"Ir selon parts",{"$f":"IF(I3>=$C$24, (I3-$C$24)*$D$25+$E$24+$E$23+$E$22, IF(I3>=$C$23, (I3-$C$23)*$D$24+$E$23+$E$22, IF(I3>=$C$22, (I3-$C$22)*$D$23+$E$22, IF(I3>=$C$21, (I3-$C$21)*$D$22, 0))))","v":{"$error":"#REF!"}},{"$error":"#REF!"},{"$error":"#REF!"},{"$error":"#REF!"},{"$error":"#REF!"},{"$error":"#REF!"},{"$error":"#REF!"},{"$error":"#REF!"},{"$error":"#REF!"},{"$error":"#REF!"},{"$error":"#REF!"},{"$error":"#REF!"},{"$error":"#REF!"},{"$error":"#REF!"},{"$error":"#REF!"}]
[null,{"$f":"C30","v":55038},{"$f":"C7*2","v":147558},0.3,{"$f":"(C31-B31)*D31","v":27756},{"$f":"E31+E30","v":32671.4},null,"demi-parts au dessus de deux",{"$f":"($J$4-2)*2","v":{"$error":"#REF!"}},{"$error":"#REF!"},{"$error":"#REF!"},{"$error":"#REF!"},{"$error":"#REF!"},{"$error":"#REF!"},{"$error":"#REF!"},{"$error":"#REF!"},{"$error":"#REF!"},{"$error":"#REF!"},{"$error":"#REF!"},{"$error":"#REF!"},{"$error":"#REF!"},{"$error":"#REF!"},{"$error":"#REF!"}]
[null,{"$f":"C31","v":147558},{"$f":"C8*2","v":312488},0.41,{"$f":"(C32-B32)*D32","v":67621.3},{"$f":"E32+E31+E30","v":100292.7},null,"IR plafonné",{"$f":"I29-$A$13*I31","v":{"$error":"#REF!"}},{"$error":"#REF!"},{"$error":"#REF!"},{"$error":"#REF!"},{"$error":"#REF!"},{"$error":"#REF!"},{"$error":"#REF!"},{"$error":"#REF!"},{"$error":"#REF!"},{"$error":"#REF!"},{"$error":"#REF!"},{"$error":"#REF!"},{"$error":"#REF!"},{"$error":"#REF!"},{"$error":"#REF!"}]
[null,null,null,0.45]
[null,null,null,null,null,null,null,"Impôt retenu",{"$f":"IF(I30>I32, I30, I32)","v":{"$error":"#REF!"}},{"$error":"#REF!"},{"$error":"#REF!"},{"$error":"#REF!"},{"$error":"#REF!"},{"$error":"#REF!"},{"$error":"#REF!"},{"$error":"#REF!"},{"$error":"#REF!"},{"$error":"#REF!"},{"$error":"#REF!"},{"$error":"#REF!"},{"$error":"#REF!"},{"$error":"#REF!"},{"$error":"#REF!"}]
[null,null,null,null,null,null,null,"Décôte",{"$f":"IF(I34<=2626, 2626*0.75-I34*0.75, 0)","v":{"$error":"#REF!"}},{"$error":"#REF!"},{"$error":"#REF!"},{"$error":"#REF!"},{"$error":"#REF!"},{"$error":"#REF!"},{"$error":"#REF!"},{"$error":"#REF!"},{"$error":"#REF!"},{"$error":"#REF!"},{"$error":"#REF!"},{"$error":"#REF!"},{"$error":"#REF!"},{"$error":"#REF!"},{"$error":"#REF!"}]
[null,null,null,null,null,null,null,"Impôt final",{"$f":"IF(I35>I34, 0, I34-I35)","v":{"$error":"#REF!"}},{"$error":"#REF!"},{"$error":"#REF!"},{"$error":"#REF!"},{"$error":"#REF!"},{"$error":"#REF!"},{"$error":"#REF!"},{"$error":"#REF!"},{"$error":"#REF!"},{"$error":"#REF!"},{"$error":"#REF!"},{"$error":"#REF!"},{"$error":"#REF!"},{"$error":"#REF!"},{"$error":"#REF!"}]
[]
[]
[]
[]
[]
[]
[null,null,null,null,null,null,null,null,"Non"]
[null,null,null,null,null,null,null,null,"Oui, Pinel 6 ans"]
[null,null,null,null,null,null,null,null,"Oui, Pinel 9 ans"]
[null,null,null,null,null,null,null,null,"Oui, Pinel 12 ans"]

{"sheet":"ImpotFeuille2","index":34,"n_rows":41,"n_cols":17,"rows_kept":41,"cut":false,"hidden":true,"merged":[[2,1,2,5],[22,1,22,5],[0,0,0,9],[30,0,30,9]]}
["CELIBATAIRE DIVORCE VEUF"]
[]
[null,"TMI 2019",null,null,null,null,null,"Revenu net imposable",null,{"$f":"Profil_Investisseur!B11","v":40000}]
[null,null,null,null,null,null,null,"nombre de part",null,{"$f":"#REF!","v":{"$error":"#REF!"}},null,null,0,null,"Parent isolé (T)"]
[null,0,9964,{"$f":"0","v":0},{"$f":"0","v":0},null,null,null,null,null,null,null,1,null,"Enfant élevé seul (L)"]
[null,9964,27519,{"$f":"0.14","v":0.14000000000000001},{"$f":"(C6-B6)*D6","v":2457.7000000000003},null,null,null,null,null,null,null,2,null,"Invalidité"]
[null,27519,73779,{"$f":"0.3","v":0.3},{"$f":"(C7-B7)*0.3","v":13878},{"$f":"E7+E6","v":16335.7},null,null,null,null,null,null,3]
[null,73779,156244,0.41,{"$f":"(C8-B8)*D8","v":33810.65},{"$f":"SUM(E6:E8)","v":50146.350000000006},null,null,null,null,null,null,4]
[null,null,null,{"$f":"0.45","v":0.45},null,null,null,null,null,null,null,null,5]
[null,null,null,null,null,null,null,"Ir une part",{"$f":"IF(J3>=C8, (J3-C8)*D9+E8+E7+E6, IF(J3>=C7, (J3-C7)*D8+E7+E6, IF(J3>=C6, (J3-C6)*D7+E6, IF(J3>=C5, (J3-C5)*D6, 0))))","v":6202}]
[null,"Plafonnement quotient familial",null,null,null,null,null,"Ir selon parts",{"$f":"IF(J3>=C28, (J3-C28)*D29+E28+E27+E26, IF(J3>=C27, (J3-C27)*D28+E27+E26, IF(J3>=C26, (J3-C26)*D27+E26, IF(J3>=C25, (J3-C25)*D26, 0))))","v":{"$error":"#REF!"}}]
[]
[null,null,null,null,null,null,null,"Case T",{"$f":"IF(Profil_Investisseur!#REF!=\"Parent isolé (T)\", 1,0)","v":{"$error":"#REF!"}}]
[null,null,null,null,null,null,null,"Case L",{"$f":"IF(Profil_Investisseur!#REF!=\"Enfant élevé seul (L)\", 1, 0)","v":{"$error":"#REF!"}}]
[null,null,null,null,null,null,null,"Handicap",{"$f":"IF(Profil_Investisseur!#REF!=\"Invalidité\", 1,0)","v":{"$error":"#REF!"}}]
[null,null,null,null,null,null,null,"demi-parts au dessus de un",{"$f":"IF(Profil_Investisseur!#REF!=\"\", (J4-1)*2, (J4-1)*2-1)","v":{"$error":"#REF!"}}]
[1551,"demi-part générale",null,null,null,null,null,"IR plafonné",{"$f":"I10-A17*I16-I13*A19-I14*A18-I15*A20","v":{"$error":"#REF!"}},null,null,null,null,null,"Célibataire-Divorcé-Veuf",0,1]
[927,"Personnes seules élevé pendant cinq ans",null,null,null,null,null,null,null,null,null,null,null,null,null,1,1.5]
[{"$f":"3660-1551","v":2109},"part entière premier enfant charge si on élève seul",null,null,null,null,null,null,null,null,null,null,null,null,null,2,2]
[3098,"invalidité, combattant",null,null,null,null,null,"Impôt retenu",{"$f":"IF(I11>I17, I11, I17)","v":{"$error":"#REF!"}},null,null,null,null,null,null,3,3]
[null,"maintien quotient conjugal veuf",null,null,null,null,null,"Décôte",{"$f":"IF(I20<=1594, (1594*0.75-I20*0.75), 0)","v":{"$error":"#REF!"}},null,null,null,null,null,null,4,4]
[null,null,null,null,null,null,null,"Impôt final",{"$f":"IF(I21>I20, 0, I20-I21)","v":{"$error":"#REF!"}}]
[null,"TMI 2017 avec parts",null,null,null,null,null,null,null,null,null,null,null,null,"Marié-Pacsé",0,2]
[null,null,null,null,null,null,null,null,null,null,null,null,null,null,null,1,2.5]
[null,0,{"$f":"C5*$J$4","v":{"$error":"#REF!"}},{"$f":"0","v":0},{"$f":"0","v":0},null,null,null,null,null,null,null,null,null,null,2,3]
[null,{"$f":"B6*$J$4","v":{"$error":"#REF!"}},{"$f":"C6*$J$4","v":{"$error":"#REF!"}},{"$f":"0.14","v":0.14000000000000001},{"$f":"(C26-B26)*D26","v":{"$error":"#REF!"}},null,null,null,null,null,null,null,null,null,null,3,4]
[null,{"$f":"B7*$J$4","v":{"$error":"#REF!"}},{"$f":"C7*$J$4","v":{"$error":"#REF!"}},{"$f":"0.3","v":0.3},{"$f":"(C27-B27)*0.3","v":{"$error":"#REF!"}},{"$f":"E27+E26","v":{"$error":"#REF!"}},null,null,null,null,null,null,null,null,null,4,5]
[null,{"$f":"B8*$J$4","v":{"$error":"#REF!"}},{"$f":"C8*$J$4","v":{"$error":"#REF!"}},0.41,{"$f":"(C28-B28)*D28","v":{"$error":"#REF!"}},{"$f":"SUM(E26:E28)","v":{"$error":"#REF!"}}]
[null,null,null,{"$f":"0.45","v":0.45}]
[null,null,null,null,null,null,null,null,null,null,null,null,null,null,{"$f":"IF(Profil_Investisseur!B8=\"Célibataire-Divorcé-Veuf\", VLOOKUP(Profil_Investisseur!B10, ImpotFeuille2!P17:Q21, 2, FALSE), VLOOKUP(Profil_Investisseur!B10, ImpotFeuille2!P23:Q27, 2, FALSE))","v":1}]
["COUPLE PACS"]
[]
[null,{"$f":"B5*2","v":0},{"$f":"C5*2","v":19928},0,0,null,null,"Ir deux parts",{"$f":"IF(J3>=C37, (J3-C37)*D38+E37+E36+E34, IF(J3>=C36, (J3-C36)*D37+E36+E34, IF(J3>=C34, (J3-C34)*D36+E34, IF(J3>=C33, (J3-C33)*D34, 0))))","v":2810.0800000000004}]
[null,{"$f":"B6*2","v":19928},55038,0.14000000000000001,{"$f":"(C34-B34)*D34","v":4915.4000000000005},null,null,"Ir selon parts",{"$f":"IF(J3>=C28, (J3-C28)*D29+E28+E27+E26, IF(J3>=C27, (J3-C27)*D28+E27+E26, IF(J3>=C26, (J3-C26)*D27+E26, IF(J3>=C25, (J3-C25)*D26, 0))))","v":{"$error":"#REF!"}}]
[null,null,null,null,null,null,null,"Handicap",{"$f":"IF(Profil_Investisseur!#REF!=\"Invalidité\", 1,0)","v":{"$error":"#REF!"}}]
[null,{"$f":"B7*2","v":55038},{"$f":"C7*2","v":147558},0.3,{"$f":"(C36-B36)*D36","v":27756},{"$f":"E34+E36","v":32671.4},null,"demi-parts au dessus de deux",{"$f":"IF(Profil_Investisseur!#REF!=\"\", (J4-2)*2, (J4-2)*2-1)","v":{"$error":"#REF!"}}]
[null,{"$f":"B8*2","v":147558},{"$f":"C8*2","v":312488},0.41,{"$f":"(C37-B37)*D37","v":67621.3},{"$f":"E34+E36+E37","v":100292.70000000001},null,"IR plafonné",{"$f":"I33-A17*I36-I35*A20","v":{"$error":"#REF!"}}]
[null,null,null,0.45]
[null,null,null,null,null,null,null,"Impôt retenu",{"$f":"IF(I34>I37, I34, I37)","v":{"$error":"#REF!"}}]
[null,null,null,null,null,null,null,"Décôte",{"$f":"IF(I39<=2626, 2626*0.75-I39*0.75, 0)","v":{"$error":"#REF!"}}]
[null,null,null,null,null,null,null,"Impôt final",{"$f":"IF(I40>I39, 0, I39-I40)","v":{"$error":"#REF!"}}]

{"sheet":"ListeFeuil1","index":35,"n_rows":13,"n_cols":11,"rows_kept":13,"cut":false,"hidden":true,"merged":[]}
["Liste1","Liste2","Liste3","Liste4","Liste5","Liste6","Liste7","Liste8","Liste9","Liste10","Liste11"]
["a","a","a","Oui","Standard","Marié-Pacsé","Salaire","Actions","Courant","Véhicule","Dettes fiscales"]
["b","b","b","Non","Économe","Célibataire-Divorcé-Veuf","Primes d'intéressement et de participation","Obligation","Épargne","Lingots","Prêt étudiant"]
["c","c","c",null,"Dépensier","-","Autres revenus","OPC",null,"Collection","Autres dettes"]
[null,"d","d"]
[null,null,"e"]
[]
["Liste12","Liste13","Liste14","Liste15","Liste16","Liste17","Liste18","Liste19"]
["Principale",-0.1,"1 an","Loisirs","Peu risqué",0,"Dons","Econome"]
["Secondaire",-0.3,"2 ans ","Vêtements","Risqué",1,"Aides","Standard"]
[null,-0.5,"Plus de 5 ans","Transports","Très risqué",2,"Pensions","Depensier"]
[null,null,null,"Pension alimentaire",null,3,"Bourses"]
[null,null,null,null,null,4]